PDS_VERSION_ID = PDS3
/* FILE DATA ELEMENTS */
RECORD_TYPE = STREAM
/* POINTERS TO DATA OBJECTS */
^COMPRESSED_FILE = "HA333_0000_RE3.JP2"
/* IDENTIFICATION DATA ELEMENTS */
DATA_SET_ID = "MEX-M-HRSC-5-REFDR-MAPPROJECTED-V3.0"
DATA_SET_NAME = "MARS EXPRESS HRSC MAP PROJECTED REFDR V3.0"
DETECTOR_ID = MEX_HRSC_RED
EVENT_TYPE = "MARS-REGIONAL-MAPPING-Pf"
INSTRUMENT_HOST_ID = MEX
INSTRUMENT_HOST_NAME = "MARS EXPRESS"
INSTRUMENT_ID = HRSC
INSTRUMENT_NAME = "HIGH RESOLUTION STEREO CAMERA"
MISSION_NAME = "MARS EXPRESS"
MISSION_PHASE_NAME = ME_Phase_24
PROCESSING_LEVEL_ID = 3
PRODUCT_CREATION_TIME = 2016-10-27T09:57:31.000Z
PRODUCT_ID = "HA333_0000_RE3.JP2"
RELEASE_ID = 0106
REVISION_ID = 0000
/* QUALITY DATA ELEMENTS */
DATA_QUALITY_ID = 1
DATA_QUALITY_DESC = "Data calculated based on original SPICE kernels"
/* TIME DATA ELEMENTS */
SPACECRAFT_CLOCK_START_COUNT = "1/0276877998.09052"
SPACECRAFT_CLOCK_STOP_COUNT = "1/0276878400.56687"
START_TIME = 2012-02-09T14:33:30.600Z
STOP_TIME = 2012-02-09T14:36:56.905Z
/* ORBITAL DATA ELEMENTS */
ASCENDING_NODE_LONGITUDE = 20.04
MAXIMUM_RESOLUTION = 94.3
FOOTPRINT_POINT_LATITUDE = (28.2117,28.2116,28.2109,28.2101,28.209 ,28.2076,28.4735,28.9074,29.3474, 29.6779,29.9021,30.1259,30.463,30.6903, 30.9175,31.1474,31.3779,31.7254,31.9596 ,32.1932,32.5481,32.7852,33.145,33.3853 ,33.7495,33.9928,34.3632,34.6099,34.86, 35.11,35.4895,35.7425,35.9989,36.2552, 36.5143,36.7739,37.0359,37.2985,37.5636 ,37.8298,38.0982,38.3669,38.6388,39.049 ,39.3238,39.6012,39.8794,40.1604, 40.4423,40.7374,40.737,40.7356,40.7349, 40.7319,40.7286,40.7242,40.7205,40.572, 40.2896,40.009,39.5914,39.3146,39.0402, 38.6316,38.3605,38.0923,37.8245,37.5591 ,37.2949,37.0323,36.7707,36.5123, 36.2538,35.998,35.6153,35.3625,35.1108, 34.8613,34.6115,34.3653,33.9958,33.7527 ,33.5093,33.2689,33.0291,32.7898, 32.5532,32.1989,31.9655,31.7318,31.3848 ,31.1546,30.9248,30.6979,30.3574, 29.7985,29.3565,28.9166,28.3746, 28.2117)
FOOTPRINT_POINT_LONGITUDE = (123.682,123.353,122.922,122.532, 122.203,121.874,121.758,121.741,121.724 ,121.711,121.702,121.693,121.68,121.67, 121.661,121.651,121.642,121.627,121.617 ,121.607,121.592,121.582,121.566, 121.556,121.54,121.529,121.512,121.5, 121.489,121.477,121.459,121.448,121.435 ,121.423,121.411,121.398,121.385, 121.372,121.359,121.345,121.332,121.318 ,121.304,121.282,121.268,121.253, 121.238,121.223,121.208,121.619,122.048 ,122.344,122.706,123.233,123.629, 124.024,124.354,124.716,124.693,124.67, 124.636,124.615,124.594,124.563,124.543 ,124.524,124.505,124.486,124.468,124.45 ,124.433,124.416,124.4,124.384,124.36, 124.345,124.33,124.316,124.302,124.288, 124.267,124.254,124.241,124.229,124.217 ,124.205,124.193,124.176,124.164, 124.153,124.138,124.127,124.117,124.107 ,124.092,124.069,124.052,124.034, 124.014,123.682)
ORBIT_NUMBER = 10333
ORBITAL_ECCENTRICITY = 0.578
ORBITAL_INCLINATION = 86.87
ORBITAL_SEMIMAJOR_AXIS = 8861.08
PERIAPSIS_ALTITUDE = 343.27
PERIAPSIS_ARGUMENT_ANGLE = 354.21
PERIAPSIS_TIME = 2012-02-09T14:25:12.000Z
SPACECRAFT_ORIENTATION = (0.0,1.0,0.0)
^MEX_ORIENTATION_DESC = "MEX_ORIENTATION_DESC.TXT"
SPACECRAFT_POINTING_MODE = NADIR
^MEX_POINTING_DESC = "MEX_POINTING_DESC.TXT"
RIGHT_ASCENSION = -1e+32
DECLINATION = -1e+32
OFFSET_ANGLE = -1e+32
SPACECRAFT_SOLAR_DISTANCE = 2.49198e+08
TARGET_NAME = MARS
/* CAMERA DATA ELEMENTS */
DETECTOR_TEMPERATURE = 19.7978
FOCAL_PLANE_TEMPERATURE = 9.195
INST_CMPRS_NAME = "DISCRETE COSINE TRANSFORMATION (DCT)"
INST_CMPRS_RATIO = 14.0976
INST_CMPRS_QUALITY = 0
INST_CMPRS_QUANTZ_TBL_ID = 0
INSTRUMENT_TEMPERATURE = 12.8652
LENS_TEMPERATURE = 9.8067
MACROPIXEL_SIZE = 4
MISSING_FRAMES = 0
PIXEL_SUBSAMPLING_FLAG = N
SIGNAL_CHAIN_ID = 2
/* RADIOMETRIC DATA ELEMENTS */
BANDWIDTH = 48.0
CENTER_FILTER_WAVELENGTH = 748.0
RADIANCE_OFFSET = 0.346125
RADIANCE_SCALING_FACTOR = 0.00276794
REFLECTANCE_SCALING_FACTOR = 0.000392259
MEX:REFLECTANCE_OFFSET = 0.0490512
/* IMAGE OBJECT DEFINITIONS */
OBJECT = IMAGE
  INTERCHANGE_FORMAT = BINARY
  LINES = 7397
  LINE_SAMPLES = 1754
  SAMPLE_TYPE = UNSIGNED_INTEGER
  SAMPLE_BITS = 8
  BANDS = 1
  BAND_STORAGE_TYPE = BAND_SEQUENTIAL
  MAXIMUM = 255
  MEAN = 91.2116
  MINIMUM = 1
  STANDARD_DEVIATION = 26.4891
END_OBJECT = IMAGE
/* MAP OBJECT DEFINITIONS */
OBJECT = IMAGE_MAP_PROJECTION
  ^DATA_SET_MAP_PROJECTION_CATALOG= "DSMAP.CAT"
  A_AXIS_RADIUS = 3396.0
  B_AXIS_RADIUS = 3396.0
  C_AXIS_RADIUS = 3396.0
  CENTER_LATITUDE = 0.0
  CENTER_LONGITUDE = 123.0
  COORDINATE_SYSTEM_NAME = PLANETOGRAPHIC
  COORDINATE_SYSTEM_TYPE = "BODY-FIXED ROTATING"
  EASTERNMOST_LONGITUDE = 124.716
  FIRST_STANDARD_PARALLEL = "N/A"
  LINE_FIRST_PIXEL = 1
  LINE_LAST_PIXEL = 7397
  LINE_PROJECTION_OFFSET = 24127.125
  MAP_PROJECTION_ROTATION = 0.0
  MAP_PROJECTION_TYPE = SINUSOIDAL
  MAP_RESOLUTION = 592.713803866667
  MAP_SCALE = 0.1
  MAXIMUM_LATITUDE = 40.7374
  MINIMUM_LATITUDE = 28.2076
  POSITIVE_LONGITUDE_DIRECTION = EAST
  REFERENCE_LATITUDE = "N/A"
  REFERENCE_LONGITUDE = "N/A"
  SAMPLE_FIRST_PIXEL = 1
  SAMPLE_LAST_PIXEL = 1754
  SAMPLE_PROJECTION_OFFSET = 890.625
  SECOND_STANDARD_PARALLEL = "N/A"
  WESTERNMOST_LONGITUDE = 121.208
END_OBJECT = IMAGE_MAP_PROJECTION
/* The JPEG2000 image data file associated with this label. */
OBJECT = COMPRESSED_FILE
  FILE_NAME = "HA333_0000_RE3.JP2"
  RECORD_TYPE = UNDEFINED
  FILE_RECORDS = UNK
  ENCODING_TYPE = "JP2"
  INTERCHANGE_FORMAT = BINARY
  UNCOMPRESSED_FILE_NAME = "HA333_0000_RE3.IMG"
  REQUIRED_STORAGE_BYTES = "12993632"
  ^DESCRIPTION = "JP2INFO.TXT"
END_OBJECT = COMPRESSED_FILE
END
