PDS_VERSION_ID = PDS3
/* FILE DATA ELEMENTS */
RECORD_TYPE = STREAM
/* POINTERS TO DATA OBJECTS */
^COMPRESSED_FILE = "HA350_0000_ND3.JP2"
/* IDENTIFICATION DATA ELEMENTS */
DATA_SET_ID = "MEX-M-HRSC-5-REFDR-MAPPROJECTED-V3.0"
DATA_SET_NAME = "MARS EXPRESS HRSC MAP PROJECTED REFDR V3.0"
DETECTOR_ID = MEX_HRSC_NADIR
EVENT_TYPE = "MARS-REGIONAL-MAPPING-Vo-Te"
INSTRUMENT_HOST_ID = MEX
INSTRUMENT_HOST_NAME = "MARS EXPRESS"
INSTRUMENT_ID = HRSC
INSTRUMENT_NAME = "HIGH RESOLUTION STEREO CAMERA"
MISSION_NAME = "MARS EXPRESS"
MISSION_PHASE_NAME = ME_Phase_24
PROCESSING_LEVEL_ID = 3
PRODUCT_CREATION_TIME = 2016-10-27T09:57:31.000Z
PRODUCT_ID = "HA350_0000_ND3.JP2"
RELEASE_ID = 0106
REVISION_ID = 0000
/* QUALITY DATA ELEMENTS */
DATA_QUALITY_ID = 1
DATA_QUALITY_DESC = "Data calculated based on original SPICE kernels"
/* TIME DATA ELEMENTS */
SPACECRAFT_CLOCK_START_COUNT = "1/0277305894.09038"
SPACECRAFT_CLOCK_STOP_COUNT = "1/0277306217.04622"
START_TIME = 2012-02-14T13:25:37.762Z
STOP_TIME = 2012-02-14T13:29:08.756Z
/* ORBITAL DATA ELEMENTS */
ASCENDING_NODE_LONGITUDE = 19.72
MAXIMUM_RESOLUTION = 17.9
FOOTPRINT_POINT_LATITUDE = (13.2141,13.212,13.2096,13.2071,13.2042 ,13.2011,13.5302,13.8679,14.0937, 14.5446,14.7741,15.0043,15.2342,15.4637 ,15.6968,15.9311,16.1651,16.3989, 16.7562,16.9944,17.2323,17.595,17.8373, 18.0793,18.3251,18.5716,18.8178,19.192, 19.4424,19.6925,19.9471,20.3286,20.5853 ,20.8439,21.102,21.4948,21.757,22.0217, 22.2881,22.6893,22.9595,23.2293,23.5035 ,23.7772,24.1927,24.47,24.7514,25.0326, 25.3174,25.6024,25.757,25.7617,25.7655, 25.7685,25.7709,25.6285,25.3435,25.0587 ,24.7774,24.4959,24.2185,23.8029, 23.5292,23.2549,22.9849,22.7147,22.3133 ,22.0469,21.782,21.5198,21.1268,20.8686 ,20.6099,20.353,20.0987,19.844,19.4665, 19.2159,18.8415,18.5952,18.3486,18.1027 ,17.8606,17.6181,17.2553,17.0172, 16.7789,16.4213,16.1875,15.9534,15.7189 ,15.4857,15.256,15.0261,14.7958,14.5661 ,14.115,13.889,13.5511,13.2141)
FOOTPRINT_POINT_LONGITUDE = (183.754,183.505,183.253,182.999, 182.744,182.485,182.219,182.207,182.2, 182.185,182.178,182.171,182.162,182.154 ,182.145,182.136,182.128,182.119, 182.105,182.097,182.087,182.073,182.064 ,182.054,182.045,182.035,182.026,182.01 ,181.999,181.989,181.978,181.962, 181.951,181.94,181.928,181.911,181.899, 181.887,181.874,181.856,181.843,181.83, 181.817,181.804,181.783,181.769,181.755 ,181.741,181.726,181.711,182.109, 182.464,182.817,183.167,183.585,184.076 ,184.068,184.06,184.053,184.046,184.038 ,184.028,184.022,184.015,184.009, 184.003,183.994,183.988,183.983,183.978 ,183.97,183.965,183.96,183.955,183.951, 183.946,183.94,183.936,183.93,183.926, 183.922,183.919,183.915,183.912,183.907 ,183.904,183.9,183.896,183.893,183.89, 183.888,183.885,183.882,183.88,183.878, 183.875,183.871,183.869,183.866, 183.754)
ORBIT_NUMBER = 10350
ORBITAL_ECCENTRICITY = 0.578
ORBITAL_INCLINATION = 86.88
ORBITAL_SEMIMAJOR_AXIS = 8852.15
PERIAPSIS_ALTITUDE = 342.17
PERIAPSIS_ARGUMENT_ANGLE = 351.27
PERIAPSIS_TIME = 2012-02-14T13:19:55.000Z
SPACECRAFT_ORIENTATION = (0.0,1.0,0.0)
^MEX_ORIENTATION_DESC = "MEX_ORIENTATION_DESC.TXT"
SPACECRAFT_POINTING_MODE = ACROSSTRACK
^MEX_POINTING_DESC = "MEX_POINTING_DESC.TXT"
RIGHT_ASCENSION = -1e+32
DECLINATION = -1e+32
OFFSET_ANGLE = 0.8
SPACECRAFT_SOLAR_DISTANCE = 2.49226e+08
TARGET_NAME = MARS
/* CAMERA DATA ELEMENTS */
DETECTOR_TEMPERATURE = 18.5744
FOCAL_PLANE_TEMPERATURE = 9.3989
INST_CMPRS_NAME = "DISCRETE COSINE TRANSFORMATION (DCT)"
INST_CMPRS_RATIO = 6.49654
INST_CMPRS_QUALITY = 0
INST_CMPRS_QUANTZ_TBL_ID = 0
INSTRUMENT_TEMPERATURE = 12.6613
LENS_TEMPERATURE = 9.6028
MACROPIXEL_SIZE = 1
MISSING_FRAMES = 0
PIXEL_SUBSAMPLING_FLAG = N
SIGNAL_CHAIN_ID = 0
/* RADIOMETRIC DATA ELEMENTS */
BANDWIDTH = 177.0
CENTER_FILTER_WAVELENGTH = 677.5
RADIANCE_OFFSET = 0.941532
RADIANCE_SCALING_FACTOR = 0.00935951
REFLECTANCE_SCALING_FACTOR = 0.000308835
MEX:REFLECTANCE_OFFSET = 0.0310676
/* IMAGE OBJECT DEFINITIONS */
OBJECT = IMAGE
  INTERCHANGE_FORMAT = BINARY
  LINES = 59619
  LINE_SAMPLES = 10350
  SAMPLE_TYPE = UNSIGNED_INTEGER
  SAMPLE_BITS = 8
  BANDS = 1
  BAND_STORAGE_TYPE = BAND_SEQUENTIAL
  MAXIMUM = 255
  MEAN = 77.6867
  MINIMUM = 1
  STANDARD_DEVIATION = 28.0349
END_OBJECT = IMAGE
/* MAP OBJECT DEFINITIONS */
OBJECT = IMAGE_MAP_PROJECTION
  ^DATA_SET_MAP_PROJECTION_CATALOG= "DSMAP.CAT"
  A_AXIS_RADIUS = 3396.0
  B_AXIS_RADIUS = 3396.0
  C_AXIS_RADIUS = 3396.0
  CENTER_LATITUDE = 0.0
  CENTER_LONGITUDE = 183.0
  COORDINATE_SYSTEM_NAME = PLANETOGRAPHIC
  COORDINATE_SYSTEM_TYPE = "BODY-FIXED ROTATING"
  EASTERNMOST_LONGITUDE = 184.076
  FIRST_STANDARD_PARALLEL = "N/A"
  LINE_FIRST_PIXEL = 1
  LINE_LAST_PIXEL = 59619
  LINE_PROJECTION_OFFSET = 122198.0
  MAP_PROJECTION_ROTATION = 0.0
  MAP_PROJECTION_TYPE = SINUSOIDAL
  MAP_RESOLUTION = 4741.71043093333
  MAP_SCALE = 0.0125
  MAXIMUM_LATITUDE = 25.7709
  MINIMUM_LATITUDE = 13.2011
  POSITIVE_LONGITUDE_DIRECTION = EAST
  REFERENCE_LATITUDE = "N/A"
  REFERENCE_LONGITUDE = "N/A"
  SAMPLE_FIRST_PIXEL = 1
  SAMPLE_LAST_PIXEL = 10350
  SAMPLE_PROJECTION_OFFSET = 5725.0
  SECOND_STANDARD_PARALLEL = "N/A"
  WESTERNMOST_LONGITUDE = 181.711
END_OBJECT = IMAGE_MAP_PROJECTION
/* The JPEG2000 image data file associated with this label. */
OBJECT = COMPRESSED_FILE
  FILE_NAME = "HA350_0000_ND3.JP2"
  RECORD_TYPE = UNDEFINED
  FILE_RECORDS = UNK
  ENCODING_TYPE = "JP2"
  INTERCHANGE_FORMAT = BINARY
  UNCOMPRESSED_FILE_NAME = "HA350_0000_ND3.IMG"
  REQUIRED_STORAGE_BYTES = "617087700"
  ^DESCRIPTION = "JP2INFO.TXT"
END_OBJECT = COMPRESSED_FILE
END
