PDS_VERSION_ID = PDS3
/* FILE DATA ELEMENTS */
RECORD_TYPE = STREAM
/* POINTERS TO DATA OBJECTS */
^COMPRESSED_FILE = "HA357_0000_P23.JP2"
/* IDENTIFICATION DATA ELEMENTS */
DATA_SET_ID = "MEX-M-HRSC-5-REFDR-MAPPROJECTED-V3.0"
DATA_SET_NAME = "MARS EXPRESS HRSC MAP PROJECTED REFDR V3.0"
DETECTOR_ID = MEX_HRSC_P2
EVENT_TYPE = "MARS-REGIONAL-MAPPING-Vo-Te"
INSTRUMENT_HOST_ID = MEX
INSTRUMENT_HOST_NAME = "MARS EXPRESS"
INSTRUMENT_ID = HRSC
INSTRUMENT_NAME = "HIGH RESOLUTION STEREO CAMERA"
MISSION_NAME = "MARS EXPRESS"
MISSION_PHASE_NAME = ME_Phase_24
PROCESSING_LEVEL_ID = 3
PRODUCT_CREATION_TIME = 2016-10-27T09:57:31.000Z
PRODUCT_ID = "HA357_0000_P23.JP2"
RELEASE_ID = 0106
REVISION_ID = 0000
/* QUALITY DATA ELEMENTS */
DATA_QUALITY_ID = 1
DATA_QUALITY_DESC = "Data calculated based on original SPICE kernels"
/* TIME DATA ELEMENTS */
SPACECRAFT_CLOCK_START_COUNT = "1/0277482249.07299"
SPACECRAFT_CLOCK_STOP_COUNT = "1/0277482539.55868"
START_TIME = 2012-02-16T14:24:27.493Z
STOP_TIME = 2012-02-16T14:27:05.093Z
/* ORBITAL DATA ELEMENTS */
ASCENDING_NODE_LONGITUDE = 19.59
MAXIMUM_RESOLUTION = 79.6
FOOTPRINT_POINT_LATITUDE = (17.1553,17.155,17.1547,17.1544,17.1541 ,17.1537,17.2673,17.6163,17.9706, 18.3237,18.6839,18.8642,19.2246,19.4999 ,19.6835,19.867,20.0504,20.2371,20.424, 20.6105,20.7965,20.9868,21.2706,21.4602 ,21.7487,21.9421,22.1354,22.3285, 22.6225,22.819,23.015,23.2131,23.4129, 23.6124,23.9129,24.1156,24.3189,24.5214 ,24.7275,24.9335,25.1393,25.3475, 25.6589,25.975,26.1875,26.3981,26.6137, 26.937,26.9513,26.9522,26.953,26.953, 26.9527,26.9519,26.9497,26.7347,26.4131 ,26.2013,25.9892,25.7785,25.5697, 25.3608,25.1524,24.9468,24.7409,24.4334 ,24.2301,24.0276,23.8249,23.625,23.4257 ,23.2261,22.9302,22.7338,22.5372, 22.3414,22.1483,21.955,21.7616,21.5695, 21.3796,21.1897,20.9995,20.8105,20.6238 ,20.4367,20.2497,20.0629,19.7878, 19.6042,19.4206,19.237,18.8768,18.6965, 18.5158,18.2477,17.9808,17.5382,17.1904 ,17.1553)
FOOTPRINT_POINT_LONGITUDE = (188.147,187.887,187.628,187.367, 187.106,186.845,186.592,186.58,186.567, 186.555,186.542,186.536,186.523,186.513 ,186.506,186.499,186.492,186.485, 186.478,186.471,186.464,186.456,186.446 ,186.439,186.427,186.419,186.411, 186.404,186.392,186.384,186.376,186.367 ,186.359,186.351,186.338,186.33,186.321 ,186.312,186.303,186.294,186.285, 186.276,186.263,186.248,186.238,186.229 ,186.218,186.203,186.515,186.829, 187.275,187.632,187.987,188.365,188.594 ,188.587,188.577,188.57,188.563,188.557 ,188.55,188.544,188.538,188.532,188.526 ,188.518,188.512,188.506,188.501, 188.496,188.491,188.485,188.478,188.473 ,188.469,188.464,188.459,188.455, 188.451,188.446,188.442,188.438,188.434 ,188.43,188.426,188.422,188.419,188.415 ,188.41,188.406,188.403,188.399,188.393 ,188.39,188.387,188.382,188.377,188.37, 188.365,188.147)
ORBIT_NUMBER = 10357
ORBITAL_ECCENTRICITY = 0.578
ORBITAL_INCLINATION = 86.88
ORBITAL_SEMIMAJOR_AXIS = 8851.93
PERIAPSIS_ALTITUDE = 341.55
PERIAPSIS_ARGUMENT_ANGLE = 350.06
PERIAPSIS_TIME = 2012-02-16T14:17:51.000Z
SPACECRAFT_ORIENTATION = (0.0,1.0,0.0)
^MEX_ORIENTATION_DESC = "MEX_ORIENTATION_DESC.TXT"
SPACECRAFT_POINTING_MODE = ACROSSTRACK
^MEX_POINTING_DESC = "MEX_POINTING_DESC.TXT"
RIGHT_ASCENSION = -1e+32
DECLINATION = -1e+32
OFFSET_ANGLE = 0.25
SPACECRAFT_SOLAR_DISTANCE = 2.49227e+08
TARGET_NAME = MARS
/* CAMERA DATA ELEMENTS */
DETECTOR_TEMPERATURE = 19.5939
FOCAL_PLANE_TEMPERATURE = 9.8067
INST_CMPRS_NAME = "DISCRETE COSINE TRANSFORMATION (DCT)"
INST_CMPRS_RATIO = 15.4698
INST_CMPRS_QUALITY = 0
INST_CMPRS_QUANTZ_TBL_ID = 0
INSTRUMENT_TEMPERATURE = 12.8652
LENS_TEMPERATURE = 10.0106
MACROPIXEL_SIZE = 4
MISSING_FRAMES = 0
PIXEL_SUBSAMPLING_FLAG = N
SIGNAL_CHAIN_ID = 3
/* RADIOMETRIC DATA ELEMENTS */
BANDWIDTH = 177.0
CENTER_FILTER_WAVELENGTH = 676.5
RADIANCE_OFFSET = 1.39967
RADIANCE_SCALING_FACTOR = 0.00895561
REFLECTANCE_SCALING_FACTOR = 0.000294946
MEX:REFLECTANCE_OFFSET = 0.0460973
/* IMAGE OBJECT DEFINITIONS */
OBJECT = IMAGE
  INTERCHANGE_FORMAT = BINARY
  LINES = 5793
  LINE_SAMPLES = 1355
  SAMPLE_TYPE = UNSIGNED_INTEGER
  SAMPLE_BITS = 8
  BANDS = 1
  BAND_STORAGE_TYPE = BAND_SEQUENTIAL
  MAXIMUM = 255
  MEAN = 67.9592
  MINIMUM = 1
  STANDARD_DEVIATION = 24.2073
END_OBJECT = IMAGE
/* MAP OBJECT DEFINITIONS */
OBJECT = IMAGE_MAP_PROJECTION
  ^DATA_SET_MAP_PROJECTION_CATALOG= "DSMAP.CAT"
  A_AXIS_RADIUS = 3396.0
  B_AXIS_RADIUS = 3396.0
  C_AXIS_RADIUS = 3396.0
  CENTER_LATITUDE = 0.0
  CENTER_LONGITUDE = 187.0
  COORDINATE_SYSTEM_NAME = PLANETOGRAPHIC
  COORDINATE_SYSTEM_TYPE = "BODY-FIXED ROTATING"
  EASTERNMOST_LONGITUDE = 188.594
  FIRST_STANDARD_PARALLEL = "N/A"
  LINE_FIRST_PIXEL = 1
  LINE_LAST_PIXEL = 5793
  LINE_PROJECTION_OFFSET = 15952.375
  MAP_PROJECTION_ROTATION = 0.0
  MAP_PROJECTION_TYPE = SINUSOIDAL
  MAP_RESOLUTION = 592.713803866667
  MAP_SCALE = 0.1
  MAXIMUM_LATITUDE = 26.953
  MINIMUM_LATITUDE = 17.1537
  POSITIVE_LONGITUDE_DIRECTION = EAST
  REFERENCE_LATITUDE = "N/A"
  REFERENCE_LONGITUDE = "N/A"
  SAMPLE_FIRST_PIXEL = 1
  SAMPLE_LAST_PIXEL = 1355
  SAMPLE_PROJECTION_OFFSET = 466.125
  SECOND_STANDARD_PARALLEL = "N/A"
  WESTERNMOST_LONGITUDE = 186.203
END_OBJECT = IMAGE_MAP_PROJECTION
/* The JPEG2000 image data file associated with this label. */
OBJECT = COMPRESSED_FILE
  FILE_NAME = "HA357_0000_P23.JP2"
  RECORD_TYPE = UNDEFINED
  FILE_RECORDS = UNK
  ENCODING_TYPE = "JP2"
  INTERCHANGE_FORMAT = BINARY
  UNCOMPRESSED_FILE_NAME = "HA357_0000_P23.IMG"
  REQUIRED_STORAGE_BYTES = "7868485"
  ^DESCRIPTION = "JP2INFO.TXT"
END_OBJECT = COMPRESSED_FILE
END
