PDS_VERSION_ID = PDS3
/* FILE DATA ELEMENTS */
RECORD_TYPE = STREAM
/* POINTERS TO DATA OBJECTS */
^COMPRESSED_FILE = "HA362_0000_P13.JP2"
/* IDENTIFICATION DATA ELEMENTS */
DATA_SET_ID = "MEX-M-HRSC-5-REFDR-MAPPROJECTED-V3.0"
DATA_SET_NAME = "MARS EXPRESS HRSC MAP PROJECTED REFDR V3.0"
DETECTOR_ID = MEX_HRSC_P1
EVENT_TYPE = "MARS-REGIONAL-MAPPING-Im-Eo-La"
INSTRUMENT_HOST_ID = MEX
INSTRUMENT_HOST_NAME = "MARS EXPRESS"
INSTRUMENT_ID = HRSC
INSTRUMENT_NAME = "HIGH RESOLUTION STEREO CAMERA"
MISSION_NAME = "MARS EXPRESS"
MISSION_PHASE_NAME = ME_Phase_24
PROCESSING_LEVEL_ID = 3
PRODUCT_CREATION_TIME = 2016-10-27T09:57:31.000Z
PRODUCT_ID = "HA362_0000_P13.JP2"
RELEASE_ID = 0106
REVISION_ID = 0000
/* QUALITY DATA ELEMENTS */
DATA_QUALITY_ID = 1
DATA_QUALITY_DESC = "Data calculated based on original SPICE kernels"
/* TIME DATA ELEMENTS */
SPACECRAFT_CLOCK_START_COUNT = "1/0277608257.07308"
SPACECRAFT_CLOCK_STOP_COUNT = "1/0277608642.52656"
START_TIME = 2012-02-18T01:25:54.928Z
STOP_TIME = 2012-02-18T01:30:02.834Z
/* ORBITAL DATA ELEMENTS */
ASCENDING_NODE_LONGITUDE = 19.5
MAXIMUM_RESOLUTION = 50.4
FOOTPRINT_POINT_LATITUDE = (22.2154,22.2164,22.2157,22.2138, 22.2106,22.2077,22.298,22.731,23.0542, 23.4944,23.8258,24.271,24.5011,24.7272, 24.955,25.1844,25.4146,25.6417,25.8725, 26.2245,26.4601,26.6952,27.0452,27.2833 ,27.5225,27.765,28.1299,28.4961,28.7421 ,28.9898,29.2381,29.487,29.7403,29.9919 ,30.2464,30.5015,30.7576,31.1454, 31.5364,31.7976,32.061,32.3264,32.5935, 32.8622,33.1316,33.4027,33.6754,33.9491 ,34.2244,34.4397,34.4419,34.4425, 34.4426,34.4454,34.4443,34.4382,34.4288 ,34.4202,34.0068,33.5933,33.321,32.9183 ,32.5201,32.2544,31.9907,31.728,31.4657 ,31.2078,30.9495,30.6925,30.4378, 30.1832,29.93,29.6789,29.4288,29.1786, 28.9315,28.6846,28.4399,28.1961,27.9533 ,27.7118,27.3515,27.1117,26.8752, 26.6391,26.4046,26.0502,25.8195,25.4777 ,25.2483,25.0208,24.7936,24.5685, 24.1149,23.7816,23.3415,23.0156,22.4737 ,22.2154)
FOOTPRINT_POINT_LONGITUDE = (37.0772,36.7201,36.2292,35.8947,35.538 ,35.2922,35.0275,35.0071,34.9893, 34.9685,34.9519,34.9287,34.9168,34.9053 ,34.8939,34.8825,34.8709,34.8569, 34.8443,34.8269,34.8143,34.8015,34.7785 ,34.7647,34.7509,34.7375,34.7168,34.695 ,34.6802,34.6652,34.6501,34.6339, 34.6193,34.6031,34.5869,34.5702,34.5534 ,34.5279,34.5018,34.4834,34.4649, 34.4465,34.4281,34.4094,34.3896,34.3698 ,34.3498,34.3293,34.3084,34.4357, 34.8676,35.228,35.6965,36.2375,36.7777, 37.1383,37.6788,38.0166,37.9842,37.9546 ,37.935,37.9044,37.8741,37.8558,37.8376 ,37.82,37.8031,37.7855,37.7691,37.7527, 37.7365,37.7214,37.7062,37.6913,37.677, 37.6633,37.6495,37.6362,37.6226,37.6101 ,37.5971,37.5851,37.5675,37.5563, 37.5449,37.5335,37.5227,37.509,37.4977, 37.4808,37.4709,37.4612,37.4516,37.4423 ,37.424,37.4107,37.3934,37.3805,37.361, 37.0772)
ORBIT_NUMBER = 10362
ORBITAL_ECCENTRICITY = 0.578
ORBITAL_INCLINATION = 86.87
ORBITAL_SEMIMAJOR_AXIS = 8860.15
PERIAPSIS_ALTITUDE = 340.98
PERIAPSIS_ARGUMENT_ANGLE = 349.22
PERIAPSIS_TIME = 2012-02-18T01:16:28.000Z
SPACECRAFT_ORIENTATION = (0.0,1.0,0.0)
^MEX_ORIENTATION_DESC = "MEX_ORIENTATION_DESC.TXT"
SPACECRAFT_POINTING_MODE = NADIR
^MEX_POINTING_DESC = "MEX_POINTING_DESC.TXT"
RIGHT_ASCENSION = -1e+32
DECLINATION = -1e+32
OFFSET_ANGLE = -1e+32
SPACECRAFT_SOLAR_DISTANCE = 2.49224e+08
TARGET_NAME = MARS
/* CAMERA DATA ELEMENTS */
DETECTOR_TEMPERATURE = 18.1666
FOCAL_PLANE_TEMPERATURE = 9.6028
INST_CMPRS_NAME = "DISCRETE COSINE TRANSFORMATION (DCT)"
INST_CMPRS_RATIO = 10.3909
INST_CMPRS_QUALITY = 0
INST_CMPRS_QUANTZ_TBL_ID = 0
INSTRUMENT_TEMPERATURE = 12.8652
LENS_TEMPERATURE = 9.8067
MACROPIXEL_SIZE = 2
MISSING_FRAMES = 1
PIXEL_SUBSAMPLING_FLAG = N
SIGNAL_CHAIN_ID = 3
/* RADIOMETRIC DATA ELEMENTS */
BANDWIDTH = 174.0
CENTER_FILTER_WAVELENGTH = 675.0
RADIANCE_OFFSET = 1.37587
RADIANCE_SCALING_FACTOR = 0.0161868
REFLECTANCE_SCALING_FACTOR = 0.000540786
MEX:REFLECTANCE_OFFSET = 0.0459668
/* IMAGE OBJECT DEFINITIONS */
OBJECT = IMAGE
  INTERCHANGE_FORMAT = BINARY
  LINES = 14523
  LINE_SAMPLES = 3349
  SAMPLE_TYPE = UNSIGNED_INTEGER
  SAMPLE_BITS = 8
  BANDS = 1
  BAND_STORAGE_TYPE = BAND_SEQUENTIAL
  MAXIMUM = 255
  MEAN = 69.9592
  MINIMUM = 1
  STANDARD_DEVIATION = 18.4465
END_OBJECT = IMAGE
/* MAP OBJECT DEFINITIONS */
OBJECT = IMAGE_MAP_PROJECTION
  ^DATA_SET_MAP_PROJECTION_CATALOG= "DSMAP.CAT"
  A_AXIS_RADIUS = 3396.0
  B_AXIS_RADIUS = 3396.0
  C_AXIS_RADIUS = 3396.0
  CENTER_LATITUDE = 0.0
  CENTER_LONGITUDE = 36.0
  COORDINATE_SYSTEM_NAME = PLANETOGRAPHIC
  COORDINATE_SYSTEM_TYPE = "BODY-FIXED ROTATING"
  EASTERNMOST_LONGITUDE = 38.0166
  FIRST_STANDARD_PARALLEL = "N/A"
  LINE_FIRST_PIXEL = 1
  LINE_LAST_PIXEL = 14523
  LINE_PROJECTION_OFFSET = 40841.25
  MAP_PROJECTION_ROTATION = 0.0
  MAP_PROJECTION_TYPE = SINUSOIDAL
  MAP_RESOLUTION = 1185.42760773333
  MAP_SCALE = 0.05
  MAXIMUM_LATITUDE = 34.4454
  MINIMUM_LATITUDE = 22.2077
  POSITIVE_LONGITUDE_DIRECTION = EAST
  REFERENCE_LATITUDE = "N/A"
  REFERENCE_LONGITUDE = "N/A"
  SAMPLE_FIRST_PIXEL = 1
  SAMPLE_LAST_PIXEL = 3349
  SAMPLE_PROJECTION_OFFSET = 1517.25
  SECOND_STANDARD_PARALLEL = "N/A"
  WESTERNMOST_LONGITUDE = 34.3084
END_OBJECT = IMAGE_MAP_PROJECTION
/* The JPEG2000 image data file associated with this label. */
OBJECT = COMPRESSED_FILE
  FILE_NAME = "HA362_0000_P13.JP2"
  RECORD_TYPE = UNDEFINED
  FILE_RECORDS = UNK
  ENCODING_TYPE = "JP2"
  INTERCHANGE_FORMAT = BINARY
  UNCOMPRESSED_FILE_NAME = "HA362_0000_P13.IMG"
  REQUIRED_STORAGE_BYTES = "48660970"
  ^DESCRIPTION = "JP2INFO.TXT"
END_OBJECT = COMPRESSED_FILE
END
