PDS_VERSION_ID = PDS3
/* FILE DATA ELEMENTS */
RECORD_TYPE = STREAM
/* POINTERS TO DATA OBJECTS */
^COMPRESSED_FILE = "HA385_0000_IR3.JP2"
/* IDENTIFICATION DATA ELEMENTS */
DATA_SET_ID = "MEX-M-HRSC-5-REFDR-MAPPROJECTED-V3.0"
DATA_SET_NAME = "MARS EXPRESS HRSC MAP PROJECTED REFDR V3.0"
DETECTOR_ID = MEX_HRSC_IR
EVENT_TYPE = "MARS-REGIONAL-MAPPING-Vo-Te-La"
INSTRUMENT_HOST_ID = MEX
INSTRUMENT_HOST_NAME = "MARS EXPRESS"
INSTRUMENT_ID = HRSC
INSTRUMENT_NAME = "HIGH RESOLUTION STEREO CAMERA"
MISSION_NAME = "MARS EXPRESS"
MISSION_PHASE_NAME = ME_Phase_25
PROCESSING_LEVEL_ID = 3
PRODUCT_CREATION_TIME = 2016-10-27T09:57:31.000Z
PRODUCT_ID = "HA385_0000_IR3.JP2"
RELEASE_ID = 0106
REVISION_ID = 0000
/* QUALITY DATA ELEMENTS */
DATA_QUALITY_ID = 1
DATA_QUALITY_DESC = "Data calculated based on original SPICE kernels"
/* TIME DATA ELEMENTS */
SPACECRAFT_CLOCK_START_COUNT = "1/0278187230.09094"
SPACECRAFT_CLOCK_STOP_COUNT = "1/0278187569.04912"
START_TIME = 2012-02-24T18:15:01.040Z
STOP_TIME = 2012-02-24T18:19:19.165Z
/* ORBITAL DATA ELEMENTS */
ASCENDING_NODE_LONGITUDE = 19.06
MAXIMUM_RESOLUTION = 69.7
FOOTPRINT_POINT_LATITUDE = (2.30383,2.30144,2.29886,2.29656, 2.29329,2.66548,2.92118,3.18081,3.44257 ,3.83544,4.09614,4.49511,4.76118, 5.16034,5.43154,5.83782,6.1078,6.38378, 6.65942,6.9342,7.35255,7.63253,7.91173, 8.19595,8.48055,8.76446,9.05293,9.4852, 9.77793,10.217,10.6619,10.9588,11.4104, 11.7118,12.0178,12.3237,12.7879,13.0978 ,13.4128,13.727,14.0452,14.5248,14.8473 ,15.1725,15.4993,15.8276,16.3266, 16.6607,16.8804,16.8848,16.8885,16.8931 ,16.8953,16.8967,16.8951,16.3914, 16.0581,15.7277,15.2362,14.9103,14.588, 14.267,13.9485,13.6316,13.3173,13.0041, 12.694,12.3843,12.0784,11.7717,11.4702, 11.0176,10.5717,10.2744,9.83475,9.54128 ,9.25297,8.96385,8.67637,8.39208, 8.10701,7.82389,7.54416,7.26359,6.98428 ,6.70899,6.4332,6.02156,5.75153,5.48107 ,5.07657,4.81054,4.54432,4.14491, 3.88351,3.62019,3.2281,2.84029,2.58634, 2.30383)
FOOTPRINT_POINT_LONGITUDE = (203.839,203.514,203.231,203.014, 202.744,202.578,202.571,202.564,202.557 ,202.547,202.539,202.528,202.52,202.509 ,202.501,202.489,202.481,202.472, 202.464,202.455,202.442,202.433,202.423 ,202.414,202.404,202.395,202.384, 202.369,202.359,202.343,202.326,202.315 ,202.298,202.286,202.274,202.262, 202.244,202.231,202.219,202.206,202.192 ,202.172,202.158,202.143,202.129, 202.114,202.091,202.076,202.167,202.434 ,202.701,203.133,203.441,203.893,204.27 ,204.257,204.248,204.24,204.228,204.22, 204.213,204.206,204.199,204.192,204.186 ,204.179,204.173,204.167,204.162, 204.156,204.151,204.143,204.136,204.131 ,204.125,204.12,204.116,204.112,204.108 ,204.104,204.101,204.097,204.094, 204.091,204.088,204.085,204.082,204.078 ,204.075,204.072,204.068,204.066, 204.063,204.06,204.058,204.057,204.053, 204.051,204.048,203.839)
ORBIT_NUMBER = 10385
ORBITAL_ECCENTRICITY = 0.578
ORBITAL_INCLINATION = 86.88
ORBITAL_SEMIMAJOR_AXIS = 8850.49
PERIAPSIS_ALTITUDE = 339.46
PERIAPSIS_ARGUMENT_ANGLE = 345.25
PERIAPSIS_TIME = 2012-02-24T18:10:06.000Z
SPACECRAFT_ORIENTATION = (0.0,1.0,0.0)
^MEX_ORIENTATION_DESC = "MEX_ORIENTATION_DESC.TXT"
SPACECRAFT_POINTING_MODE = NADIR
^MEX_POINTING_DESC = "MEX_POINTING_DESC.TXT"
RIGHT_ASCENSION = -1e+32
DECLINATION = -1e+32
OFFSET_ANGLE = -1e+32
SPACECRAFT_SOLAR_DISTANCE = 2.49169e+08
TARGET_NAME = MARS
/* CAMERA DATA ELEMENTS */
DETECTOR_TEMPERATURE = 18.3705
FOCAL_PLANE_TEMPERATURE = 9.6028
INST_CMPRS_NAME = "DISCRETE COSINE TRANSFORMATION (DCT)"
INST_CMPRS_RATIO = 7.58312
INST_CMPRS_QUALITY = 0
INST_CMPRS_QUANTZ_TBL_ID = 0
INSTRUMENT_TEMPERATURE = 12.8652
LENS_TEMPERATURE = 10.0106
MACROPIXEL_SIZE = 4
MISSING_FRAMES = 0
PIXEL_SUBSAMPLING_FLAG = N
SIGNAL_CHAIN_ID = 2
/* RADIOMETRIC DATA ELEMENTS */
BANDWIDTH = 81.0
CENTER_FILTER_WAVELENGTH = 955.5
RADIANCE_OFFSET = 0.235326
RADIANCE_SCALING_FACTOR = 0.00281712
REFLECTANCE_SCALING_FACTOR = 0.000377329
MEX:REFLECTANCE_OFFSET = 0.03152
/* IMAGE OBJECT DEFINITIONS */
OBJECT = IMAGE
  INTERCHANGE_FORMAT = BINARY
  LINES = 17352
  LINE_SAMPLES = 2368
  SAMPLE_TYPE = UNSIGNED_INTEGER
  SAMPLE_BITS = 8
  BANDS = 1
  BAND_STORAGE_TYPE = BAND_SEQUENTIAL
  MAXIMUM = 255
  MEAN = 98.6677
  MINIMUM = 1
  STANDARD_DEVIATION = 34.0394
END_OBJECT = IMAGE
/* MAP OBJECT DEFINITIONS */
OBJECT = IMAGE_MAP_PROJECTION
  ^DATA_SET_MAP_PROJECTION_CATALOG= "DSMAP.CAT"
  A_AXIS_RADIUS = 3396.0
  B_AXIS_RADIUS = 3396.0
  C_AXIS_RADIUS = 3396.0
  CENTER_LATITUDE = 0.0
  CENTER_LONGITUDE = 203.0
  COORDINATE_SYSTEM_NAME = PLANETOGRAPHIC
  COORDINATE_SYSTEM_TYPE = "BODY-FIXED ROTATING"
  EASTERNMOST_LONGITUDE = 204.27
  FIRST_STANDARD_PARALLEL = "N/A"
  LINE_FIRST_PIXEL = 1
  LINE_LAST_PIXEL = 17352
  LINE_PROJECTION_OFFSET = 20062.125
  MAP_PROJECTION_ROTATION = 0.0
  MAP_PROJECTION_TYPE = SINUSOIDAL
  MAP_RESOLUTION = 1185.42760773333
  MAP_SCALE = 0.05
  MAXIMUM_LATITUDE = 16.8967
  MINIMUM_LATITUDE = 2.29329
  POSITIVE_LONGITUDE_DIRECTION = EAST
  REFERENCE_LATITUDE = "N/A"
  REFERENCE_LONGITUDE = "N/A"
  SAMPLE_FIRST_PIXEL = 1
  SAMPLE_LAST_PIXEL = 2368
  SAMPLE_PROJECTION_OFFSET = 991.125
  SECOND_STANDARD_PARALLEL = "N/A"
  WESTERNMOST_LONGITUDE = 202.076
END_OBJECT = IMAGE_MAP_PROJECTION
/* The JPEG2000 image data file associated with this label. */
OBJECT = COMPRESSED_FILE
  FILE_NAME = "HA385_0000_IR3.JP2"
  RECORD_TYPE = UNDEFINED
  FILE_RECORDS = UNK
  ENCODING_TYPE = "JP2"
  INTERCHANGE_FORMAT = BINARY
  UNCOMPRESSED_FILE_NAME = "HA385_0000_IR3.IMG"
  REQUIRED_STORAGE_BYTES = "41108480"
  ^DESCRIPTION = "JP2INFO.TXT"
END_OBJECT = COMPRESSED_FILE
END
