PDS_VERSION_ID = PDS3
/* FILE DATA ELEMENTS */
RECORD_TYPE = STREAM
/* POINTERS TO DATA OBJECTS */
^COMPRESSED_FILE = "HA385_0000_P13.JP2"
/* IDENTIFICATION DATA ELEMENTS */
DATA_SET_ID = "MEX-M-HRSC-5-REFDR-MAPPROJECTED-V3.0"
DATA_SET_NAME = "MARS EXPRESS HRSC MAP PROJECTED REFDR V3.0"
DETECTOR_ID = MEX_HRSC_P1
EVENT_TYPE = "MARS-REGIONAL-MAPPING-Vo-Te-La"
INSTRUMENT_HOST_ID = MEX
INSTRUMENT_HOST_NAME = "MARS EXPRESS"
INSTRUMENT_ID = HRSC
INSTRUMENT_NAME = "HIGH RESOLUTION STEREO CAMERA"
MISSION_NAME = "MARS EXPRESS"
MISSION_PHASE_NAME = ME_Phase_25
PROCESSING_LEVEL_ID = 3
PRODUCT_CREATION_TIME = 2016-10-27T09:57:31.000Z
PRODUCT_ID = "HA385_0000_P13.JP2"
RELEASE_ID = 0106
REVISION_ID = 0000
/* QUALITY DATA ELEMENTS */
DATA_QUALITY_ID = 1
DATA_QUALITY_DESC = "Data calculated based on original SPICE kernels"
/* TIME DATA ELEMENTS */
SPACECRAFT_CLOCK_START_COUNT = "1/0278187230.09094"
SPACECRAFT_CLOCK_STOP_COUNT = "1/0278187569.04912"
START_TIME = 2012-02-24T18:14:54.186Z
STOP_TIME = 2012-02-24T18:19:08.032Z
/* ORBITAL DATA ELEMENTS */
ASCENDING_NODE_LONGITUDE = 19.06
MAXIMUM_RESOLUTION = 34
FOOTPRINT_POINT_LATITUDE = (2.30421,2.29968,2.29536,2.29174, 2.66998,2.92882,3.18851,3.44666,3.71096 ,3.97507,4.23894,4.50241,4.76982, 5.03958,5.30825,5.57651,5.85007,6.12387 ,6.53428,6.95138,7.22978,7.5078,7.79129 ,8.21533,8.50021,8.78829,9.07511, 9.36474,9.65736,9.94941,10.2449,10.5419 ,10.8384,11.1403,11.4417,11.8991, 12.2048,12.6699,12.98,13.2954,13.61, 13.9293,14.2481,14.5709,14.894,15.2213, 15.5491,15.88,16.3817,16.8862,16.8938, 16.9001,16.9026,16.9044,16.7339,16.3982 ,16.0632,15.7315,15.2378,14.9105, 14.5874,14.2643,13.9454,13.6262,13.3117 ,12.9964,12.6862,12.221,11.9153,11.4577 ,11.1564,10.8542,10.5574,10.2601, 9.96423,9.67197,9.37916,8.94554,8.65761 ,8.36966,8.08668,7.80322,7.51947, 7.24125,6.96245,6.54472,6.27142,5.99773 ,5.5876,5.3195,5.05067,4.7811,4.51357, 4.25061,3.98614,3.72082,3.45577,3.06903 ,2.80993,2.30421)
FOOTPRINT_POINT_LONGITUDE = (204.035,203.45,203.018,202.711,202.581 ,202.574,202.568,202.561,202.554, 202.547,202.54,202.533,202.525,202.518, 202.51,202.502,202.494,202.486,202.474, 202.461,202.452,202.443,202.434,202.42, 202.411,202.401,202.391,202.381,202.371 ,202.361,202.35,202.34,202.329,202.318, 202.306,202.289,202.278,202.26,202.247, 202.235,202.222,202.209,202.196,202.183 ,202.169,202.155,202.141,202.126, 202.104,202.081,202.564,203.109,203.445 ,203.928,204.247,204.238,204.23,204.222 ,204.211,204.203,204.196,204.19,204.183 ,204.177,204.17,204.164,204.159,204.15, 204.145,204.137,204.133,204.128,204.123 ,204.119,204.115,204.111,204.106, 204.101,204.097,204.093,204.09,204.087, 204.084,204.081,204.078,204.074,204.071 ,204.068,204.064,204.062,204.06,204.057 ,204.055,204.053,204.051,204.05,204.048 ,204.045,204.044,204.035)
ORBIT_NUMBER = 10385
ORBITAL_ECCENTRICITY = 0.578
ORBITAL_INCLINATION = 86.88
ORBITAL_SEMIMAJOR_AXIS = 8850.49
PERIAPSIS_ALTITUDE = 339.46
PERIAPSIS_ARGUMENT_ANGLE = 345.25
PERIAPSIS_TIME = 2012-02-24T18:10:06.000Z
SPACECRAFT_ORIENTATION = (0.0,1.0,0.0)
^MEX_ORIENTATION_DESC = "MEX_ORIENTATION_DESC.TXT"
SPACECRAFT_POINTING_MODE = NADIR
^MEX_POINTING_DESC = "MEX_POINTING_DESC.TXT"
RIGHT_ASCENSION = -1e+32
DECLINATION = -1e+32
OFFSET_ANGLE = -1e+32
SPACECRAFT_SOLAR_DISTANCE = 2.49169e+08
TARGET_NAME = MARS
/* CAMERA DATA ELEMENTS */
DETECTOR_TEMPERATURE = 18.3705
FOCAL_PLANE_TEMPERATURE = 9.6028
INST_CMPRS_NAME = "DISCRETE COSINE TRANSFORMATION (DCT)"
INST_CMPRS_RATIO = 7.45973
INST_CMPRS_QUALITY = 0
INST_CMPRS_QUANTZ_TBL_ID = 0
INSTRUMENT_TEMPERATURE = 12.8652
LENS_TEMPERATURE = 10.0106
MACROPIXEL_SIZE = 2
MISSING_FRAMES = 0
PIXEL_SUBSAMPLING_FLAG = N
SIGNAL_CHAIN_ID = 3
/* RADIOMETRIC DATA ELEMENTS */
BANDWIDTH = 174.0
CENTER_FILTER_WAVELENGTH = 675.0
RADIANCE_OFFSET = 1.17188
RADIANCE_SCALING_FACTOR = 0.00966661
REFLECTANCE_SCALING_FACTOR = 0.00032281
MEX:REFLECTANCE_OFFSET = 0.0391341
/* IMAGE OBJECT DEFINITIONS */
OBJECT = IMAGE
  INTERCHANGE_FORMAT = BINARY
  LINES = 34703
  LINE_SAMPLES = 4736
  SAMPLE_TYPE = UNSIGNED_INTEGER
  SAMPLE_BITS = 8
  BANDS = 1
  BAND_STORAGE_TYPE = BAND_SEQUENTIAL
  MAXIMUM = 255
  MEAN = 92.8581
  MINIMUM = 1
  STANDARD_DEVIATION = 34.9048
END_OBJECT = IMAGE
/* MAP OBJECT DEFINITIONS */
OBJECT = IMAGE_MAP_PROJECTION
  ^DATA_SET_MAP_PROJECTION_CATALOG= "DSMAP.CAT"
  A_AXIS_RADIUS = 3396.0
  B_AXIS_RADIUS = 3396.0
  C_AXIS_RADIUS = 3396.0
  CENTER_LATITUDE = 0.0
  CENTER_LONGITUDE = 203.0
  COORDINATE_SYSTEM_NAME = PLANETOGRAPHIC
  COORDINATE_SYSTEM_TYPE = "BODY-FIXED ROTATING"
  EASTERNMOST_LONGITUDE = 204.247
  FIRST_STANDARD_PARALLEL = "N/A"
  LINE_FIRST_PIXEL = 1
  LINE_LAST_PIXEL = 34703
  LINE_PROJECTION_OFFSET = 40124.75
  MAP_PROJECTION_ROTATION = 0.0
  MAP_PROJECTION_TYPE = SINUSOIDAL
  MAP_RESOLUTION = 2370.85521546667
  MAP_SCALE = 0.025
  MAXIMUM_LATITUDE = 16.9044
  MINIMUM_LATITUDE = 2.29174
  POSITIVE_LONGITUDE_DIRECTION = EAST
  REFERENCE_LATITUDE = "N/A"
  REFERENCE_LONGITUDE = "N/A"
  SAMPLE_FIRST_PIXEL = 1
  SAMPLE_LAST_PIXEL = 4736
  SAMPLE_PROJECTION_OFFSET = 1982.75
  SECOND_STANDARD_PARALLEL = "N/A"
  WESTERNMOST_LONGITUDE = 202.081
END_OBJECT = IMAGE_MAP_PROJECTION
/* The JPEG2000 image data file associated with this label. */
OBJECT = COMPRESSED_FILE
  FILE_NAME = "HA385_0000_P13.JP2"
  RECORD_TYPE = UNDEFINED
  FILE_RECORDS = UNK
  ENCODING_TYPE = "JP2"
  INTERCHANGE_FORMAT = BINARY
  UNCOMPRESSED_FILE_NAME = "HA385_0000_P13.IMG"
  REQUIRED_STORAGE_BYTES = "164377088"
  ^DESCRIPTION = "JP2INFO.TXT"
END_OBJECT = COMPRESSED_FILE
END
