PDS_VERSION_ID = PDS3
/* FILE DATA ELEMENTS */
RECORD_TYPE = STREAM
/* POINTERS TO DATA OBJECTS */
^COMPRESSED_FILE = "HA385_0000_S23.JP2"
/* IDENTIFICATION DATA ELEMENTS */
DATA_SET_ID = "MEX-M-HRSC-5-REFDR-MAPPROJECTED-V3.0"
DATA_SET_NAME = "MARS EXPRESS HRSC MAP PROJECTED REFDR V3.0"
DETECTOR_ID = MEX_HRSC_S2
EVENT_TYPE = "MARS-REGIONAL-MAPPING-Vo-Te-La"
INSTRUMENT_HOST_ID = MEX
INSTRUMENT_HOST_NAME = "MARS EXPRESS"
INSTRUMENT_ID = HRSC
INSTRUMENT_NAME = "HIGH RESOLUTION STEREO CAMERA"
MISSION_NAME = "MARS EXPRESS"
MISSION_PHASE_NAME = ME_Phase_25
PROCESSING_LEVEL_ID = 3
PRODUCT_CREATION_TIME = 2016-10-27T09:57:31.000Z
PRODUCT_ID = "HA385_0000_S23.JP2"
RELEASE_ID = 0106
REVISION_ID = 0000
/* QUALITY DATA ELEMENTS */
DATA_QUALITY_ID = 1
DATA_QUALITY_DESC = "Data calculated based on original SPICE kernels"
/* TIME DATA ELEMENTS */
SPACECRAFT_CLOCK_START_COUNT = "1/0278187230.09094"
SPACECRAFT_CLOCK_STOP_COUNT = "1/0278187569.04912"
START_TIME = 2012-02-24T18:13:53.690Z
STOP_TIME = 2012-02-24T18:17:38.017Z
/* ORBITAL DATA ELEMENTS */
ASCENDING_NODE_LONGITUDE = 19.06
MAXIMUM_RESOLUTION = 32.9
FOOTPRINT_POINT_LATITUDE = (2.28974,2.28649,2.29945,2.70271, 2.97221,3.23995,3.50937,3.91177,4.18076 ,4.44929,4.71838,4.98614,5.25459, 5.52285,5.79115,6.0592,6.3267,6.60178, 6.87685,7.28897,7.56367,7.98575,8.26771 ,8.54828,8.83088,9.12005,9.40852, 9.84036,10.1336,10.4282,10.8701,11.319, 11.6197,11.9204,12.379,12.6862,12.993, 13.3067,13.6198,14.0962,14.4135,14.7333 ,15.0573,15.3835,15.8754,16.2076, 16.5396,16.8778,16.943,16.9457,16.9483, 16.952,16.7875,16.4513,16.1191,15.6227, 15.2968,14.8083,14.4885,14.1687,13.8506 ,13.5371,13.2234,12.9115,12.6047, 12.2974,11.9908,11.69,11.389,10.9392, 10.6448,10.3504,9.90903,9.62134,9.33308 ,9.04495,8.75765,8.47649,8.19536, 7.91396,7.49506,7.22087,6.94632,6.67151 ,6.26134,5.99328,5.72407,5.45557, 5.18654,4.91768,4.64934,4.3802,4.11071, 3.84257,3.57609,3.30618,2.90292,2.62975 ,2.35941,2.28974)
FOOTPRINT_POINT_LONGITUDE = (203.479,203.113,202.632,202.623, 202.617,202.612,202.605,202.596,202.59, 202.584,202.577,202.571,202.564,202.558 ,202.551,202.544,202.538,202.53,202.523 ,202.512,202.505,202.493,202.485, 202.478,202.47,202.461,202.453,202.44, 202.431,202.422,202.409,202.395,202.386 ,202.376,202.362,202.352,202.342, 202.331,202.321,202.304,202.294,202.283 ,202.271,202.26,202.242,202.23,202.218, 202.205,202.63,202.945,203.242,203.613, 204.118,204.112,204.107,204.099,204.095 ,204.087,204.083,204.079,204.075, 204.071,204.067,204.063,204.059,204.056 ,204.053,204.049,204.046,204.042, 204.039,204.037,204.033,204.03,204.028, 204.026,204.024,204.022,204.02,204.018, 204.015,204.014,204.012,204.011,204.009 ,204.008,204.006,204.005,204.004, 204.002,204.001,204.0,203.999,203.999, 203.998,203.997,203.997,203.995,203.994 ,203.479)
ORBIT_NUMBER = 10385
ORBITAL_ECCENTRICITY = 0.578
ORBITAL_INCLINATION = 86.88
ORBITAL_SEMIMAJOR_AXIS = 8850.49
PERIAPSIS_ALTITUDE = 339.46
PERIAPSIS_ARGUMENT_ANGLE = 345.25
PERIAPSIS_TIME = 2012-02-24T18:10:06.000Z
SPACECRAFT_ORIENTATION = (0.0,1.0,0.0)
^MEX_ORIENTATION_DESC = "MEX_ORIENTATION_DESC.TXT"
SPACECRAFT_POINTING_MODE = NADIR
^MEX_POINTING_DESC = "MEX_POINTING_DESC.TXT"
RIGHT_ASCENSION = -1e+32
DECLINATION = -1e+32
OFFSET_ANGLE = -1e+32
SPACECRAFT_SOLAR_DISTANCE = 2.49169e+08
TARGET_NAME = MARS
/* CAMERA DATA ELEMENTS */
DETECTOR_TEMPERATURE = 17.7588
FOCAL_PLANE_TEMPERATURE = 9.6028
INST_CMPRS_NAME = "DISCRETE COSINE TRANSFORMATION (DCT)"
INST_CMPRS_RATIO = 9.20607
INST_CMPRS_QUALITY = 0
INST_CMPRS_QUANTZ_TBL_ID = 0
INSTRUMENT_TEMPERATURE = 12.8652
LENS_TEMPERATURE = 10.0106
MACROPIXEL_SIZE = 2
MISSING_FRAMES = 0
PIXEL_SUBSAMPLING_FLAG = N
SIGNAL_CHAIN_ID = 1
/* RADIOMETRIC DATA ELEMENTS */
BANDWIDTH = 178.0
CENTER_FILTER_WAVELENGTH = 679.0
RADIANCE_OFFSET = 1.25148
RADIANCE_SCALING_FACTOR = 0.0109481
REFLECTANCE_SCALING_FACTOR = 0.000359963
MEX:REFLECTANCE_OFFSET = 0.0411474
/* IMAGE OBJECT DEFINITIONS */
OBJECT = IMAGE
  INTERCHANGE_FORMAT = BINARY
  LINES = 34703
  LINE_SAMPLES = 4736
  SAMPLE_TYPE = UNSIGNED_INTEGER
  SAMPLE_BITS = 8
  BANDS = 1
  BAND_STORAGE_TYPE = BAND_SEQUENTIAL
  MAXIMUM = 255
  MEAN = 97.0846
  MINIMUM = 1
  STANDARD_DEVIATION = 35.13
END_OBJECT = IMAGE
/* MAP OBJECT DEFINITIONS */
OBJECT = IMAGE_MAP_PROJECTION
  ^DATA_SET_MAP_PROJECTION_CATALOG= "DSMAP.CAT"
  A_AXIS_RADIUS = 3396.0
  B_AXIS_RADIUS = 3396.0
  C_AXIS_RADIUS = 3396.0
  CENTER_LATITUDE = 0.0
  CENTER_LONGITUDE = 203.0
  COORDINATE_SYSTEM_NAME = PLANETOGRAPHIC
  COORDINATE_SYSTEM_TYPE = "BODY-FIXED ROTATING"
  EASTERNMOST_LONGITUDE = 204.118
  FIRST_STANDARD_PARALLEL = "N/A"
  LINE_FIRST_PIXEL = 1
  LINE_LAST_PIXEL = 34703
  LINE_PROJECTION_OFFSET = 40124.75
  MAP_PROJECTION_ROTATION = 0.0
  MAP_PROJECTION_TYPE = SINUSOIDAL
  MAP_RESOLUTION = 2370.85521546667
  MAP_SCALE = 0.025
  MAXIMUM_LATITUDE = 16.952
  MINIMUM_LATITUDE = 2.28649
  POSITIVE_LONGITUDE_DIRECTION = EAST
  REFERENCE_LATITUDE = "N/A"
  REFERENCE_LONGITUDE = "N/A"
  SAMPLE_FIRST_PIXEL = 1
  SAMPLE_LAST_PIXEL = 4736
  SAMPLE_PROJECTION_OFFSET = 1982.75
  SECOND_STANDARD_PARALLEL = "N/A"
  WESTERNMOST_LONGITUDE = 202.205
END_OBJECT = IMAGE_MAP_PROJECTION
/* The JPEG2000 image data file associated with this label. */
OBJECT = COMPRESSED_FILE
  FILE_NAME = "HA385_0000_S23.JP2"
  RECORD_TYPE = UNDEFINED
  FILE_RECORDS = UNK
  ENCODING_TYPE = "JP2"
  INTERCHANGE_FORMAT = BINARY
  UNCOMPRESSED_FILE_NAME = "HA385_0000_S23.IMG"
  REQUIRED_STORAGE_BYTES = "164377088"
  ^DESCRIPTION = "JP2INFO.TXT"
END_OBJECT = COMPRESSED_FILE
END
