PDS_VERSION_ID = PDS3
/* FILE DATA ELEMENTS */
RECORD_TYPE = STREAM
/* POINTERS TO DATA OBJECTS */
^COMPRESSED_FILE = "HA386_0000_P23.JP2"
/* IDENTIFICATION DATA ELEMENTS */
DATA_SET_ID = "MEX-M-HRSC-5-REFDR-MAPPROJECTED-V3.0"
DATA_SET_NAME = "MARS EXPRESS HRSC MAP PROJECTED REFDR V3.0"
DETECTOR_ID = MEX_HRSC_P2
EVENT_TYPE = "MARS-REGIONAL-MAPPING-Vo-Im-Lc"
INSTRUMENT_HOST_ID = MEX
INSTRUMENT_HOST_NAME = "MARS EXPRESS"
INSTRUMENT_ID = HRSC
INSTRUMENT_NAME = "HIGH RESOLUTION STEREO CAMERA"
MISSION_NAME = "MARS EXPRESS"
MISSION_PHASE_NAME = ME_Phase_25
PROCESSING_LEVEL_ID = 3
PRODUCT_CREATION_TIME = 2016-10-27T09:57:31.000Z
PRODUCT_ID = "HA386_0000_P23.JP2"
RELEASE_ID = 0106
REVISION_ID = 0000
/* QUALITY DATA ELEMENTS */
DATA_QUALITY_ID = 1
DATA_QUALITY_DESC = "Data calculated based on original SPICE kernels"
/* TIME DATA ELEMENTS */
SPACECRAFT_CLOCK_START_COUNT = "1/0278212569.07299"
SPACECRAFT_CLOCK_STOP_COUNT = "1/0278212874.55901"
START_TIME = 2012-02-25T01:16:27.487Z
STOP_TIME = 2012-02-25T01:19:16.979Z
/* ORBITAL DATA ELEMENTS */
ASCENDING_NODE_LONGITUDE = 19.04
MAXIMUM_RESOLUTION = 39.4
FOOTPRINT_POINT_LATITUDE = (12.2568,12.2534,12.2509,12.2476, 12.2445,12.2421,12.4428,12.9139,13.1059 ,13.2977,13.4889,13.6806,13.8762, 14.1689,14.3637,14.6588,14.8574,15.0563 ,15.2549,15.4552,15.6576,15.86,16.062, 16.2664,16.4725,16.6779,16.8826,17.097, 17.4067,17.6154,17.9339,18.1467,18.3592 ,18.5752,18.7913,19.0072,19.2257, 19.4453,19.6645,19.9974,20.2201,20.5556 ,20.7817,21.0077,21.2358,21.465,21.6944 ,22.0434,22.2762,22.5115,22.7476, 22.7579,22.761,22.7619,22.7671,22.7693, 22.7718,22.5359,22.3005,21.9515,21.7189 ,21.4897,21.26,21.0317,20.8058,20.5795, 20.3548,20.1323,19.9093,19.6875,19.4682 ,19.2493,18.9222,18.5983,18.3822, 18.1699,17.9572,17.6388,17.4293,17.1151 ,16.9056,16.7002,16.3914,16.1853,15.983 ,15.7796,15.5831,15.3776,15.1765, 14.9779,14.7792,14.4818,14.1895,13.9943 ,13.7992,13.6055,13.2231,13.0313,12.558 ,12.2568)
FOOTPRINT_POINT_LONGITUDE = (101.683,101.37,101.139,100.827,100.514 ,100.267,100.034,100.019,100.012, 100.005,99.9988,99.992,99.9851,99.9748, 99.9679,99.9573,99.9502,99.9429,99.9356 ,99.9283,99.9208,99.9131,99.9055, 99.8977,99.8897,99.8819,99.8744,99.8637 ,99.8534,99.8452,99.8324,99.8238, 99.8151,99.8064,99.7974,99.7885,99.7792 ,99.77,99.7608,99.7466,99.737,99.7226, 99.7128,99.7028,99.6927,99.6826,99.6722 ,99.6563,99.6456,99.6347,99.6236, 100.167,100.506,100.732,101.208,101.502 ,101.964,101.957,101.951,101.941, 101.935,101.929,101.922,101.917,101.911 ,101.905,101.9,101.895,101.889,101.884, 101.879,101.874,101.867,101.86,101.855, 101.851,101.847,101.84,101.836,101.83, 101.826,101.822,101.817,101.813,101.81, 101.806,101.805,101.8,101.796,101.793, 101.79,101.785,101.781,101.778,101.775, 101.773,101.768,101.765,101.759, 101.683)
ORBIT_NUMBER = 10386
ORBITAL_ECCENTRICITY = 0.578
ORBITAL_INCLINATION = 86.87
ORBITAL_SEMIMAJOR_AXIS = 8857.53
PERIAPSIS_ALTITUDE = 338.84
PERIAPSIS_ARGUMENT_ANGLE = 345.07
PERIAPSIS_TIME = 2012-02-25T01:09:50.000Z
SPACECRAFT_ORIENTATION = (0.0,1.0,0.0)
^MEX_ORIENTATION_DESC = "MEX_ORIENTATION_DESC.TXT"
SPACECRAFT_POINTING_MODE = NADIR
^MEX_POINTING_DESC = "MEX_POINTING_DESC.TXT"
RIGHT_ASCENSION = -1e+32
DECLINATION = -1e+32
OFFSET_ANGLE = -1e+32
SPACECRAFT_SOLAR_DISTANCE = 2.49165e+08
TARGET_NAME = MARS
/* CAMERA DATA ELEMENTS */
DETECTOR_TEMPERATURE = 18.9822
FOCAL_PLANE_TEMPERATURE = 9.3989
INST_CMPRS_NAME = "DISCRETE COSINE TRANSFORMATION (DCT)"
INST_CMPRS_RATIO = 6.60527
INST_CMPRS_QUALITY = 0
INST_CMPRS_QUANTZ_TBL_ID = 0
INSTRUMENT_TEMPERATURE = 12.6613
LENS_TEMPERATURE = 9.8067
MACROPIXEL_SIZE = 2
MISSING_FRAMES = 0
PIXEL_SUBSAMPLING_FLAG = N
SIGNAL_CHAIN_ID = 3
/* RADIOMETRIC DATA ELEMENTS */
BANDWIDTH = 177.0
CENTER_FILTER_WAVELENGTH = 676.5
RADIANCE_OFFSET = 1.33852
RADIANCE_SCALING_FACTOR = 0.00935293
REFLECTANCE_SCALING_FACTOR = 0.000307878
MEX:REFLECTANCE_OFFSET = 0.0440612
/* IMAGE OBJECT DEFINITIONS */
OBJECT = IMAGE
  INTERCHANGE_FORMAT = BINARY
  LINES = 12457
  LINE_SAMPLES = 2759
  SAMPLE_TYPE = UNSIGNED_INTEGER
  SAMPLE_BITS = 8
  BANDS = 1
  BAND_STORAGE_TYPE = BAND_SEQUENTIAL
  MAXIMUM = 255
  MEAN = 89.3256
  MINIMUM = 1
  STANDARD_DEVIATION = 21.116
END_OBJECT = IMAGE
/* MAP OBJECT DEFINITIONS */
OBJECT = IMAGE_MAP_PROJECTION
  ^DATA_SET_MAP_PROJECTION_CATALOG= "DSMAP.CAT"
  A_AXIS_RADIUS = 3396.0
  B_AXIS_RADIUS = 3396.0
  C_AXIS_RADIUS = 3396.0
  CENTER_LATITUDE = 0.0
  CENTER_LONGITUDE = 101.0
  COORDINATE_SYSTEM_NAME = PLANETOGRAPHIC
  COORDINATE_SYSTEM_TYPE = "BODY-FIXED ROTATING"
  EASTERNMOST_LONGITUDE = 101.964
  FIRST_STANDARD_PARALLEL = "N/A"
  LINE_FIRST_PIXEL = 1
  LINE_LAST_PIXEL = 12457
  LINE_PROJECTION_OFFSET = 26970.25
  MAP_PROJECTION_ROTATION = 0.0
  MAP_PROJECTION_TYPE = SINUSOIDAL
  MAP_RESOLUTION = 1185.42760773333
  MAP_SCALE = 0.05
  MAXIMUM_LATITUDE = 22.7718
  MINIMUM_LATITUDE = 12.2421
  POSITIVE_LONGITUDE_DIRECTION = EAST
  REFERENCE_LATITUDE = "N/A"
  REFERENCE_LONGITUDE = "N/A"
  SAMPLE_FIRST_PIXEL = 1
  SAMPLE_LAST_PIXEL = 2759
  SAMPLE_PROJECTION_OFFSET = 1600.25
  SECOND_STANDARD_PARALLEL = "N/A"
  WESTERNMOST_LONGITUDE = 99.6236
END_OBJECT = IMAGE_MAP_PROJECTION
/* The JPEG2000 image data file associated with this label. */
OBJECT = COMPRESSED_FILE
  FILE_NAME = "HA386_0000_P23.JP2"
  RECORD_TYPE = UNDEFINED
  FILE_RECORDS = UNK
  ENCODING_TYPE = "JP2"
  INTERCHANGE_FORMAT = BINARY
  UNCOMPRESSED_FILE_NAME = "HA386_0000_P23.IMG"
  REQUIRED_STORAGE_BYTES = "34390935"
  ^DESCRIPTION = "JP2INFO.TXT"
END_OBJECT = COMPRESSED_FILE
END
