PDS_VERSION_ID = PDS3
/* FILE DATA ELEMENTS */
RECORD_TYPE = STREAM
/* POINTERS TO DATA OBJECTS */
^COMPRESSED_FILE = "HA386_0000_S23.JP2"
/* IDENTIFICATION DATA ELEMENTS */
DATA_SET_ID = "MEX-M-HRSC-5-REFDR-MAPPROJECTED-V3.0"
DATA_SET_NAME = "MARS EXPRESS HRSC MAP PROJECTED REFDR V3.0"
DETECTOR_ID = MEX_HRSC_S2
EVENT_TYPE = "MARS-REGIONAL-MAPPING-Vo-Im-Lc"
INSTRUMENT_HOST_ID = MEX
INSTRUMENT_HOST_NAME = "MARS EXPRESS"
INSTRUMENT_ID = HRSC
INSTRUMENT_NAME = "HIGH RESOLUTION STEREO CAMERA"
MISSION_NAME = "MARS EXPRESS"
MISSION_PHASE_NAME = ME_Phase_25
PROCESSING_LEVEL_ID = 3
PRODUCT_CREATION_TIME = 2016-10-27T09:57:31.000Z
PRODUCT_ID = "HA386_0000_S23.JP2"
RELEASE_ID = 0106
REVISION_ID = 0000
/* QUALITY DATA ELEMENTS */
DATA_QUALITY_ID = 1
DATA_QUALITY_DESC = "Data calculated based on original SPICE kernels"
/* TIME DATA ELEMENTS */
SPACECRAFT_CLOCK_START_COUNT = "1/0278212569.07299"
SPACECRAFT_CLOCK_STOP_COUNT = "1/0278212874.55901"
START_TIME = 2012-02-25T01:16:12.643Z
STOP_TIME = 2012-02-25T01:18:56.983Z
/* ORBITAL DATA ELEMENTS */
ASCENDING_NODE_LONGITUDE = 19.04
MAXIMUM_RESOLUTION = 20
FOOTPRINT_POINT_LATITUDE = (12.2462,12.2433,12.2412,12.2387, 12.2365,12.2344,12.6304,12.9136,13.1053 ,13.2971,13.5845,13.7758,13.9716, 14.1668,14.4595,14.6547,14.8539,15.1526 ,15.4508,15.7538,15.9572,16.1599, 16.3633,16.5695,16.8781,17.1968,17.505, 17.7151,17.9256,18.2465,18.4606,18.6745 ,19.0001,19.2181,19.436,19.7671,19.9885 ,20.2095,20.4339,20.6587,20.8835,21.226 ,21.4542,21.8004,22.0325,22.2648, 22.5003,22.7533,22.7565,22.7565,22.7591 ,22.7633,22.7663,22.7681,22.7711, 22.5359,22.3004,22.0683,21.836,21.604, 21.261,20.9179,20.5807,20.3557,20.0221, 19.8005,19.5785,19.3596,19.1431,18.9251 ,18.7061,18.3863,18.1723,17.9585, 17.7484,17.5377,17.3267,17.1175,16.9109 ,16.7041,16.394,16.1909,15.988,15.6842, 15.489,15.2853,15.0822,14.8831,14.6839, 14.4883,14.2933,14.098,13.8049,13.6134, 13.4218,13.1351,12.9433,12.7538,12.3785 ,12.2462)
FOOTPRINT_POINT_LONGITUDE = (101.372,101.107,100.909,100.645,100.38 ,100.115,100.039,100.029,100.023, 100.017,100.007,100.0,99.9936,99.987, 99.9769,99.97,99.963,99.9524,99.9418, 99.9308,99.9232,99.9158,99.9081,99.9005 ,99.8893,99.8746,99.8649,99.8569, 99.8486,99.8359,99.8274,99.8189,99.8058 ,99.7968,99.7879,99.7743,99.7651,99.756 ,99.7467,99.7372,99.7276,99.7129, 99.7031,99.6878,99.6776,99.6672,99.6566 ,99.8484,100.187,100.436,100.728, 100.999,101.337,101.541,101.857,101.929 ,101.923,101.917,101.911,101.905, 101.897,101.889,101.881,101.876,101.868 ,101.863,101.859,101.854,101.85,101.845 ,101.84,101.834,101.83,101.826,101.822, 101.818,101.815,101.811,101.807,101.804 ,101.798,101.795,101.792,101.787, 101.786,101.782,101.778,101.775,101.772 ,101.769,101.766,101.764,101.76,101.758 ,101.755,101.752,101.749,101.747, 101.743,101.372)
ORBIT_NUMBER = 10386
ORBITAL_ECCENTRICITY = 0.578
ORBITAL_INCLINATION = 86.87
ORBITAL_SEMIMAJOR_AXIS = 8857.53
PERIAPSIS_ALTITUDE = 338.84
PERIAPSIS_ARGUMENT_ANGLE = 345.07
PERIAPSIS_TIME = 2012-02-25T01:09:50.000Z
SPACECRAFT_ORIENTATION = (0.0,1.0,0.0)
^MEX_ORIENTATION_DESC = "MEX_ORIENTATION_DESC.TXT"
SPACECRAFT_POINTING_MODE = NADIR
^MEX_POINTING_DESC = "MEX_POINTING_DESC.TXT"
RIGHT_ASCENSION = -1e+32
DECLINATION = -1e+32
OFFSET_ANGLE = -1e+32
SPACECRAFT_SOLAR_DISTANCE = 2.49165e+08
TARGET_NAME = MARS
/* CAMERA DATA ELEMENTS */
DETECTOR_TEMPERATURE = 18.9822
FOCAL_PLANE_TEMPERATURE = 9.3989
INST_CMPRS_NAME = "DISCRETE COSINE TRANSFORMATION (DCT)"
INST_CMPRS_RATIO = 7.46719
INST_CMPRS_QUALITY = 0
INST_CMPRS_QUANTZ_TBL_ID = 0
INSTRUMENT_TEMPERATURE = 12.6613
LENS_TEMPERATURE = 9.8067
MACROPIXEL_SIZE = 1
MISSING_FRAMES = 0
PIXEL_SUBSAMPLING_FLAG = N
SIGNAL_CHAIN_ID = 1
/* RADIOMETRIC DATA ELEMENTS */
BANDWIDTH = 178.0
CENTER_FILTER_WAVELENGTH = 679.0
RADIANCE_OFFSET = 1.31066
RADIANCE_SCALING_FACTOR = 0.0100513
REFLECTANCE_SCALING_FACTOR = 0.000330463
MEX:REFLECTANCE_OFFSET = 0.0430916
/* IMAGE OBJECT DEFINITIONS */
OBJECT = IMAGE
  INTERCHANGE_FORMAT = BINARY
  LINES = 24914
  LINE_SAMPLES = 5518
  SAMPLE_TYPE = UNSIGNED_INTEGER
  SAMPLE_BITS = 8
  BANDS = 1
  BAND_STORAGE_TYPE = BAND_SEQUENTIAL
  MAXIMUM = 255
  MEAN = 95.4465
  MINIMUM = 1
  STANDARD_DEVIATION = 20.9793
END_OBJECT = IMAGE
/* MAP OBJECT DEFINITIONS */
OBJECT = IMAGE_MAP_PROJECTION
  ^DATA_SET_MAP_PROJECTION_CATALOG= "DSMAP.CAT"
  A_AXIS_RADIUS = 3396.0
  B_AXIS_RADIUS = 3396.0
  C_AXIS_RADIUS = 3396.0
  CENTER_LATITUDE = 0.0
  CENTER_LONGITUDE = 101.0
  COORDINATE_SYSTEM_NAME = PLANETOGRAPHIC
  COORDINATE_SYSTEM_TYPE = "BODY-FIXED ROTATING"
  EASTERNMOST_LONGITUDE = 101.929
  FIRST_STANDARD_PARALLEL = "N/A"
  LINE_FIRST_PIXEL = 1
  LINE_LAST_PIXEL = 24914
  LINE_PROJECTION_OFFSET = 53941.0
  MAP_PROJECTION_ROTATION = 0.0
  MAP_PROJECTION_TYPE = SINUSOIDAL
  MAP_RESOLUTION = 2370.85521546667
  MAP_SCALE = 0.025
  MAXIMUM_LATITUDE = 22.7711
  MINIMUM_LATITUDE = 12.2344
  POSITIVE_LONGITUDE_DIRECTION = EAST
  REFERENCE_LATITUDE = "N/A"
  REFERENCE_LONGITUDE = "N/A"
  SAMPLE_FIRST_PIXEL = 1
  SAMPLE_LAST_PIXEL = 5518
  SAMPLE_PROJECTION_OFFSET = 3201.0
  SECOND_STANDARD_PARALLEL = "N/A"
  WESTERNMOST_LONGITUDE = 99.6566
END_OBJECT = IMAGE_MAP_PROJECTION
/* The JPEG2000 image data file associated with this label. */
OBJECT = COMPRESSED_FILE
  FILE_NAME = "HA386_0000_S23.JP2"
  RECORD_TYPE = UNDEFINED
  FILE_RECORDS = UNK
  ENCODING_TYPE = "JP2"
  INTERCHANGE_FORMAT = BINARY
  UNCOMPRESSED_FILE_NAME = "HA386_0000_S23.IMG"
  REQUIRED_STORAGE_BYTES = "137503042"
  ^DESCRIPTION = "JP2INFO.TXT"
END_OBJECT = COMPRESSED_FILE
END
