PDS_VERSION_ID = PDS3
/* FILE DATA ELEMENTS */
RECORD_TYPE = STREAM
/* POINTERS TO DATA OBJECTS */
^COMPRESSED_FILE = "HA397_0000_ND3.JP2"
/* IDENTIFICATION DATA ELEMENTS */
DATA_SET_ID = "MEX-M-HRSC-5-REFDR-MAPPROJECTED-V3.0"
DATA_SET_NAME = "MARS EXPRESS HRSC MAP PROJECTED REFDR V3.0"
DETECTOR_ID = MEX_HRSC_NADIR
EVENT_TYPE = "MARS-REGIONAL-MAPPING-Im-Fl"
INSTRUMENT_HOST_ID = MEX
INSTRUMENT_HOST_NAME = "MARS EXPRESS"
INSTRUMENT_ID = HRSC
INSTRUMENT_NAME = "HIGH RESOLUTION STEREO CAMERA"
MISSION_NAME = "MARS EXPRESS"
MISSION_PHASE_NAME = ME_Phase_25
PROCESSING_LEVEL_ID = 3
PRODUCT_CREATION_TIME = 2016-10-27T09:57:31.000Z
PRODUCT_ID = "HA397_0000_ND3.JP2"
RELEASE_ID = 0106
REVISION_ID = 0000
/* QUALITY DATA ELEMENTS */
DATA_QUALITY_ID = 1
DATA_QUALITY_DESC = "Data calculated based on original SPICE kernels"
/* TIME DATA ELEMENTS */
SPACECRAFT_CLOCK_START_COUNT = "1/0278489517.07307"
SPACECRAFT_CLOCK_STOP_COUNT = "1/0278489792.16484"
START_TIME = 2012-02-28T06:12:48.385Z
STOP_TIME = 2012-02-28T06:15:34.386Z
/* ORBITAL DATA ELEMENTS */
ASCENDING_NODE_LONGITUDE = 18.83
MAXIMUM_RESOLUTION = 20.4
FOOTPRINT_POINT_LATITUDE = (10.7477,10.7688,10.7831,10.8018, 10.8233,10.8283,11.1479,11.5783,12.0151 ,12.2389,12.464,12.6841,12.9115,13.2531 ,13.6007,13.8397,14.0793,14.318,14.6683 ,14.9072,15.1551,15.5232,15.7711, 16.0256,16.4075,16.665,16.9247,17.1967, 17.5906,18.0009,18.416,18.6956,18.9862, 19.2813,19.5716,19.9993,20.2962,20.6001 ,21.0627,21.3717,21.6869,22.0042, 22.3268,22.655,22.9852,23.3225,23.6639, 24.0101,24.1676,24.1427,24.1267,24.1057 ,24.0894,24.0697,24.0558,24.0331, 23.8548,23.5109,22.9951,22.6621,22.3341 ,22.0098,21.6883,21.3743,21.0662, 20.7571,20.4587,20.1523,19.8618,19.4279 ,19.1421,18.8594,18.5812,18.3042, 18.0266,17.7527,17.482,17.0839,16.8185, 16.5577,16.1697,15.9192,15.669,15.4194, 15.172,14.9282,14.563,14.3246,14.0877, 13.7337,13.5018,13.1547,12.9277,12.5883 ,12.3641,12.1428,11.9216,11.4829,11.163 ,10.7477)
FOOTPRINT_POINT_LONGITUDE = (56.5747,56.1633,55.895,55.5556,55.1799 ,54.9404,54.9327,54.9229,54.9125, 54.9067,54.9007,54.8961,54.8904,54.8818 ,54.8733,54.8663,54.8596,54.8534, 54.8457,54.8402,54.8331,54.824,54.8176, 54.8106,54.8003,54.7936,54.7866,54.7779 ,54.7678,54.7557,54.7436,54.7354, 54.7259,54.7159,54.7072,54.6958,54.6868 ,54.6772,54.6623,54.6528,54.6428, 54.6328,54.6224,54.6117,54.6009,54.5896 ,54.5782,54.5664,54.8958,55.231,55.4816 ,55.843,56.121,56.5108,56.7892,57.2065, 57.3768,57.3531,57.3166,57.2947,57.2735 ,57.2529,57.2326,57.2137,57.196,57.1777 ,57.1615,57.1429,57.1281,57.1056, 57.0911,57.0767,57.0634,57.0498,57.0357 ,57.022,57.009,56.9907,56.978,56.9662, 56.9487,56.9389,56.9289,56.9183,56.9084 ,56.8987,56.884,56.875,56.8661,56.8528, 56.8443,56.8319,56.8238,56.812,56.8043, 56.7968,56.7894,56.7743,56.7651, 56.5747)
ORBIT_NUMBER = 10397
ORBITAL_ECCENTRICITY = 0.578
ORBITAL_INCLINATION = 86.89
ORBITAL_SEMIMAJOR_AXIS = 8854.88
PERIAPSIS_ALTITUDE = 338.39
PERIAPSIS_ARGUMENT_ANGLE = 343.21
PERIAPSIS_TIME = 2012-02-28T06:06:32.000Z
SPACECRAFT_ORIENTATION = (0.0,1.0,0.0)
^MEX_ORIENTATION_DESC = "MEX_ORIENTATION_DESC.TXT"
SPACECRAFT_POINTING_MODE = INERT
^MEX_POINTING_DESC = "MEX_POINTING_DESC.TXT"
RIGHT_ASCENSION = 251.784
DECLINATION = 2.973
OFFSET_ANGLE = -1e+32
SPACECRAFT_SOLAR_DISTANCE = 2.49113e+08
TARGET_NAME = MARS
/* CAMERA DATA ELEMENTS */
DETECTOR_TEMPERATURE = 18.9822
FOCAL_PLANE_TEMPERATURE = 9.3989
INST_CMPRS_NAME = "DISCRETE COSINE TRANSFORMATION (DCT)"
INST_CMPRS_RATIO = 5.83647
INST_CMPRS_QUALITY = 0
INST_CMPRS_QUANTZ_TBL_ID = 0
INSTRUMENT_TEMPERATURE = 12.6613
LENS_TEMPERATURE = 9.8067
MACROPIXEL_SIZE = 1
MISSING_FRAMES = 0
PIXEL_SUBSAMPLING_FLAG = N
SIGNAL_CHAIN_ID = 0
/* RADIOMETRIC DATA ELEMENTS */
BANDWIDTH = 177.0
CENTER_FILTER_WAVELENGTH = 677.5
RADIANCE_OFFSET = 1.46957
RADIANCE_SCALING_FACTOR = 0.0123329
REFLECTANCE_SCALING_FACTOR = 0.000406577
MEX:REFLECTANCE_OFFSET = 0.0484472
/* IMAGE OBJECT DEFINITIONS */
OBJECT = IMAGE
  INTERCHANGE_FORMAT = BINARY
  LINES = 31818
  LINE_SAMPLES = 6169
  SAMPLE_TYPE = UNSIGNED_INTEGER
  SAMPLE_BITS = 8
  BANDS = 1
  BAND_STORAGE_TYPE = BAND_SEQUENTIAL
  MAXIMUM = 255
  MEAN = 111.907
  MINIMUM = 1
  STANDARD_DEVIATION = 30.986
END_OBJECT = IMAGE
/* MAP OBJECT DEFINITIONS */
OBJECT = IMAGE_MAP_PROJECTION
  ^DATA_SET_MAP_PROJECTION_CATALOG= "DSMAP.CAT"
  A_AXIS_RADIUS = 3396.0
  B_AXIS_RADIUS = 3396.0
  C_AXIS_RADIUS = 3396.0
  CENTER_LATITUDE = 0.0
  CENTER_LONGITUDE = 56.0
  COORDINATE_SYSTEM_NAME = PLANETOGRAPHIC
  COORDINATE_SYSTEM_TYPE = "BODY-FIXED ROTATING"
  EASTERNMOST_LONGITUDE = 57.3768
  FIRST_STANDARD_PARALLEL = "N/A"
  LINE_FIRST_PIXEL = 1
  LINE_LAST_PIXEL = 31818
  LINE_PROJECTION_OFFSET = 57277.0
  MAP_PROJECTION_ROTATION = 0.0
  MAP_PROJECTION_TYPE = SINUSOIDAL
  MAP_RESOLUTION = 2370.85521546667
  MAP_SCALE = 0.025
  MAXIMUM_LATITUDE = 24.1676
  MINIMUM_LATITUDE = 10.7477
  POSITIVE_LONGITUDE_DIRECTION = EAST
  REFERENCE_LATITUDE = "N/A"
  REFERENCE_LONGITUDE = "N/A"
  SAMPLE_FIRST_PIXEL = 1
  SAMPLE_LAST_PIXEL = 6169
  SAMPLE_PROJECTION_OFFSET = 3123.0
  SECOND_STANDARD_PARALLEL = "N/A"
  WESTERNMOST_LONGITUDE = 54.5664
END_OBJECT = IMAGE_MAP_PROJECTION
/* The JPEG2000 image data file associated with this label. */
OBJECT = COMPRESSED_FILE
  FILE_NAME = "HA397_0000_ND3.JP2"
  RECORD_TYPE = UNDEFINED
  FILE_RECORDS = UNK
  ENCODING_TYPE = "JP2"
  INTERCHANGE_FORMAT = BINARY
  UNCOMPRESSED_FILE_NAME = "HA397_0000_ND3.IMG"
  REQUIRED_STORAGE_BYTES = "196316087"
  ^DESCRIPTION = "JP2INFO.TXT"
END_OBJECT = COMPRESSED_FILE
END
