PDS_VERSION_ID = PDS3
/* FILE DATA ELEMENTS */
RECORD_TYPE = STREAM
/* POINTERS TO DATA OBJECTS */
^COMPRESSED_FILE = "HA397_0000_S13.JP2"
/* IDENTIFICATION DATA ELEMENTS */
DATA_SET_ID = "MEX-M-HRSC-5-REFDR-MAPPROJECTED-V3.0"
DATA_SET_NAME = "MARS EXPRESS HRSC MAP PROJECTED REFDR V3.0"
DETECTOR_ID = MEX_HRSC_S1
EVENT_TYPE = "MARS-REGIONAL-MAPPING-Im-Fl"
INSTRUMENT_HOST_ID = MEX
INSTRUMENT_HOST_NAME = "MARS EXPRESS"
INSTRUMENT_ID = HRSC
INSTRUMENT_NAME = "HIGH RESOLUTION STEREO CAMERA"
MISSION_NAME = "MARS EXPRESS"
MISSION_PHASE_NAME = ME_Phase_25
PROCESSING_LEVEL_ID = 3
PRODUCT_CREATION_TIME = 2016-10-27T09:57:31.000Z
PRODUCT_ID = "HA397_0000_S13.JP2"
RELEASE_ID = 0106
REVISION_ID = 0000
/* QUALITY DATA ELEMENTS */
DATA_QUALITY_ID = 1
DATA_QUALITY_DESC = "Data calculated based on original SPICE kernels"
/* TIME DATA ELEMENTS */
SPACECRAFT_CLOCK_START_COUNT = "1/0278489517.07307"
SPACECRAFT_CLOCK_STOP_COUNT = "1/0278489792.16484"
START_TIME = 2012-02-28T06:13:28.496Z
STOP_TIME = 2012-02-28T06:16:33.863Z
/* ORBITAL DATA ELEMENTS */
ASCENDING_NODE_LONGITUDE = 18.83
MAXIMUM_RESOLUTION = 39.2
FOOTPRINT_POINT_LATITUDE = (10.772,10.7861,10.8045,10.8185,10.8326 ,10.9488,11.3734,11.8053,12.2437, 12.5764,12.8005,13.026,13.3687,13.7155, 13.9514,14.3048,14.5425,14.7775,15.0199 ,15.2653,15.5112,15.76,16.0118,16.2656, 16.5206,16.7794,17.1729,17.4373,17.7061 ,17.9771,18.2514,18.5289,18.8104, 19.2414,19.5295,19.9623,20.2575,20.5594 ,20.8645,21.1724,21.4835,21.7987, 22.1174,22.4421,22.7713,23.1041,23.4422 ,23.7847,24.1795,24.1501,24.1311, 24.1028,24.0756,24.0556,23.7083,23.3655 ,23.0278,22.6942,22.3666,22.0436, 21.7246,21.4096,21.0974,20.7913,20.4882 ,20.1887,19.8944,19.6028,19.3155, 19.0307,18.7472,18.4683,18.191,17.9186, 17.6483,17.3805,17.1153,16.8503,16.591, 16.334,16.0827,15.8303,15.5787,15.3312, 15.0854,14.8438,14.6014,14.3641,14.1265 ,13.8926,13.6594,13.4286,13.1995, 12.9715,12.522,12.0809,11.6446,11.3214, 11.0035,10.772)
FOOTPRINT_POINT_LONGITUDE = (56.1896,55.9344,55.5995,55.3445, 55.0892,54.8601,54.8505,54.8406,54.83, 54.8216,54.8168,54.8113,54.803,54.7939, 54.7872,54.7784,54.7728,54.769,54.7631, 54.7563,54.7505,54.7443,54.7376,54.731, 54.7247,54.7181,54.7073,54.7004,54.6931 ,54.6856,54.6779,54.6702,54.6617, 54.6479,54.6396,54.6289,54.6208,54.6115 ,54.6023,54.5932,54.5841,54.5747, 54.5655,54.5555,54.5453,54.5353,54.5248 ,54.5142,54.812,55.2904,55.6241,56.125, 56.6261,56.9689,56.9509,56.9333,56.9164 ,56.8997,56.8843,56.8694,56.8547, 56.8405,56.8263,56.8135,56.8009,56.7886 ,56.7771,56.7658,56.7552,56.745,56.7336 ,56.7235,56.7134,56.704,56.6947,56.6859 ,56.6765,56.6665,56.6582,56.6502, 56.6443,56.6363,56.6282,56.6206,56.6138 ,56.6071,56.6001,56.5939,56.5875, 56.5813,56.5753,56.5693,56.5635,56.5578 ,56.5468,56.5367,56.5261,56.5193, 56.5123,56.1896)
ORBIT_NUMBER = 10397
ORBITAL_ECCENTRICITY = 0.578
ORBITAL_INCLINATION = 86.89
ORBITAL_SEMIMAJOR_AXIS = 8854.88
PERIAPSIS_ALTITUDE = 338.39
PERIAPSIS_ARGUMENT_ANGLE = 343.21
PERIAPSIS_TIME = 2012-02-28T06:06:32.000Z
SPACECRAFT_ORIENTATION = (0.0,1.0,0.0)
^MEX_ORIENTATION_DESC = "MEX_ORIENTATION_DESC.TXT"
SPACECRAFT_POINTING_MODE = INERT
^MEX_POINTING_DESC = "MEX_POINTING_DESC.TXT"
RIGHT_ASCENSION = 251.784
DECLINATION = 2.973
OFFSET_ANGLE = -1e+32
SPACECRAFT_SOLAR_DISTANCE = 2.49113e+08
TARGET_NAME = MARS
/* CAMERA DATA ELEMENTS */
DETECTOR_TEMPERATURE = 17.9627
FOCAL_PLANE_TEMPERATURE = 9.3989
INST_CMPRS_NAME = "DISCRETE COSINE TRANSFORMATION (DCT)"
INST_CMPRS_RATIO = 7.60778
INST_CMPRS_QUALITY = 0
INST_CMPRS_QUANTZ_TBL_ID = 0
INSTRUMENT_TEMPERATURE = 12.6613
LENS_TEMPERATURE = 9.8067
MACROPIXEL_SIZE = 2
MISSING_FRAMES = 0
PIXEL_SUBSAMPLING_FLAG = N
SIGNAL_CHAIN_ID = 1
/* RADIOMETRIC DATA ELEMENTS */
BANDWIDTH = 180.0
CENTER_FILTER_WAVELENGTH = 677.0
RADIANCE_OFFSET = 1.52991
RADIANCE_SCALING_FACTOR = 0.0117771
REFLECTANCE_SCALING_FACTOR = 0.000381307
MEX:REFLECTANCE_OFFSET = 0.049534
/* IMAGE OBJECT DEFINITIONS */
OBJECT = IMAGE
  INTERCHANGE_FORMAT = BINARY
  LINES = 15909
  LINE_SAMPLES = 3085
  SAMPLE_TYPE = UNSIGNED_INTEGER
  SAMPLE_BITS = 8
  BANDS = 1
  BAND_STORAGE_TYPE = BAND_SEQUENTIAL
  MAXIMUM = 255
  MEAN = 114.36
  MINIMUM = 1
  STANDARD_DEVIATION = 27.4705
END_OBJECT = IMAGE
/* MAP OBJECT DEFINITIONS */
OBJECT = IMAGE_MAP_PROJECTION
  ^DATA_SET_MAP_PROJECTION_CATALOG= "DSMAP.CAT"
  A_AXIS_RADIUS = 3396.0
  B_AXIS_RADIUS = 3396.0
  C_AXIS_RADIUS = 3396.0
  CENTER_LATITUDE = 0.0
  CENTER_LONGITUDE = 56.0
  COORDINATE_SYSTEM_NAME = PLANETOGRAPHIC
  COORDINATE_SYSTEM_TYPE = "BODY-FIXED ROTATING"
  EASTERNMOST_LONGITUDE = 56.9689
  FIRST_STANDARD_PARALLEL = "N/A"
  LINE_FIRST_PIXEL = 1
  LINE_LAST_PIXEL = 15909
  LINE_PROJECTION_OFFSET = 28638.25
  MAP_PROJECTION_ROTATION = 0.0
  MAP_PROJECTION_TYPE = SINUSOIDAL
  MAP_RESOLUTION = 1185.42760773333
  MAP_SCALE = 0.05
  MAXIMUM_LATITUDE = 24.1795
  MINIMUM_LATITUDE = 10.772
  POSITIVE_LONGITUDE_DIRECTION = EAST
  REFERENCE_LATITUDE = "N/A"
  REFERENCE_LONGITUDE = "N/A"
  SAMPLE_FIRST_PIXEL = 1
  SAMPLE_LAST_PIXEL = 3085
  SAMPLE_PROJECTION_OFFSET = 1561.25
  SECOND_STANDARD_PARALLEL = "N/A"
  WESTERNMOST_LONGITUDE = 54.5142
END_OBJECT = IMAGE_MAP_PROJECTION
/* The JPEG2000 image data file associated with this label. */
OBJECT = COMPRESSED_FILE
  FILE_NAME = "HA397_0000_S13.JP2"
  RECORD_TYPE = UNDEFINED
  FILE_RECORDS = UNK
  ENCODING_TYPE = "JP2"
  INTERCHANGE_FORMAT = BINARY
  UNCOMPRESSED_FILE_NAME = "HA397_0000_S13.IMG"
  REQUIRED_STORAGE_BYTES = "49100860"
  ^DESCRIPTION = "JP2INFO.TXT"
END_OBJECT = COMPRESSED_FILE
END
