PDS_VERSION_ID = PDS3
/* FILE DATA ELEMENTS */
RECORD_TYPE = STREAM
/* POINTERS TO DATA OBJECTS */
^COMPRESSED_FILE = "HA413_0000_P13.JP2"
/* IDENTIFICATION DATA ELEMENTS */
DATA_SET_ID = "MEX-M-HRSC-5-REFDR-MAPPROJECTED-V3.0"
DATA_SET_NAME = "MARS EXPRESS HRSC MAP PROJECTED REFDR V3.0"
DETECTOR_ID = MEX_HRSC_P1
EVENT_TYPE = "MARS-REGIONAL-MAPPING-Vo-Te-La"
INSTRUMENT_HOST_ID = MEX
INSTRUMENT_HOST_NAME = "MARS EXPRESS"
INSTRUMENT_ID = HRSC
INSTRUMENT_NAME = "HIGH RESOLUTION STEREO CAMERA"
MISSION_NAME = "MARS EXPRESS"
MISSION_PHASE_NAME = ME_Phase_25
PROCESSING_LEVEL_ID = 3
PRODUCT_CREATION_TIME = 2016-10-27T12:16:28.000Z
PRODUCT_ID = "HA413_0000_P13.JP2"
RELEASE_ID = 0107
REVISION_ID = 0000
/* QUALITY DATA ELEMENTS */
DATA_QUALITY_ID = 1
DATA_QUALITY_DESC = "Data calculated based on original SPICE kernels"
/* TIME DATA ELEMENTS */
SPACECRAFT_CLOCK_START_COUNT = "1/0278892150.09059"
SPACECRAFT_CLOCK_STOP_COUNT = "1/0278892402.32656"
START_TIME = 2012-03-03T22:03:25.279Z
STOP_TIME = 2012-03-03T22:06:29.580Z
/* ORBITAL DATA ELEMENTS */
ASCENDING_NODE_LONGITUDE = 18.53
MAXIMUM_RESOLUTION = 29
FOOTPRINT_POINT_LATITUDE = (-11.7517,-11.7532,-11.7552,-11.7576, -11.4455,-11.2384,-11.0315,-10.8249, -10.6185,-10.4121,-10.206,-9.89703, -9.69103,-9.48521,-9.28,-9.07494, -8.86999,-8.66514,-8.46044,-8.25598, -8.05088,-7.81181,-7.44791,-7.20186, -6.83919,-6.59716,-6.23489,-5.99414, -5.753,-5.51225,-5.27198,-5.0321, -4.79264,-4.43405,-4.07603,-3.83773, -3.60012,-3.24361,-3.00613,-2.76966, -2.41509,-2.17905,-1.93853,-1.69629, -1.45478,-1.21304,-0.97192,-0.725167, -0.478131,-0.324618,-0.320471,-0.317728 ,-0.314669,-0.313116,-0.55892,-0.804928 ,-1.16886,-1.41044,-1.65216,-1.89473, -2.13682,-2.37301,-2.60936,-2.84651, -3.08352,-3.32115,-3.5593,-3.79675, -4.03526,-4.27384,-4.51306,-4.87231, -5.11203,-5.35221,-5.59227,-5.83309, -6.07438,-6.3159,-6.55776,-6.80006, -7.04248,-7.41082,-7.65418,-7.8977, -8.3251,-8.63229,-8.83711,-9.04223, -9.24747,-9.4531,-9.6588,-9.86464, -10.0707,-10.3801,-10.5864,-10.793, -11.0,-11.2069,-11.414,-11.7517)
FOOTPRINT_POINT_LONGITUDE = (219.681,219.425,219.108,218.718, 218.541,218.538,218.536,218.534,218.531 ,218.529,218.526,218.522,218.519, 218.517,218.514,218.511,218.508,218.505 ,218.502,218.498,218.496,218.492, 218.486,218.481,218.474,218.47,218.463, 218.459,218.454,218.449,218.445,218.44, 218.435,218.427,218.419,218.414,218.409 ,218.4,218.395,218.389,218.381,218.375, 218.369,218.364,218.358,218.352,218.346 ,218.34,218.333,218.561,218.88,219.155, 219.531,219.827,219.825,219.823,219.821 ,219.82,219.819,219.818,219.817,219.816 ,219.815,219.814,219.813,219.812, 219.811,219.81,219.809,219.808,219.807, 219.806,219.806,219.805,219.804,219.803 ,219.803,219.802,219.802,219.802, 219.801,219.801,219.801,219.801,219.8, 219.8,219.8,219.8,219.8,219.8,219.8, 219.8,219.8,219.801,219.801,219.801, 219.801,219.801,219.801,219.681)
ORBIT_NUMBER = 10413
ORBITAL_ECCENTRICITY = 0.578
ORBITAL_INCLINATION = 86.89
ORBITAL_SEMIMAJOR_AXIS = 8849.1
PERIAPSIS_ALTITUDE = 337.43
PERIAPSIS_ARGUMENT_ANGLE = 340.4
PERIAPSIS_TIME = 2012-03-03T22:01:05.000Z
SPACECRAFT_ORIENTATION = (0.0,1.0,0.0)
^MEX_ORIENTATION_DESC = "MEX_ORIENTATION_DESC.TXT"
SPACECRAFT_POINTING_MODE = NADIR
^MEX_POINTING_DESC = "MEX_POINTING_DESC.TXT"
RIGHT_ASCENSION = -1e+32
DECLINATION = -1e+32
OFFSET_ANGLE = -1e+32
SPACECRAFT_SOLAR_DISTANCE = 2.49011e+08
TARGET_NAME = MARS
/* CAMERA DATA ELEMENTS */
DETECTOR_TEMPERATURE = 17.9627
FOCAL_PLANE_TEMPERATURE = 9.8067
INST_CMPRS_NAME = "DISCRETE COSINE TRANSFORMATION (DCT)"
INST_CMPRS_RATIO = 8.11655
INST_CMPRS_QUALITY = 0
INST_CMPRS_QUANTZ_TBL_ID = 0
INSTRUMENT_TEMPERATURE = 13.0691
LENS_TEMPERATURE = 8.7872
MACROPIXEL_SIZE = 2
MISSING_FRAMES = 1
PIXEL_SUBSAMPLING_FLAG = N
SIGNAL_CHAIN_ID = 3
/* RADIOMETRIC DATA ELEMENTS */
BANDWIDTH = 174.0
CENTER_FILTER_WAVELENGTH = 675.0
RADIANCE_OFFSET = 0.768861
RADIANCE_SCALING_FACTOR = 0.0103645
REFLECTANCE_SCALING_FACTOR = 0.00034568
MEX:REFLECTANCE_OFFSET = 0.0256432
/* IMAGE OBJECT DEFINITIONS */
OBJECT = IMAGE
  INTERCHANGE_FORMAT = BINARY
  LINES = 27148
  LINE_SAMPLES = 3608
  SAMPLE_TYPE = UNSIGNED_INTEGER
  SAMPLE_BITS = 8
  BANDS = 1
  BAND_STORAGE_TYPE = BAND_SEQUENTIAL
  MAXIMUM = 255
  MEAN = 89.1946
  MINIMUM = 1
  STANDARD_DEVIATION = 24.0392
END_OBJECT = IMAGE
/* MAP OBJECT DEFINITIONS */
OBJECT = IMAGE_MAP_PROJECTION
  ^DATA_SET_MAP_PROJECTION_CATALOG= "DSMAP.CAT"
  A_AXIS_RADIUS = 3396.0
  B_AXIS_RADIUS = 3396.0
  C_AXIS_RADIUS = 3396.0
  CENTER_LATITUDE = 0.0
  CENTER_LONGITUDE = 219.0
  COORDINATE_SYSTEM_NAME = PLANETOGRAPHIC
  COORDINATE_SYSTEM_TYPE = "BODY-FIXED ROTATING"
  EASTERNMOST_LONGITUDE = 219.827
  FIRST_STANDARD_PARALLEL = "N/A"
  LINE_FIRST_PIXEL = 1
  LINE_LAST_PIXEL = 27148
  LINE_PROJECTION_OFFSET = -735.75
  MAP_PROJECTION_ROTATION = 0.0
  MAP_PROJECTION_TYPE = SINUSOIDAL
  MAP_RESOLUTION = 2370.85521546667
  MAP_SCALE = 0.025
  MAXIMUM_LATITUDE = -0.313116
  MINIMUM_LATITUDE = -11.7576
  POSITIVE_LONGITUDE_DIRECTION = EAST
  REFERENCE_LATITUDE = "N/A"
  REFERENCE_LONGITUDE = "N/A"
  SAMPLE_FIRST_PIXEL = 1
  SAMPLE_LAST_PIXEL = 3608
  SAMPLE_PROJECTION_OFFSET = 1617.25
  SECOND_STANDARD_PARALLEL = "N/A"
  WESTERNMOST_LONGITUDE = 218.333
END_OBJECT = IMAGE_MAP_PROJECTION
/* The JPEG2000 image data file associated with this label. */
OBJECT = COMPRESSED_FILE
  FILE_NAME = "HA413_0000_P13.JP2"
  RECORD_TYPE = UNDEFINED
  FILE_RECORDS = UNK
  ENCODING_TYPE = "JP2"
  INTERCHANGE_FORMAT = BINARY
  UNCOMPRESSED_FILE_NAME = "HA413_0000_P13.IMG"
  REQUIRED_STORAGE_BYTES = "97971632"
  ^DESCRIPTION = "JP2INFO.TXT"
END_OBJECT = COMPRESSED_FILE
END
