PDS_VERSION_ID = PDS3
/* FILE DATA ELEMENTS */
RECORD_TYPE = STREAM
/* POINTERS TO DATA OBJECTS */
^COMPRESSED_FILE = "HA414_0000_S23.JP2"
/* IDENTIFICATION DATA ELEMENTS */
DATA_SET_ID = "MEX-M-HRSC-5-REFDR-MAPPROJECTED-V3.0"
DATA_SET_NAME = "MARS EXPRESS HRSC MAP PROJECTED REFDR V3.0"
DETECTOR_ID = MEX_HRSC_S2
EVENT_TYPE = "MARS-REGIONAL-MAPPING-Vo-Im-Lc"
INSTRUMENT_HOST_ID = MEX
INSTRUMENT_HOST_NAME = "MARS EXPRESS"
INSTRUMENT_ID = HRSC
INSTRUMENT_NAME = "HIGH RESOLUTION STEREO CAMERA"
MISSION_NAME = "MARS EXPRESS"
MISSION_PHASE_NAME = ME_Phase_25
PROCESSING_LEVEL_ID = 3
PRODUCT_CREATION_TIME = 2016-10-27T12:16:28.000Z
PRODUCT_ID = "HA414_0000_S23.JP2"
RELEASE_ID = 0107
REVISION_ID = 0000
/* QUALITY DATA ELEMENTS */
DATA_QUALITY_ID = 1
DATA_QUALITY_DESC = "Data calculated based on original SPICE kernels"
/* TIME DATA ELEMENTS */
SPACECRAFT_CLOCK_START_COUNT = "1/0278917658.09054"
SPACECRAFT_CLOCK_STOP_COUNT = "1/0278917989.08873"
START_TIME = 2012-03-04T05:07:41.655Z
STOP_TIME = 2012-03-04T05:10:38.302Z
/* ORBITAL DATA ELEMENTS */
ASCENDING_NODE_LONGITUDE = 18.5
MAXIMUM_RESOLUTION = 20.7
FOOTPRINT_POINT_LATITUDE = (9.35719,9.35274,9.34853,9.34559, 9.34295,9.45197,9.95169,10.1519,10.3566 ,10.5593,10.7625,10.9652,11.2751, 11.4819,11.6882,11.8965,12.1083,12.3184 ,12.5288,12.7419,12.9567,13.1714, 13.3855,13.6033,13.8214,14.0396,14.2597 ,14.4813,14.7033,15.038,15.2641,15.6034 ,15.8321,16.0609,16.2902,16.6394, 16.8725,17.2256,17.4624,17.819,18.0592, 18.2993,18.6644,18.9081,19.2787,19.526, 19.9007,20.1514,20.4048,20.5573,20.5623 ,20.5661,20.5705,20.5734,20.5775, 20.5822,20.3275,20.0757,19.8248,19.5749 ,19.3275,18.9568,18.7128,18.3474, 18.1072,17.8667,17.6278,17.3909,17.0358 ,16.8031,16.57,16.3371,16.1073,15.7645, 15.5461,15.315,15.084,14.8601,14.6386, 14.4154,14.0839,13.867,13.5402,13.3224, 13.107,12.8928,12.6779,12.4661,12.2552, 12.0448,11.8334,11.5233,11.3152,11.1088 ,10.8024,10.5992,10.3956,10.0908, 9.59228,9.35719)
FOOTPRINT_POINT_LONGITUDE = (117.322,116.999,116.659,116.387, 116.115,115.776,115.758,115.751,115.743 ,115.736,115.728,115.721,115.709, 115.702,115.694,115.686,115.678,115.67, 115.662,115.654,115.645,115.637,115.628 ,115.619,115.611,115.602,115.593, 115.584,115.574,115.56,115.551,115.536, 115.526,115.516,115.506,115.491,115.48, 115.464,115.454,115.437,115.426,115.415 ,115.398,115.386,115.369,115.357, 115.338,115.326,115.314,115.542,116.014 ,116.343,116.72,116.956,117.286,117.699 ,117.693,117.687,117.681,117.675,117.67 ,117.661,117.656,117.648,117.643, 117.638,117.634,117.629,117.622,117.618 ,117.613,117.609,117.605,117.599, 117.598,117.593,117.588,117.584,117.581 ,117.577,117.572,117.569,117.564, 117.561,117.558,117.555,117.552,117.549 ,117.546,117.544,117.541,117.537, 117.534,117.532,117.529,117.526,117.524 ,117.52,117.515,117.322)
ORBIT_NUMBER = 10414
ORBITAL_ECCENTRICITY = 0.578
ORBITAL_INCLINATION = 86.87
ORBITAL_SEMIMAJOR_AXIS = 8851.26
PERIAPSIS_ALTITUDE = 337.49
PERIAPSIS_ARGUMENT_ANGLE = 340.24
PERIAPSIS_TIME = 2012-03-04T05:00:49.000Z
SPACECRAFT_ORIENTATION = (0.0,1.0,0.0)
^MEX_ORIENTATION_DESC = "MEX_ORIENTATION_DESC.TXT"
SPACECRAFT_POINTING_MODE = NADIR
^MEX_POINTING_DESC = "MEX_POINTING_DESC.TXT"
RIGHT_ASCENSION = -1e+32
DECLINATION = -1e+32
OFFSET_ANGLE = -1e+32
SPACECRAFT_SOLAR_DISTANCE = 2.49004e+08
TARGET_NAME = MARS
/* CAMERA DATA ELEMENTS */
DETECTOR_TEMPERATURE = 19.39
FOCAL_PLANE_TEMPERATURE = 9.3989
INST_CMPRS_NAME = "DISCRETE COSINE TRANSFORMATION (DCT)"
INST_CMPRS_RATIO = 7.52979
INST_CMPRS_QUALITY = 0
INST_CMPRS_QUANTZ_TBL_ID = 0
INSTRUMENT_TEMPERATURE = 12.6613
LENS_TEMPERATURE = 10.4184
MACROPIXEL_SIZE = 1
MISSING_FRAMES = 0
PIXEL_SUBSAMPLING_FLAG = N
SIGNAL_CHAIN_ID = 1
/* RADIOMETRIC DATA ELEMENTS */
BANDWIDTH = 178.0
CENTER_FILTER_WAVELENGTH = 679.0
RADIANCE_OFFSET = 1.78801
RADIANCE_SCALING_FACTOR = 0.0107874
REFLECTANCE_SCALING_FACTOR = 0.000354207
MEX:REFLECTANCE_OFFSET = 0.0587098
/* IMAGE OBJECT DEFINITIONS */
OBJECT = IMAGE
  INTERCHANGE_FORMAT = BINARY
  LINES = 26572
  LINE_SAMPLES = 5915
  SAMPLE_TYPE = UNSIGNED_INTEGER
  SAMPLE_BITS = 8
  BANDS = 1
  BAND_STORAGE_TYPE = BAND_SEQUENTIAL
  MAXIMUM = 255
  MEAN = 110.237
  MINIMUM = 1
  STANDARD_DEVIATION = 29.5446
END_OBJECT = IMAGE
/* MAP OBJECT DEFINITIONS */
OBJECT = IMAGE_MAP_PROJECTION
  ^DATA_SET_MAP_PROJECTION_CATALOG= "DSMAP.CAT"
  A_AXIS_RADIUS = 3396.0
  B_AXIS_RADIUS = 3396.0
  C_AXIS_RADIUS = 3396.0
  CENTER_LATITUDE = 0.0
  CENTER_LONGITUDE = 117.0
  COORDINATE_SYSTEM_NAME = PLANETOGRAPHIC
  COORDINATE_SYSTEM_TYPE = "BODY-FIXED ROTATING"
  EASTERNMOST_LONGITUDE = 117.699
  FIRST_STANDARD_PARALLEL = "N/A"
  LINE_FIRST_PIXEL = 1
  LINE_LAST_PIXEL = 26572
  LINE_PROJECTION_OFFSET = 48712.0
  MAP_PROJECTION_ROTATION = 0.0
  MAP_PROJECTION_TYPE = SINUSOIDAL
  MAP_RESOLUTION = 2370.85521546667
  MAP_SCALE = 0.025
  MAXIMUM_LATITUDE = 20.5822
  MINIMUM_LATITUDE = 9.34295
  POSITIVE_LONGITUDE_DIRECTION = EAST
  REFERENCE_LATITUDE = "N/A"
  REFERENCE_LONGITUDE = "N/A"
  SAMPLE_FIRST_PIXEL = 1
  SAMPLE_LAST_PIXEL = 5915
  SAMPLE_PROJECTION_OFFSET = 4046.0
  SECOND_STANDARD_PARALLEL = "N/A"
  WESTERNMOST_LONGITUDE = 115.314
END_OBJECT = IMAGE_MAP_PROJECTION
/* The JPEG2000 image data file associated with this label. */
OBJECT = COMPRESSED_FILE
  FILE_NAME = "HA414_0000_S23.JP2"
  RECORD_TYPE = UNDEFINED
  FILE_RECORDS = UNK
  ENCODING_TYPE = "JP2"
  INTERCHANGE_FORMAT = BINARY
  UNCOMPRESSED_FILE_NAME = "HA414_0000_S23.IMG"
  REQUIRED_STORAGE_BYTES = "157202955"
  ^DESCRIPTION = "JP2INFO.TXT"
END_OBJECT = COMPRESSED_FILE
END
