PDS_VERSION_ID = PDS3
/* FILE DATA ELEMENTS */
RECORD_TYPE = STREAM
/* POINTERS TO DATA OBJECTS */
^COMPRESSED_FILE = "HA416_0000_GR3.JP2"
/* IDENTIFICATION DATA ELEMENTS */
DATA_SET_ID = "MEX-M-HRSC-5-REFDR-MAPPROJECTED-V3.0"
DATA_SET_NAME = "MARS EXPRESS HRSC MAP PROJECTED REFDR V3.0"
DETECTOR_ID = MEX_HRSC_GREEN
EVENT_TYPE = "MARS-REGIONAL-MAPPING-Vo"
INSTRUMENT_HOST_ID = MEX
INSTRUMENT_HOST_NAME = "MARS EXPRESS"
INSTRUMENT_ID = HRSC
INSTRUMENT_NAME = "HIGH RESOLUTION STEREO CAMERA"
MISSION_NAME = "MARS EXPRESS"
MISSION_PHASE_NAME = ME_Phase_25
PROCESSING_LEVEL_ID = 3
PRODUCT_CREATION_TIME = 2016-10-27T12:16:28.000Z
PRODUCT_ID = "HA416_0000_GR3.JP2"
RELEASE_ID = 0107
REVISION_ID = 0000
/* QUALITY DATA ELEMENTS */
DATA_QUALITY_ID = 1
DATA_QUALITY_DESC = "Data calculated based on original SPICE kernels"
/* TIME DATA ELEMENTS */
SPACECRAFT_CLOCK_START_COUNT = "1/0278967825.07300"
SPACECRAFT_CLOCK_STOP_COUNT = "1/0278968140.44536"
START_TIME = 2012-03-04T19:04:29.879Z
STOP_TIME = 2012-03-04T19:08:13.896Z
/* ORBITAL DATA ELEMENTS */
ASCENDING_NODE_LONGITUDE = 18.46
MAXIMUM_RESOLUTION = 124.4
FOOTPRINT_POINT_LATITUDE = (-3.96503,-3.97236,-3.9798,-3.73059, -3.48493,-3.23948,-2.99432,-2.74944, -2.26074,-2.01165,-1.76122,-1.51105, -1.26112,-1.01153,-0.629456,-0.374065, -0.118948,0.135811,0.524938,0.78536, 1.04543,1.3051,1.57065,1.96872,2.23361, 2.50198,2.77238,3.04244,3.31213,3.58728 ,3.86248,4.13726,4.55534,4.83524, 5.11461,5.39888,5.68361,5.9679,6.25732, 6.69148,6.98371,7.27811,7.57197,7.87085 ,8.31899,8.77382,9.077,9.38529,9.6213, 9.63054,9.63715,9.64335,9.65377,9.3455, 9.03828,8.7345,8.28028,7.98112,7.53349, 7.23901,6.79779,6.50814,6.21797,5.92967 ,5.64475,5.3594,5.07619,4.79619,4.51569 ,4.23605,3.961,3.6855,3.27372,3.00353, 2.73295,2.32748,2.06233,1.79687,1.53097 ,1.26658,1.00644,0.745888,0.484987, 0.224492,-0.0304523,-0.285753,-0.541425 ,-0.797423,-1.17529,-1.42547,-1.67596, -1.92657,-2.1774,-2.66676,-2.91179, -3.15714,-3.40277,-3.64872,-3.89502, -3.96503)
FOOTPRINT_POINT_LONGITUDE = (271.368,270.949,270.52,270.289,270.284 ,270.279,270.273,270.268,270.255, 270.248,270.242,270.236,270.23,270.224, 270.215,270.208,270.202,270.196,270.185 ,270.178,270.171,270.164,270.156, 270.144,270.136,270.128,270.12,270.111, 270.102,270.094,270.085,270.076,270.061 ,270.051,270.041,270.031,270.02,270.01, 270.0,269.984,269.974,269.962,269.951, 269.939,269.922,269.904,269.891,269.879 ,270.158,270.537,270.822,271.104, 271.608,271.755,271.752,271.749,271.745 ,271.742,271.739,271.736,271.733,271.73 ,271.728,271.726,271.724,271.722,271.72 ,271.719,271.717,271.715,271.714, 271.712,271.71,271.708,271.707,271.705, 271.703,271.702,271.701,271.7,271.699, 271.697,271.696,271.695,271.694,271.693 ,271.692,271.691,271.69,271.689,271.688 ,271.687,271.686,271.685,271.685, 271.684,271.683,271.683,271.682, 271.368)
ORBIT_NUMBER = 10416
ORBITAL_ECCENTRICITY = 0.579
ORBITAL_INCLINATION = 86.87
ORBITAL_SEMIMAJOR_AXIS = 8855.27
PERIAPSIS_ALTITUDE = 337.36
PERIAPSIS_ARGUMENT_ANGLE = 339.91
PERIAPSIS_TIME = 2012-03-04T19:00:15.000Z
SPACECRAFT_ORIENTATION = (0.0,1.0,0.0)
^MEX_ORIENTATION_DESC = "MEX_ORIENTATION_DESC.TXT"
SPACECRAFT_POINTING_MODE = ACROSSTRACK
^MEX_POINTING_DESC = "MEX_POINTING_DESC.TXT"
RIGHT_ASCENSION = -1e+32
DECLINATION = -1e+32
OFFSET_ANGLE = 1.2
SPACECRAFT_SOLAR_DISTANCE = 2.48989e+08
TARGET_NAME = MARS
/* CAMERA DATA ELEMENTS */
DETECTOR_TEMPERATURE = 18.9822
FOCAL_PLANE_TEMPERATURE = 10.0106
INST_CMPRS_NAME = "DISCRETE COSINE TRANSFORMATION (DCT)"
INST_CMPRS_RATIO = 23.1492
INST_CMPRS_QUALITY = 0
INST_CMPRS_QUANTZ_TBL_ID = 0
INSTRUMENT_TEMPERATURE = 12.4574
LENS_TEMPERATURE = 10.2145
MACROPIXEL_SIZE = 8
MISSING_FRAMES = 0
PIXEL_SUBSAMPLING_FLAG = N
SIGNAL_CHAIN_ID = 2
/* RADIOMETRIC DATA ELEMENTS */
BANDWIDTH = 88.0
CENTER_FILTER_WAVELENGTH = 538.0
RADIANCE_OFFSET = 0.437829
RADIANCE_SCALING_FACTOR = 0.00429244
REFLECTANCE_SCALING_FACTOR = 0.000229114
MEX:REFLECTANCE_OFFSET = 0.0233696
/* IMAGE OBJECT DEFINITIONS */
OBJECT = IMAGE
  INTERCHANGE_FORMAT = BINARY
  LINES = 8065
  LINE_SAMPLES = 1170
  SAMPLE_TYPE = UNSIGNED_INTEGER
  SAMPLE_BITS = 8
  BANDS = 1
  BAND_STORAGE_TYPE = BAND_SEQUENTIAL
  MAXIMUM = 255
  MEAN = 138.855
  MINIMUM = 1
  STANDARD_DEVIATION = 39.9812
END_OBJECT = IMAGE
/* MAP OBJECT DEFINITIONS */
OBJECT = IMAGE_MAP_PROJECTION
  ^DATA_SET_MAP_PROJECTION_CATALOG= "DSMAP.CAT"
  A_AXIS_RADIUS = 3396.0
  B_AXIS_RADIUS = 3396.0
  C_AXIS_RADIUS = 3396.0
  CENTER_LATITUDE = 0.0
  CENTER_LONGITUDE = 271.0
  COORDINATE_SYSTEM_NAME = PLANETOGRAPHIC
  COORDINATE_SYSTEM_TYPE = "BODY-FIXED ROTATING"
  EASTERNMOST_LONGITUDE = 271.755
  FIRST_STANDARD_PARALLEL = "N/A"
  LINE_FIRST_PIXEL = 1
  LINE_LAST_PIXEL = 8065
  LINE_PROJECTION_OFFSET = 5715.6875
  MAP_PROJECTION_ROTATION = 0.0
  MAP_PROJECTION_TYPE = SINUSOIDAL
  MAP_RESOLUTION = 592.713803866667
  MAP_SCALE = 0.1
  MAXIMUM_LATITUDE = 9.65377
  MINIMUM_LATITUDE = -3.9798
  POSITIVE_LONGITUDE_DIRECTION = EAST
  REFERENCE_LATITUDE = "N/A"
  REFERENCE_LONGITUDE = "N/A"
  SAMPLE_FIRST_PIXEL = 1
  SAMPLE_LAST_PIXEL = 1170
  SAMPLE_PROJECTION_OFFSET = 733.0625
  SECOND_STANDARD_PARALLEL = "N/A"
  WESTERNMOST_LONGITUDE = 269.879
END_OBJECT = IMAGE_MAP_PROJECTION
/* The JPEG2000 image data file associated with this label. */
OBJECT = COMPRESSED_FILE
  FILE_NAME = "HA416_0000_GR3.JP2"
  RECORD_TYPE = UNDEFINED
  FILE_RECORDS = UNK
  ENCODING_TYPE = "JP2"
  INTERCHANGE_FORMAT = BINARY
  UNCOMPRESSED_FILE_NAME = "HA416_0000_GR3.IMG"
  REQUIRED_STORAGE_BYTES = "9453600"
  ^DESCRIPTION = "JP2INFO.TXT"
END_OBJECT = COMPRESSED_FILE
END
