PDS_VERSION_ID = PDS3
/* FILE DATA ELEMENTS */
RECORD_TYPE = STREAM
/* POINTERS TO DATA OBJECTS */
^COMPRESSED_FILE = "HA433_0000_ND3.JP2"
/* IDENTIFICATION DATA ELEMENTS */
DATA_SET_ID = "MEX-M-HRSC-5-REFDR-MAPPROJECTED-V3.0"
DATA_SET_NAME = "MARS EXPRESS HRSC MAP PROJECTED REFDR V3.0"
DETECTOR_ID = MEX_HRSC_NADIR
EVENT_TYPE = "MARS-CLOUD-VARIABLE-At"
INSTRUMENT_HOST_ID = MEX
INSTRUMENT_HOST_NAME = "MARS EXPRESS"
INSTRUMENT_ID = HRSC
INSTRUMENT_NAME = "HIGH RESOLUTION STEREO CAMERA"
MISSION_NAME = "MARS EXPRESS"
MISSION_PHASE_NAME = ME_Phase_25
PROCESSING_LEVEL_ID = 3
PRODUCT_CREATION_TIME = 2016-10-27T12:16:28.000Z
PRODUCT_ID = "HA433_0000_ND3.JP2"
RELEASE_ID = 0107
REVISION_ID = 0000
/* QUALITY DATA ELEMENTS */
DATA_QUALITY_ID = 1
DATA_QUALITY_DESC = "Data calculated based on original SPICE kernels"
/* TIME DATA ELEMENTS */
SPACECRAFT_CLOCK_START_COUNT = "1/0279395700.08257"
SPACECRAFT_CLOCK_STOP_COUNT = "1/0279396438.46634"
START_TIME = 2012-03-09T17:55:33.819Z
STOP_TIME = 2012-03-09T18:05:50.798Z
/* ORBITAL DATA ELEMENTS */
ASCENDING_NODE_LONGITUDE = 18.15
MAXIMUM_RESOLUTION = 54.6
FOOTPRINT_POINT_LATITUDE = (-19.2022,-18.4075,-17.6051,-16.8035, -16.0027,-15.2028,-14.404,-13.6064, -12.8101,-12.0151,-11.2215,-10.4299, -9.63981,-8.85146,-8.06496,-7.28065, -6.4985,-5.71852,-4.94087,-4.16553, -3.39277,-2.62265,-1.85527,-1.09053, -0.328648,0.430413,1.18641,1.93935, 2.6892,3.43591,4.17914,4.91918,5.65582, 6.38887,7.11856,7.84466,8.56716,9.28599 ,10.0011,10.7125,11.42,12.1238,12.8236, 13.5195,14.2115,14.8995,15.5835,16.2635 ,17.6114,18.3278,18.3457,18.3521, 17.0119,15.6552,14.9708,14.2824,13.59, 12.8936,12.1935,11.4893,10.7812,10.0695 ,9.35384,8.63447,7.91147,7.18484, 6.45461,5.72112,4.98391,4.24332,3.49954 ,2.75253,2.00202,1.24865,0.49196, -0.267609,-1.03007,-1.79536,-2.56339, -3.33392,-4.10726,-4.88298,-5.66131, -6.44189,-7.22468,-8.00955,-8.79653, -9.58531,-10.376,-11.1683,-11.9623, -12.7579,-13.5548,-14.353,-15.1523, -15.9529,-16.7543,-17.5567,-18.3596, -19.2022)
FOOTPRINT_POINT_LONGITUDE = (333.533,332.688,332.687,332.684,332.68 ,332.675,332.67,332.664,332.656,332.647 ,332.634,332.628,332.616,332.602, 332.585,332.572,332.558,332.542,332.526 ,332.506,332.488,332.471,332.454, 332.434,332.413,332.39,332.368,332.345, 332.32,332.293,332.271,332.244,332.217, 332.193,332.164,332.135,332.105,332.074 ,332.044,332.012,331.98,331.946,331.914 ,331.881,331.847,331.813,331.777, 331.741,331.666,332.161,333.429,334.243 ,334.206,334.172,334.156,334.141, 334.127,334.113,334.102,334.09,334.077, 334.067,334.055,334.044,334.034,334.025 ,334.015,334.01,334.001,333.993,333.988 ,333.984,333.976,333.973,333.965,333.96 ,333.956,333.953,333.949,333.949, 333.946,333.945,333.941,333.939,333.936 ,333.935,333.933,333.934,333.933, 333.934,333.934,333.935,333.935,333.936 ,333.939,333.94,333.941,333.942,333.945 ,333.533)
ORBIT_NUMBER = 10433
ORBITAL_ECCENTRICITY = 0.578
ORBITAL_INCLINATION = 86.89
ORBITAL_SEMIMAJOR_AXIS = 8840.26
PERIAPSIS_ALTITUDE = 336.81
PERIAPSIS_ARGUMENT_ANGLE = 336.97
PERIAPSIS_TIME = 2012-03-09T17:54:36.000Z
SPACECRAFT_ORIENTATION = (0.0,1.0,0.0)
^MEX_ORIENTATION_DESC = "MEX_ORIENTATION_DESC.TXT"
SPACECRAFT_POINTING_MODE = NADIR
^MEX_POINTING_DESC = "MEX_POINTING_DESC.TXT"
RIGHT_ASCENSION = -1e+32
DECLINATION = -1e+32
OFFSET_ANGLE = -1e+32
SPACECRAFT_SOLAR_DISTANCE = 2.48839e+08
TARGET_NAME = MARS
/* CAMERA DATA ELEMENTS */
DETECTOR_TEMPERATURE = 18.9822
FOCAL_PLANE_TEMPERATURE = 9.195
INST_CMPRS_NAME = "DISCRETE COSINE TRANSFORMATION (DCT)"
INST_CMPRS_RATIO = 14.1991
INST_CMPRS_QUALITY = 0
INST_CMPRS_QUANTZ_TBL_ID = 0
INSTRUMENT_TEMPERATURE = 12.4574
LENS_TEMPERATURE = 9.6028
MACROPIXEL_SIZE = 4
MISSING_FRAMES = 0
PIXEL_SUBSAMPLING_FLAG = N
SIGNAL_CHAIN_ID = 0
/* RADIOMETRIC DATA ELEMENTS */
BANDWIDTH = 177.0
CENTER_FILTER_WAVELENGTH = 677.5
RADIANCE_OFFSET = 0.158931
RADIANCE_SCALING_FACTOR = 0.0178668
REFLECTANCE_SCALING_FACTOR = 0.000587714
MEX:REFLECTANCE_OFFSET = 0.00522792
/* IMAGE OBJECT DEFINITIONS */
OBJECT = IMAGE
  INTERCHANGE_FORMAT = BINARY
  LINES = 44519
  LINE_SAMPLES = 3001
  SAMPLE_TYPE = UNSIGNED_INTEGER
  SAMPLE_BITS = 8
  BANDS = 1
  BAND_STORAGE_TYPE = BAND_SEQUENTIAL
  MAXIMUM = 255
  MEAN = 97.3569
  MINIMUM = 1
  STANDARD_DEVIATION = 52.5127
END_OBJECT = IMAGE
/* MAP OBJECT DEFINITIONS */
OBJECT = IMAGE_MAP_PROJECTION
  ^DATA_SET_MAP_PROJECTION_CATALOG= "DSMAP.CAT"
  A_AXIS_RADIUS = 3396.0
  B_AXIS_RADIUS = 3396.0
  C_AXIS_RADIUS = 3396.0
  CENTER_LATITUDE = 0.0
  CENTER_LONGITUDE = 333.0
  COORDINATE_SYSTEM_NAME = PLANETOGRAPHIC
  COORDINATE_SYSTEM_TYPE = "BODY-FIXED ROTATING"
  EASTERNMOST_LONGITUDE = 334.243
  FIRST_STANDARD_PARALLEL = "N/A"
  LINE_FIRST_PIXEL = 1
  LINE_LAST_PIXEL = 44519
  LINE_PROJECTION_OFFSET = 21754.0
  MAP_PROJECTION_ROTATION = 0.0
  MAP_PROJECTION_TYPE = SINUSOIDAL
  MAP_RESOLUTION = 1185.42760773333
  MAP_SCALE = 0.05
  MAXIMUM_LATITUDE = 18.3521
  MINIMUM_LATITUDE = -19.2022
  POSITIVE_LONGITUDE_DIRECTION = EAST
  REFERENCE_LATITUDE = "N/A"
  REFERENCE_LONGITUDE = "N/A"
  SAMPLE_FIRST_PIXEL = 1
  SAMPLE_LAST_PIXEL = 3001
  SAMPLE_PROJECTION_OFFSET = 1568.0
  SECOND_STANDARD_PARALLEL = "N/A"
  WESTERNMOST_LONGITUDE = 331.666
END_OBJECT = IMAGE_MAP_PROJECTION
/* The JPEG2000 image data file associated with this label. */
OBJECT = COMPRESSED_FILE
  FILE_NAME = "HA433_0000_ND3.JP2"
  RECORD_TYPE = UNDEFINED
  FILE_RECORDS = UNK
  ENCODING_TYPE = "JP2"
  INTERCHANGE_FORMAT = BINARY
  UNCOMPRESSED_FILE_NAME = "HA433_0000_ND3.IMG"
  REQUIRED_STORAGE_BYTES = "133625527"
  ^DESCRIPTION = "JP2INFO.TXT"
END_OBJECT = COMPRESSED_FILE
END
