PDS_VERSION_ID = PDS3
/* FILE DATA ELEMENTS */
RECORD_TYPE = STREAM
/* POINTERS TO DATA OBJECTS */
^COMPRESSED_FILE = "HA443_0000_BL3.JP2"
/* IDENTIFICATION DATA ELEMENTS */
DATA_SET_ID = "MEX-M-HRSC-5-REFDR-MAPPROJECTED-V3.0"
DATA_SET_NAME = "MARS EXPRESS HRSC MAP PROJECTED REFDR V3.0"
DETECTOR_ID = MEX_HRSC_BLUE
EVENT_TYPE = "MARS-REGIONAL-MAPPING-Im-Fl-At"
INSTRUMENT_HOST_ID = MEX
INSTRUMENT_HOST_NAME = "MARS EXPRESS"
INSTRUMENT_ID = HRSC
INSTRUMENT_NAME = "HIGH RESOLUTION STEREO CAMERA"
MISSION_NAME = "MARS EXPRESS"
MISSION_PHASE_NAME = ME_Phase_25
PROCESSING_LEVEL_ID = 3
PRODUCT_CREATION_TIME = 2016-10-27T12:16:28.000Z
PRODUCT_ID = "HA443_0000_BL3.JP2"
RELEASE_ID = 0107
REVISION_ID = 0000
/* QUALITY DATA ELEMENTS */
DATA_QUALITY_ID = 1
DATA_QUALITY_DESC = "Data calculated based on original SPICE kernels"
/* TIME DATA ELEMENTS */
SPACECRAFT_CLOCK_START_COUNT = "1/0279647762.09053"
SPACECRAFT_CLOCK_STOP_COUNT = "1/0279648191.60459"
START_TIME = 2012-03-12T15:56:36.864Z
STOP_TIME = 2012-03-12T16:01:43.049Z
/* ORBITAL DATA ELEMENTS */
ASCENDING_NODE_LONGITUDE = 17.96
MAXIMUM_RESOLUTION = 66
FOOTPRINT_POINT_LATITUDE = (-4.92262,-4.9204,-4.91763,-4.91457, -4.45098,-4.13876,-3.82708,-3.51563, -3.197,-2.71938,-2.40143,-2.07628, -1.75121,-1.42701,-1.09743,-0.765872, -0.435093,-0.0993384,0.238282,0.575552, 1.09083,1.43392,1.78377,2.30891,2.66341 ,3.01804,3.55791,3.91988,4.47032, 4.83806,5.21257,5.77681,6.15629,6.53965 ,6.92527,7.31566,7.90557,8.30267, 8.70478,9.31484,9.72326,10.1377,10.5569 ,10.9772,11.6199,12.0502,12.4858, 12.9264,13.3709,13.5115,13.5193,13.5228 ,13.5262,13.5293,13.3053,12.8608, 12.4205,11.9836,11.5517,11.1254,10.7006 ,10.28,9.86486,9.24787,8.63859,8.03775, 7.64072,7.24839,6.66542,6.27954,5.89897 ,5.51918,5.14461,4.77053,4.40164, 4.03293,3.67061,3.12798,2.77105,2.41385 ,2.06345,1.71449,1.19518,0.850536, 0.506705,3.65876e-06,-0.33833,-0.669828 ,-1.00148,-1.33373,-1.65858,-1.98388, -2.47101,-2.78954,-3.10807,-3.58605, -3.89728,-4.2098,-4.52248,-4.92262)
FOOTPRINT_POINT_LONGITUDE = (29.5436,29.1085,28.6615,28.1615,28.152 ,28.1451,28.1387,28.1314,28.1244, 28.1131,28.1051,28.0971,28.088,28.0805, 28.0713,28.0613,28.0522,28.0426,28.0327 ,28.0217,28.0049,27.9954,27.9779, 27.9586,27.946,27.9397,27.9192,27.906, 27.8846,27.8716,27.8572,27.8339,27.8207 ,27.805,27.7893,27.7726,27.7478,27.731, 27.7133,27.6796,27.664,27.6448,27.6198, 27.6024,27.5605,27.5403,27.5213,27.497, 27.4726,27.8653,28.5257,28.8732,29.2171 ,29.5794,29.795,29.7892,29.7836,29.7783 ,29.773,29.7677,29.7632,29.7585,29.7541 ,29.7477,29.742,29.7363,29.7326,29.7292 ,29.7241,29.7207,29.7177,29.7147, 29.7118,29.7089,29.7065,29.7037,29.7011 ,29.6975,29.6955,29.6933,29.6914, 29.6876,29.6842,29.6823,29.6818,29.6788 ,29.6767,29.6751,29.6732,29.6714, 29.6697,29.6679,29.6655,29.6639,29.6618 ,29.6603,29.6578,29.6565,29.6549, 29.5436)
ORBIT_NUMBER = 10443
ORBITAL_ECCENTRICITY = 0.578
ORBITAL_INCLINATION = 86.87
ORBITAL_SEMIMAJOR_AXIS = 8845.04
PERIAPSIS_ALTITUDE = 336.29
PERIAPSIS_ARGUMENT_ANGLE = 335.26
PERIAPSIS_TIME = 2012-03-12T15:51:37.000Z
SPACECRAFT_ORIENTATION = (0.0,1.0,0.0)
^MEX_ORIENTATION_DESC = "MEX_ORIENTATION_DESC.TXT"
SPACECRAFT_POINTING_MODE = ACROSSTRACK
^MEX_POINTING_DESC = "MEX_POINTING_DESC.TXT"
RIGHT_ASCENSION = -1e+32
DECLINATION = -1e+32
OFFSET_ANGLE = 1.3
SPACECRAFT_SOLAR_DISTANCE = 2.48733e+08
TARGET_NAME = MARS
/* CAMERA DATA ELEMENTS */
DETECTOR_TEMPERATURE = 18.5744
FOCAL_PLANE_TEMPERATURE = 8.5833
INST_CMPRS_NAME = "DISCRETE COSINE TRANSFORMATION (DCT)"
INST_CMPRS_RATIO = 6.44229
INST_CMPRS_QUALITY = 0
INST_CMPRS_QUANTZ_TBL_ID = 0
INSTRUMENT_TEMPERATURE = 11.8457
LENS_TEMPERATURE = 8.5833
MACROPIXEL_SIZE = 4
MISSING_FRAMES = 0
PIXEL_SUBSAMPLING_FLAG = N
SIGNAL_CHAIN_ID = 2
/* RADIOMETRIC DATA ELEMENTS */
BANDWIDTH = 76.0
CENTER_FILTER_WAVELENGTH = 444.0
RADIANCE_OFFSET = 0.21041
RADIANCE_SCALING_FACTOR = 0.00212702
REFLECTANCE_SCALING_FACTOR = 0.000135205
MEX:REFLECTANCE_OFFSET = 0.0133749
/* IMAGE OBJECT DEFINITIONS */
OBJECT = IMAGE
  INTERCHANGE_FORMAT = BINARY
  LINES = 21875
  LINE_SAMPLES = 2829
  SAMPLE_TYPE = UNSIGNED_INTEGER
  SAMPLE_BITS = 8
  BANDS = 1
  BAND_STORAGE_TYPE = BAND_SEQUENTIAL
  MAXIMUM = 255
  MEAN = 119.341
  MINIMUM = 1
  STANDARD_DEVIATION = 30.3309
END_OBJECT = IMAGE
/* MAP OBJECT DEFINITIONS */
OBJECT = IMAGE_MAP_PROJECTION
  ^DATA_SET_MAP_PROJECTION_CATALOG= "DSMAP.CAT"
  A_AXIS_RADIUS = 3396.0
  B_AXIS_RADIUS = 3396.0
  C_AXIS_RADIUS = 3396.0
  CENTER_LATITUDE = 0.0
  CENTER_LONGITUDE = 29.0
  COORDINATE_SYSTEM_NAME = PLANETOGRAPHIC
  COORDINATE_SYSTEM_TYPE = "BODY-FIXED ROTATING"
  EASTERNMOST_LONGITUDE = 29.795
  FIRST_STANDARD_PARALLEL = "N/A"
  LINE_FIRST_PIXEL = 1
  LINE_LAST_PIXEL = 21875
  LINE_PROJECTION_OFFSET = 16034.125
  MAP_PROJECTION_ROTATION = 0.0
  MAP_PROJECTION_TYPE = SINUSOIDAL
  MAP_RESOLUTION = 1185.42760773333
  MAP_SCALE = 0.05
  MAXIMUM_LATITUDE = 13.5293
  MINIMUM_LATITUDE = -4.92262
  POSITIVE_LONGITUDE_DIRECTION = EAST
  REFERENCE_LATITUDE = "N/A"
  REFERENCE_LONGITUDE = "N/A"
  SAMPLE_FIRST_PIXEL = 1
  SAMPLE_LAST_PIXEL = 2829
  SAMPLE_PROJECTION_OFFSET = 1886.875
  SECOND_STANDARD_PARALLEL = "N/A"
  WESTERNMOST_LONGITUDE = 27.4726
END_OBJECT = IMAGE_MAP_PROJECTION
/* The JPEG2000 image data file associated with this label. */
OBJECT = COMPRESSED_FILE
  FILE_NAME = "HA443_0000_BL3.JP2"
  RECORD_TYPE = UNDEFINED
  FILE_RECORDS = UNK
  ENCODING_TYPE = "JP2"
  INTERCHANGE_FORMAT = BINARY
  UNCOMPRESSED_FILE_NAME = "HA443_0000_BL3.IMG"
  REQUIRED_STORAGE_BYTES = "61907007"
  ^DESCRIPTION = "JP2INFO.TXT"
END_OBJECT = COMPRESSED_FILE
END
