PDS_VERSION_ID = PDS3
/* FILE DATA ELEMENTS */
RECORD_TYPE = STREAM
/* POINTERS TO DATA OBJECTS */
^COMPRESSED_FILE = "HA443_0000_ND3.JP2"
/* IDENTIFICATION DATA ELEMENTS */
DATA_SET_ID = "MEX-M-HRSC-5-REFDR-MAPPROJECTED-V3.0"
DATA_SET_NAME = "MARS EXPRESS HRSC MAP PROJECTED REFDR V3.0"
DETECTOR_ID = MEX_HRSC_NADIR
EVENT_TYPE = "MARS-REGIONAL-MAPPING-Im-Fl-At"
INSTRUMENT_HOST_ID = MEX
INSTRUMENT_HOST_NAME = "MARS EXPRESS"
INSTRUMENT_ID = HRSC
INSTRUMENT_NAME = "HIGH RESOLUTION STEREO CAMERA"
MISSION_NAME = "MARS EXPRESS"
MISSION_PHASE_NAME = ME_Phase_25
PROCESSING_LEVEL_ID = 3
PRODUCT_CREATION_TIME = 2016-10-27T12:16:28.000Z
PRODUCT_ID = "HA443_0000_ND3.JP2"
RELEASE_ID = 0107
REVISION_ID = 0000
/* QUALITY DATA ELEMENTS */
DATA_QUALITY_ID = 1
DATA_QUALITY_DESC = "Data calculated based on original SPICE kernels"
/* TIME DATA ELEMENTS */
SPACECRAFT_CLOCK_START_COUNT = "1/0279647762.09053"
SPACECRAFT_CLOCK_STOP_COUNT = "1/0279648191.60459"
START_TIME = 2012-03-12T15:56:43.441Z
STOP_TIME = 2012-03-12T16:01:54.203Z
/* ORBITAL DATA ELEMENTS */
ASCENDING_NODE_LONGITUDE = 17.96
MAXIMUM_RESOLUTION = 16.6
FOOTPRINT_POINT_LATITUDE = (-4.91929,-4.92245,-4.61396,-3.99175, -3.5157,-3.19801,-2.8808,-2.55725, -2.23313,-1.90953,-1.58167,-1.25128, -0.921453,-0.587336,-0.250858,0.085005, 0.597724,0.939762,1.28643,1.63487,1.984 ,2.33871,2.69266,3.05256,3.41262, 3.77676,4.14279,4.69827,5.25909,5.63666 ,6.01788,6.40101,6.78911,7.37553, 7.76986,8.16964,8.5712,8.97682,9.38664, 9.79887,10.2153,10.6366,11.061,11.4887, 11.9211,12.3582,12.7992,13.2441,13.4886 ,13.4958,13.5086,13.5155,13.521,13.2998 ,12.8537,12.4115,11.9733,11.5399, 11.1111,10.6856,10.2632,9.8459,9.43261, 9.02176,8.61528,8.21273,7.81194,7.41682 ,6.82905,6.44002,6.05616,5.674,5.29572, 4.73365,4.17692,3.81022,3.44524,3.08454 ,2.72372,2.36914,1.83827,1.48963, 0.967582,0.624823,0.111079,-0.225352, -0.562385,-0.897239,-1.22759,-1.55853, -1.88708,-2.21122,-2.53586,-2.86011, -3.17774,-3.49598,-3.97291,-4.59609, -4.90832,-4.91929)
FOOTPRINT_POINT_LONGITUDE = (29.2075,28.731,28.1398,28.1262,28.1152 ,28.1079,28.1005,28.092,28.0838,28.0754 ,28.067,28.0579,28.048,28.0383,28.0285, 28.0187,28.0016,27.9921,27.9799,27.9686 ,27.9497,27.9369,27.9242,27.9174, 27.9034,27.8894,27.8757,27.8536,27.832, 27.8165,27.8022,27.786,27.7695,27.7443, 27.7271,27.7096,27.6921,27.6698,27.648, 27.631,27.6119,27.586,27.5662,27.5375, 27.5152,27.4963,27.4704,27.4455,27.8423 ,28.1763,28.8366,29.2315,29.5769, 29.8136,29.8073,29.8011,29.7953,29.7896 ,29.7838,29.7789,29.7738,29.7689, 29.7643,29.7597,29.7556,29.7513,29.7474 ,29.7435,29.7379,29.7342,29.7306, 29.7274,29.7241,29.7195,29.7153,29.7124 ,29.7096,29.7069,29.7047,29.7023, 29.6977,29.6948,29.6913,29.6907,29.6873 ,29.6853,29.6832,29.6812,29.6792, 29.6774,29.6752,29.6736,29.6719,29.6703 ,29.6674,29.6664,29.6632,29.6602, 29.6586,29.2075)
ORBIT_NUMBER = 10443
ORBITAL_ECCENTRICITY = 0.578
ORBITAL_INCLINATION = 86.87
ORBITAL_SEMIMAJOR_AXIS = 8845.04
PERIAPSIS_ALTITUDE = 336.29
PERIAPSIS_ARGUMENT_ANGLE = 335.26
PERIAPSIS_TIME = 2012-03-12T15:51:37.000Z
SPACECRAFT_ORIENTATION = (0.0,1.0,0.0)
^MEX_ORIENTATION_DESC = "MEX_ORIENTATION_DESC.TXT"
SPACECRAFT_POINTING_MODE = ACROSSTRACK
^MEX_POINTING_DESC = "MEX_POINTING_DESC.TXT"
RIGHT_ASCENSION = -1e+32
DECLINATION = -1e+32
OFFSET_ANGLE = 1.3
SPACECRAFT_SOLAR_DISTANCE = 2.48733e+08
TARGET_NAME = MARS
/* CAMERA DATA ELEMENTS */
DETECTOR_TEMPERATURE = 18.5744
FOCAL_PLANE_TEMPERATURE = 8.5833
INST_CMPRS_NAME = "DISCRETE COSINE TRANSFORMATION (DCT)"
INST_CMPRS_RATIO = 6.76681
INST_CMPRS_QUALITY = 0
INST_CMPRS_QUANTZ_TBL_ID = 0
INSTRUMENT_TEMPERATURE = 11.8457
LENS_TEMPERATURE = 8.5833
MACROPIXEL_SIZE = 1
MISSING_FRAMES = 0
PIXEL_SUBSAMPLING_FLAG = N
SIGNAL_CHAIN_ID = 0
/* RADIOMETRIC DATA ELEMENTS */
BANDWIDTH = 177.0
CENTER_FILTER_WAVELENGTH = 677.5
RADIANCE_OFFSET = 0.98794
RADIANCE_SCALING_FACTOR = 0.0184362
REFLECTANCE_SCALING_FACTOR = 0.000605934
MEX:REFLECTANCE_OFFSET = 0.0324701
/* IMAGE OBJECT DEFINITIONS */
OBJECT = IMAGE
  INTERCHANGE_FORMAT = BINARY
  LINES = 87497
  LINE_SAMPLES = 11316
  SAMPLE_TYPE = UNSIGNED_INTEGER
  SAMPLE_BITS = 8
  BANDS = 1
  BAND_STORAGE_TYPE = BAND_SEQUENTIAL
  MAXIMUM = 255
  MEAN = 115.145
  MINIMUM = 1
  STANDARD_DEVIATION = 28.1614
END_OBJECT = IMAGE
/* MAP OBJECT DEFINITIONS */
OBJECT = IMAGE_MAP_PROJECTION
  ^DATA_SET_MAP_PROJECTION_CATALOG= "DSMAP.CAT"
  A_AXIS_RADIUS = 3396.0
  B_AXIS_RADIUS = 3396.0
  C_AXIS_RADIUS = 3396.0
  CENTER_LATITUDE = 0.0
  CENTER_LONGITUDE = 29.0
  COORDINATE_SYSTEM_NAME = PLANETOGRAPHIC
  COORDINATE_SYSTEM_TYPE = "BODY-FIXED ROTATING"
  EASTERNMOST_LONGITUDE = 29.8136
  FIRST_STANDARD_PARALLEL = "N/A"
  LINE_FIRST_PIXEL = 1
  LINE_LAST_PIXEL = 87497
  LINE_PROJECTION_OFFSET = 64138.0
  MAP_PROJECTION_ROTATION = 0.0
  MAP_PROJECTION_TYPE = SINUSOIDAL
  MAP_RESOLUTION = 4741.71043093333
  MAP_SCALE = 0.0125
  MAXIMUM_LATITUDE = 13.521
  MINIMUM_LATITUDE = -4.92245
  POSITIVE_LONGITUDE_DIRECTION = EAST
  REFERENCE_LATITUDE = "N/A"
  REFERENCE_LONGITUDE = "N/A"
  SAMPLE_FIRST_PIXEL = 1
  SAMPLE_LAST_PIXEL = 11316
  SAMPLE_PROJECTION_OFFSET = 7549.0
  SECOND_STANDARD_PARALLEL = "N/A"
  WESTERNMOST_LONGITUDE = 27.4455
END_OBJECT = IMAGE_MAP_PROJECTION
/* The JPEG2000 image data file associated with this label. */
OBJECT = COMPRESSED_FILE
  FILE_NAME = "HA443_0000_ND3.JP2"
  RECORD_TYPE = UNDEFINED
  FILE_RECORDS = UNK
  ENCODING_TYPE = "JP2"
  INTERCHANGE_FORMAT = BINARY
  UNCOMPRESSED_FILE_NAME = "HA443_0000_ND3.IMG"
  REQUIRED_STORAGE_BYTES = "990150000"
  ^DESCRIPTION = "JP2INFO.TXT"
END_OBJECT = COMPRESSED_FILE
END
