PDS_VERSION_ID = PDS3
/* FILE DATA ELEMENTS */
RECORD_TYPE = STREAM
/* POINTERS TO DATA OBJECTS */
^COMPRESSED_FILE = "HA443_0000_S23.JP2"
/* IDENTIFICATION DATA ELEMENTS */
DATA_SET_ID = "MEX-M-HRSC-5-REFDR-MAPPROJECTED-V3.0"
DATA_SET_NAME = "MARS EXPRESS HRSC MAP PROJECTED REFDR V3.0"
DETECTOR_ID = MEX_HRSC_S2
EVENT_TYPE = "MARS-REGIONAL-MAPPING-Im-Fl-At"
INSTRUMENT_HOST_ID = MEX
INSTRUMENT_HOST_NAME = "MARS EXPRESS"
INSTRUMENT_ID = HRSC
INSTRUMENT_NAME = "HIGH RESOLUTION STEREO CAMERA"
MISSION_NAME = "MARS EXPRESS"
MISSION_PHASE_NAME = ME_Phase_25
PROCESSING_LEVEL_ID = 3
PRODUCT_CREATION_TIME = 2016-10-27T12:16:28.000Z
PRODUCT_ID = "HA443_0000_S23.JP2"
RELEASE_ID = 0107
REVISION_ID = 0000
/* QUALITY DATA ELEMENTS */
DATA_QUALITY_ID = 1
DATA_QUALITY_DESC = "Data calculated based on original SPICE kernels"
/* TIME DATA ELEMENTS */
SPACECRAFT_CLOCK_START_COUNT = "1/0279647762.09053"
SPACECRAFT_CLOCK_STOP_COUNT = "1/0279648191.60459"
START_TIME = 2012-03-12T15:56:05.731Z
STOP_TIME = 2012-03-12T16:00:52.005Z
/* ORBITAL DATA ELEMENTS */
ASCENDING_NODE_LONGITUDE = 17.96
MAXIMUM_RESOLUTION = 33.9
FOOTPRINT_POINT_LATITUDE = (-4.94616,-4.91476,-4.72415,-3.9509, -3.63344,-3.31647,-2.99987,-2.68269, -2.35879,-2.03423,-1.70856,-1.3853, -1.05252,-0.553256,-0.221316,0.118299, 0.459668,0.799066,1.14634,1.49225, 1.84746,2.20214,2.55769,2.90558,3.44739 ,3.80982,4.36316,4.73082,5.29332, 5.67012,6.05093,6.43385,6.82187,7.21161 ,7.8038,8.19962,8.60363,9.01453,9.62755 ,10.0425,10.4679,10.8923,11.327,11.7641 ,12.193,12.6273,13.0731,13.5228,13.5439 ,13.5216,13.5089,13.4935,13.2572, 12.8093,12.3644,11.9229,11.4898,11.0617 ,10.4189,9.99988,9.5821,9.17035,8.75869 ,8.35336,7.95058,7.55228,7.15716, 6.76626,6.3774,5.99455,5.6102,5.23294, 4.8559,4.48341,4.11704,3.74468,3.38234, 3.0182,2.65835,2.3019,1.94517,1.60509, 1.25825,0.909185,0.557634,0.218489, -0.122054,-0.459092,-0.792699,-1.12505, -1.62113,-1.94546,-2.27152,-2.59742, -2.91935,-3.23361,-3.86915,-4.49427, -4.95902,-4.94616)
FOOTPRINT_POINT_LONGITUDE = (29.2099,28.758,28.1582,28.1428,28.1361 ,28.1296,28.123,28.1157,28.1079,28.1005 ,28.0919,28.0849,28.0759,28.0624, 28.0536,28.0444,28.0337,28.0242,28.0123 ,28.0031,27.9861,27.9733,27.9614, 27.9551,27.9372,27.9244,27.904,27.892, 27.8714,27.8569,27.8438,27.8294,27.814, 27.799,27.7753,27.7598,27.7431,27.7208, 27.6966,27.6789,27.6543,27.6348,27.6088 ,27.5842,27.5681,27.5496,27.5267, 27.5031,27.8974,28.5257,28.8885,29.3932 ,29.7103,29.7066,29.703,29.6998,29.6964 ,29.6927,29.6887,29.6858,29.6831, 29.6804,29.6782,29.6758,29.6736,29.6714 ,29.6692,29.6671,29.6651,29.663,29.6612 ,29.6595,29.6577,29.6563,29.6541, 29.6532,29.6517,29.6505,29.6494,29.6483 ,29.6472,29.6441,29.6426,29.6415, 29.6423,29.6409,29.6397,29.6386,29.6377 ,29.6365,29.6349,29.6337,29.6328, 29.6319,29.6313,29.6295,29.6275,29.6258 ,29.6244,29.2099)
ORBIT_NUMBER = 10443
ORBITAL_ECCENTRICITY = 0.578
ORBITAL_INCLINATION = 86.87
ORBITAL_SEMIMAJOR_AXIS = 8845.04
PERIAPSIS_ALTITUDE = 336.29
PERIAPSIS_ARGUMENT_ANGLE = 335.26
PERIAPSIS_TIME = 2012-03-12T15:51:37.000Z
SPACECRAFT_ORIENTATION = (0.0,1.0,0.0)
^MEX_ORIENTATION_DESC = "MEX_ORIENTATION_DESC.TXT"
SPACECRAFT_POINTING_MODE = ACROSSTRACK
^MEX_POINTING_DESC = "MEX_POINTING_DESC.TXT"
RIGHT_ASCENSION = -1e+32
DECLINATION = -1e+32
OFFSET_ANGLE = 1.3
SPACECRAFT_SOLAR_DISTANCE = 2.48733e+08
TARGET_NAME = MARS
/* CAMERA DATA ELEMENTS */
DETECTOR_TEMPERATURE = 19.1861
FOCAL_PLANE_TEMPERATURE = 8.5833
INST_CMPRS_NAME = "DISCRETE COSINE TRANSFORMATION (DCT)"
INST_CMPRS_RATIO = 10.6453
INST_CMPRS_QUALITY = 0
INST_CMPRS_QUANTZ_TBL_ID = 0
INSTRUMENT_TEMPERATURE = 11.8457
LENS_TEMPERATURE = 8.5833
MACROPIXEL_SIZE = 2
MISSING_FRAMES = 0
PIXEL_SUBSAMPLING_FLAG = N
SIGNAL_CHAIN_ID = 1
/* RADIOMETRIC DATA ELEMENTS */
BANDWIDTH = 178.0
CENTER_FILTER_WAVELENGTH = 679.0
RADIANCE_OFFSET = 1.26577
RADIANCE_SCALING_FACTOR = 0.0199894
REFLECTANCE_SCALING_FACTOR = 0.000654934
MEX:REFLECTANCE_OFFSET = 0.0414718
/* IMAGE OBJECT DEFINITIONS */
OBJECT = IMAGE
  INTERCHANGE_FORMAT = BINARY
  LINES = 43749
  LINE_SAMPLES = 5658
  SAMPLE_TYPE = UNSIGNED_INTEGER
  SAMPLE_BITS = 8
  BANDS = 1
  BAND_STORAGE_TYPE = BAND_SEQUENTIAL
  MAXIMUM = 255
  MEAN = 116.877
  MINIMUM = 1
  STANDARD_DEVIATION = 27.5517
END_OBJECT = IMAGE
/* MAP OBJECT DEFINITIONS */
OBJECT = IMAGE_MAP_PROJECTION
  ^DATA_SET_MAP_PROJECTION_CATALOG= "DSMAP.CAT"
  A_AXIS_RADIUS = 3396.0
  B_AXIS_RADIUS = 3396.0
  C_AXIS_RADIUS = 3396.0
  CENTER_LATITUDE = 0.0
  CENTER_LONGITUDE = 29.0
  COORDINATE_SYSTEM_NAME = PLANETOGRAPHIC
  COORDINATE_SYSTEM_TYPE = "BODY-FIXED ROTATING"
  EASTERNMOST_LONGITUDE = 29.7103
  FIRST_STANDARD_PARALLEL = "N/A"
  LINE_FIRST_PIXEL = 1
  LINE_LAST_PIXEL = 43749
  LINE_PROJECTION_OFFSET = 32068.75
  MAP_PROJECTION_ROTATION = 0.0
  MAP_PROJECTION_TYPE = SINUSOIDAL
  MAP_RESOLUTION = 2370.85521546667
  MAP_SCALE = 0.025
  MAXIMUM_LATITUDE = 13.5439
  MINIMUM_LATITUDE = -4.95902
  POSITIVE_LONGITUDE_DIRECTION = EAST
  REFERENCE_LATITUDE = "N/A"
  REFERENCE_LONGITUDE = "N/A"
  SAMPLE_FIRST_PIXEL = 1
  SAMPLE_LAST_PIXEL = 5658
  SAMPLE_PROJECTION_OFFSET = 3774.25
  SECOND_STANDARD_PARALLEL = "N/A"
  WESTERNMOST_LONGITUDE = 27.5031
END_OBJECT = IMAGE_MAP_PROJECTION
/* The JPEG2000 image data file associated with this label. */
OBJECT = COMPRESSED_FILE
  FILE_NAME = "HA443_0000_S23.JP2"
  RECORD_TYPE = UNDEFINED
  FILE_RECORDS = UNK
  ENCODING_TYPE = "JP2"
  INTERCHANGE_FORMAT = BINARY
  UNCOMPRESSED_FILE_NAME = "HA443_0000_S23.IMG"
  REQUIRED_STORAGE_BYTES = "247560132"
  ^DESCRIPTION = "JP2INFO.TXT"
END_OBJECT = COMPRESSED_FILE
END
