PDS_VERSION_ID = PDS3
/* FILE DATA ELEMENTS */
RECORD_TYPE = STREAM
/* POINTERS TO DATA OBJECTS */
^COMPRESSED_FILE = "HA465_0000_ND3.JP2"
/* IDENTIFICATION DATA ELEMENTS */
DATA_SET_ID = "MEX-M-HRSC-5-REFDR-MAPPROJECTED-V3.0"
DATA_SET_NAME = "MARS EXPRESS HRSC MAP PROJECTED REFDR V3.0"
DETECTOR_ID = MEX_HRSC_NADIR
EVENT_TYPE = "MARS-REGIONAL-MAPPING-Vo-Fl-At"
INSTRUMENT_HOST_ID = MEX
INSTRUMENT_HOST_NAME = "MARS EXPRESS"
INSTRUMENT_ID = HRSC
INSTRUMENT_NAME = "HIGH RESOLUTION STEREO CAMERA"
MISSION_NAME = "MARS EXPRESS"
MISSION_PHASE_NAME = ME_Phase_25
PROCESSING_LEVEL_ID = 3
PRODUCT_CREATION_TIME = 2016-10-27T12:16:28.000Z
PRODUCT_ID = "HA465_0000_ND3.JP2"
RELEASE_ID = 0107
REVISION_ID = 0000
/* QUALITY DATA ELEMENTS */
DATA_QUALITY_ID = 1
DATA_QUALITY_DESC = "Data calculated based on original SPICE kernels"
/* TIME DATA ELEMENTS */
SPACECRAFT_CLOCK_START_COUNT = "1/0280201610.09041"
SPACECRAFT_CLOCK_STOP_COUNT = "1/0280201916.63648"
START_TIME = 2012-03-19T01:47:24.211Z
STOP_TIME = 2012-03-19T01:51:15.194Z
/* ORBITAL DATA ELEMENTS */
ASCENDING_NODE_LONGITUDE = 17.54
MAXIMUM_RESOLUTION = 13.6
FOOTPRINT_POINT_LATITUDE = (-21.2778,-21.2778,-21.2772,-20.8709, -20.6008,-20.3309,-20.061,-19.7913, -19.5217,-19.2522,-18.9829,-18.7138, -18.4448,-18.1759,-17.9073,-17.6387, -17.3704,-17.1022,-16.8342,-16.5663, -16.2987,-16.0312,-15.4969,-14.9634, -14.4931,-14.0169,-13.6993,-13.3824, -13.066,-12.7503,-12.2774,-11.9622, -11.6474,-11.3329,-11.0188,-10.7051, -10.3917,-10.0788,-9.76621,-9.45406, -9.14231,-8.82639,-8.50708,-8.18816, -7.8698,-7.38242,-7.05686,-6.73182, -6.5525,-6.54777,-6.54272,-6.70625, -7.03166,-7.35757,-7.84582,-8.16456, -8.48375,-8.80339,-9.11993,-9.43201, -9.74449,-10.0574,-10.3707,-10.6843, -10.9984,-11.3128,-11.6276,-11.9428, -12.2583,-12.5741,-12.8904,-13.2064, -13.5228,-13.8405,-14.1585,-14.4764, -14.9488,-15.4828,-15.7501,-16.0177, -16.2854,-16.5533,-16.8214,-17.0897, -17.3582,-17.6269,-17.8958,-18.1647, -18.4339,-18.703,-18.9724,-19.242, -19.5117,-19.7815,-20.0515,-20.3217, -20.5919,-20.8623,-21.1328,-21.2778)
FOOTPRINT_POINT_LONGITUDE = (299.789,299.461,299.146,298.927, 298.927,298.927,298.927,298.925,298.924 ,298.923,298.922,298.92,298.919,298.918 ,298.916,298.914,298.912,298.91,298.908 ,298.905,298.903,298.9,298.895,298.889, 298.88,298.873,298.859,298.852,298.847, 298.848,298.853,298.848,298.842,298.837 ,298.831,298.826,298.819,298.813, 298.807,298.8,298.793,298.786,298.779, 298.77,298.763,298.753,298.745,298.737, 299.045,299.536,300.012,300.242,300.241 ,300.239,300.237,300.235,300.234, 300.233,300.231,300.23,300.229,300.228, 300.226,300.225,300.224,300.223,300.222 ,300.222,300.221,300.22,300.219,300.227 ,300.233,300.226,300.217,300.216, 300.214,300.213,300.212,300.212,300.211 ,300.211,300.21,300.209,300.208,300.207 ,300.205,300.206,300.204,300.205, 300.206,300.205,300.205,300.205,300.205 ,300.204,300.204,300.204,300.203, 299.789)
ORBIT_NUMBER = 10465
ORBITAL_ECCENTRICITY = 0.578
ORBITAL_INCLINATION = 86.87
ORBITAL_SEMIMAJOR_AXIS = 8837.45
PERIAPSIS_ALTITUDE = 335.15
PERIAPSIS_ARGUMENT_ANGLE = 331.52
PERIAPSIS_TIME = 2012-03-19T01:45:35.000Z
SPACECRAFT_ORIENTATION = (0.0,1.0,0.0)
^MEX_ORIENTATION_DESC = "MEX_ORIENTATION_DESC.TXT"
SPACECRAFT_POINTING_MODE = NADIR
^MEX_POINTING_DESC = "MEX_POINTING_DESC.TXT"
RIGHT_ASCENSION = -1e+32
DECLINATION = -1e+32
OFFSET_ANGLE = -1e+32
SPACECRAFT_SOLAR_DISTANCE = 2.48458e+08
TARGET_NAME = MARS
/* CAMERA DATA ELEMENTS */
DETECTOR_TEMPERATURE = 18.5744
FOCAL_PLANE_TEMPERATURE = 7.7677
INST_CMPRS_NAME = "DISCRETE COSINE TRANSFORMATION (DCT)"
INST_CMPRS_RATIO = 7.02851
INST_CMPRS_QUALITY = 0
INST_CMPRS_QUANTZ_TBL_ID = 0
INSTRUMENT_TEMPERATURE = 10.6223
LENS_TEMPERATURE = 7.9716
MACROPIXEL_SIZE = 1
MISSING_FRAMES = 0
PIXEL_SUBSAMPLING_FLAG = N
SIGNAL_CHAIN_ID = 0
/* RADIOMETRIC DATA ELEMENTS */
BANDWIDTH = 177.0
CENTER_FILTER_WAVELENGTH = 677.5
RADIANCE_OFFSET = 0.222507
RADIANCE_SCALING_FACTOR = 0.0104709
REFLECTANCE_SCALING_FACTOR = 0.00034338
MEX:REFLECTANCE_OFFSET = 0.00729683
/* IMAGE OBJECT DEFINITIONS */
OBJECT = IMAGE
  INTERCHANGE_FORMAT = BINARY
  LINES = 69889
  LINE_SAMPLES = 7476
  SAMPLE_TYPE = UNSIGNED_INTEGER
  SAMPLE_BITS = 8
  BANDS = 1
  BAND_STORAGE_TYPE = BAND_SEQUENTIAL
  MAXIMUM = 255
  MEAN = 89.792
  MINIMUM = 1
  STANDARD_DEVIATION = 34.6267
END_OBJECT = IMAGE
/* MAP OBJECT DEFINITIONS */
OBJECT = IMAGE_MAP_PROJECTION
  ^DATA_SET_MAP_PROJECTION_CATALOG= "DSMAP.CAT"
  A_AXIS_RADIUS = 3396.0
  B_AXIS_RADIUS = 3396.0
  C_AXIS_RADIUS = 3396.0
  CENTER_LATITUDE = 0.0
  CENTER_LONGITUDE = 300.0
  COORDINATE_SYSTEM_NAME = PLANETOGRAPHIC
  COORDINATE_SYSTEM_TYPE = "BODY-FIXED ROTATING"
  EASTERNMOST_LONGITUDE = 300.242
  FIRST_STANDARD_PARALLEL = "N/A"
  LINE_FIRST_PIXEL = 1
  LINE_LAST_PIXEL = 69889
  LINE_PROJECTION_OFFSET = -31006.0
  MAP_PROJECTION_ROTATION = 0.0
  MAP_PROJECTION_TYPE = SINUSOIDAL
  MAP_RESOLUTION = 4741.71043093333
  MAP_SCALE = 0.0125
  MAXIMUM_LATITUDE = -6.54272
  MINIMUM_LATITUDE = -21.2778
  POSITIVE_LONGITUDE_DIRECTION = EAST
  REFERENCE_LATITUDE = "N/A"
  REFERENCE_LONGITUDE = "N/A"
  SAMPLE_FIRST_PIXEL = 1
  SAMPLE_LAST_PIXEL = 7476
  SAMPLE_PROJECTION_OFFSET = 6130.0
  SECOND_STANDARD_PARALLEL = "N/A"
  WESTERNMOST_LONGITUDE = 298.737
END_OBJECT = IMAGE_MAP_PROJECTION
/* The JPEG2000 image data file associated with this label. */
OBJECT = COMPRESSED_FILE
  FILE_NAME = "HA465_0000_ND3.JP2"
  RECORD_TYPE = UNDEFINED
  FILE_RECORDS = UNK
  ENCODING_TYPE = "JP2"
  INTERCHANGE_FORMAT = BINARY
  UNCOMPRESSED_FILE_NAME = "HA465_0000_ND3.IMG"
  REQUIRED_STORAGE_BYTES = "522520068"
  ^DESCRIPTION = "JP2INFO.TXT"
END_OBJECT = COMPRESSED_FILE
END
