PDS_VERSION_ID = PDS3
/* FILE DATA ELEMENTS */
RECORD_TYPE = STREAM
/* POINTERS TO DATA OBJECTS */
^COMPRESSED_FILE = "HA478_0001_IR3.JP2"
/* IDENTIFICATION DATA ELEMENTS */
DATA_SET_ID = "MEX-M-HRSC-5-REFDR-MAPPROJECTED-V3.0"
DATA_SET_NAME = "MARS EXPRESS HRSC MAP PROJECTED REFDR V3.0"
DETECTOR_ID = MEX_HRSC_IR
EVENT_TYPE = "MARS-REGIONAL-MAPPING-Im-Fl"
INSTRUMENT_HOST_ID = MEX
INSTRUMENT_HOST_NAME = "MARS EXPRESS"
INSTRUMENT_ID = HRSC
INSTRUMENT_NAME = "HIGH RESOLUTION STEREO CAMERA"
MISSION_NAME = "MARS EXPRESS"
MISSION_PHASE_NAME = ME_Phase_25
PROCESSING_LEVEL_ID = 3
PRODUCT_CREATION_TIME = 2016-10-27T12:16:28.000Z
PRODUCT_ID = "HA478_0001_IR3.JP2"
RELEASE_ID = 0107
REVISION_ID = 0000
/* QUALITY DATA ELEMENTS */
DATA_QUALITY_ID = 1
DATA_QUALITY_DESC = "Data calculated based on original SPICE kernels"
/* TIME DATA ELEMENTS */
SPACECRAFT_CLOCK_START_COUNT = "1/0280529493.07288"
SPACECRAFT_CLOCK_STOP_COUNT = "1/0280529839.64573"
START_TIME = 2012-03-22T20:53:48.384Z
STOP_TIME = 2012-03-22T20:56:57.140Z
/* ORBITAL DATA ELEMENTS */
ASCENDING_NODE_LONGITUDE = 17.29
MAXIMUM_RESOLUTION = 125
FOOTPRINT_POINT_LATITUDE = (9.27035,9.26367,9.25945,9.25492, 9.25005,9.24481,9.23926,9.23334,9.22711 ,9.22052,9.21357,9.20629,9.38396,9.5609 ,9.73877,9.9162,10.0933,10.27,10.4457, 10.7088,10.8835,11.0579,11.2319,11.4056 ,11.5785,11.8376,12.0097,12.1813, 12.3521,12.5225,12.6924,12.9468,13.1164 ,13.2859,13.4541,13.622,13.7892,13.9548 ,14.2034,14.4468,14.6112,14.7755, 15.1027,15.4319,15.7552,16.1573,16.4772 ,16.7945,17.1105,17.4244,17.6247, 17.6351,17.6481,17.6598,17.6704,17.6778 ,17.6869,17.6967,17.702,17.7061,17.7092 ,17.7123,17.4768,17.1594,16.6868, 16.3659,16.0444,15.7212,15.3963,15.0691 ,14.8228,14.6581,14.4099,14.2441, 14.0776,13.9107,13.6596,13.4921,13.3239 ,13.1554,12.9861,12.8164,12.5611, 12.3912,12.2201,11.963,11.7899,11.6175, 11.3569,11.1829,11.0101,10.834,10.6619, 10.4872,10.2202,10.0416,9.77364,9.59555 ,9.32625,9.27035)
FOOTPRINT_POINT_LONGITUDE = (50.1189,49.7742,49.577,49.3796,49.1821 ,48.9844,48.7866,48.5886,48.3905, 48.1919,47.9929,47.7936,47.6521,47.6401 ,47.6285,47.617,47.6054,47.5938,47.5819 ,47.5642,47.5523,47.5403,47.5284, 47.5165,47.5043,47.4863,47.4742,47.4621 ,47.4497,47.4373,47.4248,47.4062,47.394 ,47.3819,47.3694,47.3568,47.3441, 47.3309,47.3115,47.2902,47.277,47.264, 47.2378,47.2129,47.1862,47.1526,47.1257 ,47.0982,47.0708,47.043,47.1573,47.3922 ,47.7269,48.0607,48.3938,48.627,48.9597 ,49.392,49.6911,49.9567,50.1891,50.5213 ,50.5885,50.5759,50.555,50.5425,50.5298 ,50.5172,50.5048,50.4928,50.4838, 50.4778,50.469,50.4631,50.4574,50.4516, 50.4431,50.4373,50.4317,50.426,50.4205, 50.415,50.4068,50.4012,50.3958,50.3876, 50.3826,50.3773,50.3697,50.3646,50.3591 ,50.3544,50.3484,50.3432,50.3366, 50.3323,50.3256,50.3209,50.3143, 50.1189)
ORBIT_NUMBER = 10478
ORBITAL_ECCENTRICITY = 0.578
ORBITAL_INCLINATION = 86.88
ORBITAL_SEMIMAJOR_AXIS = 8836.53
PERIAPSIS_ALTITUDE = 334.45
PERIAPSIS_ARGUMENT_ANGLE = 329.29
PERIAPSIS_TIME = 2012-03-22T20:41:54.000Z
SPACECRAFT_ORIENTATION = (0.0,1.0,0.0)
^MEX_ORIENTATION_DESC = "MEX_ORIENTATION_DESC.TXT"
SPACECRAFT_POINTING_MODE = ACROSSTRACK
^MEX_POINTING_DESC = "MEX_POINTING_DESC.TXT"
RIGHT_ASCENSION = -1e+32
DECLINATION = -1e+32
OFFSET_ANGLE = 0.3
SPACECRAFT_SOLAR_DISTANCE = 2.48267e+08
TARGET_NAME = MARS
/* CAMERA DATA ELEMENTS */
DETECTOR_TEMPERATURE = 19.1861
FOCAL_PLANE_TEMPERATURE = 8.7872
INST_CMPRS_NAME = "DISCRETE COSINE TRANSFORMATION (DCT)"
INST_CMPRS_RATIO = 13.36
INST_CMPRS_QUALITY = 0
INST_CMPRS_QUANTZ_TBL_ID = 0
INSTRUMENT_TEMPERATURE = 13.6808
LENS_TEMPERATURE = 9.8067
MACROPIXEL_SIZE = 4
MISSING_FRAMES = 0
PIXEL_SUBSAMPLING_FLAG = N
SIGNAL_CHAIN_ID = 2
/* RADIOMETRIC DATA ELEMENTS */
BANDWIDTH = 81.0
CENTER_FILTER_WAVELENGTH = 955.5
RADIANCE_OFFSET = 0.769413
RADIANCE_SCALING_FACTOR = 0.00498779
REFLECTANCE_SCALING_FACTOR = 0.000663244
MEX:REFLECTANCE_OFFSET = 0.102312
/* IMAGE OBJECT DEFINITIONS */
OBJECT = IMAGE
  INTERCHANGE_FORMAT = BINARY
  LINES = 5027
  LINE_SAMPLES = 1811
  SAMPLE_TYPE = UNSIGNED_INTEGER
  SAMPLE_BITS = 8
  BANDS = 1
  BAND_STORAGE_TYPE = BAND_SEQUENTIAL
  MAXIMUM = 255
  MEAN = 113.086
  MINIMUM = 1
  STANDARD_DEVIATION = 20.2611
END_OBJECT = IMAGE
/* MAP OBJECT DEFINITIONS */
OBJECT = IMAGE_MAP_PROJECTION
  ^DATA_SET_MAP_PROJECTION_CATALOG= "DSMAP.CAT"
  A_AXIS_RADIUS = 3396.0
  B_AXIS_RADIUS = 3396.0
  C_AXIS_RADIUS = 3396.0
  CENTER_LATITUDE = 0.0
  CENTER_LONGITUDE = 49.0
  COORDINATE_SYSTEM_NAME = PLANETOGRAPHIC
  COORDINATE_SYSTEM_TYPE = "BODY-FIXED ROTATING"
  EASTERNMOST_LONGITUDE = 50.5885
  FIRST_STANDARD_PARALLEL = "N/A"
  LINE_FIRST_PIXEL = 1
  LINE_LAST_PIXEL = 5027
  LINE_PROJECTION_OFFSET = 10492.625
  MAP_PROJECTION_ROTATION = 0.0
  MAP_PROJECTION_TYPE = SINUSOIDAL
  MAP_RESOLUTION = 592.713803866667
  MAP_SCALE = 0.1
  MAXIMUM_LATITUDE = 17.7123
  MINIMUM_LATITUDE = 9.206289999999999
  POSITIVE_LONGITUDE_DIRECTION = EAST
  REFERENCE_LATITUDE = "N/A"
  REFERENCE_LONGITUDE = "N/A"
  SAMPLE_FIRST_PIXEL = 1
  SAMPLE_LAST_PIXEL = 1811
  SAMPLE_PROJECTION_OFFSET = 1015.875
  SECOND_STANDARD_PARALLEL = "N/A"
  WESTERNMOST_LONGITUDE = 47.043
END_OBJECT = IMAGE_MAP_PROJECTION
/* The JPEG2000 image data file associated with this label. */
OBJECT = COMPRESSED_FILE
  FILE_NAME = "HA478_0001_IR3.JP2"
  RECORD_TYPE = UNDEFINED
  FILE_RECORDS = UNK
  ENCODING_TYPE = "JP2"
  INTERCHANGE_FORMAT = BINARY
  UNCOMPRESSED_FILE_NAME = "HA478_0001_IR3.IMG"
  REQUIRED_STORAGE_BYTES = "9123818"
  ^DESCRIPTION = "JP2INFO.TXT"
END_OBJECT = COMPRESSED_FILE
END
