PDS_VERSION_ID = PDS3
/* FILE DATA ELEMENTS */
RECORD_TYPE = STREAM
/* POINTERS TO DATA OBJECTS */
^COMPRESSED_FILE = "HA485_0000_IR3.JP2"
/* IDENTIFICATION DATA ELEMENTS */
DATA_SET_ID = "MEX-M-HRSC-5-REFDR-MAPPROJECTED-V3.0"
DATA_SET_NAME = "MARS EXPRESS HRSC MAP PROJECTED REFDR V3.0"
DETECTOR_ID = MEX_HRSC_IR
EVENT_TYPE = "MARS-REGIONAL-MAPPING-Im-Fl"
INSTRUMENT_HOST_ID = MEX
INSTRUMENT_HOST_NAME = "MARS EXPRESS"
INSTRUMENT_ID = HRSC
INSTRUMENT_NAME = "HIGH RESOLUTION STEREO CAMERA"
MISSION_NAME = "MARS EXPRESS"
MISSION_PHASE_NAME = ME_Phase_25
PROCESSING_LEVEL_ID = 3
PRODUCT_CREATION_TIME = 2016-10-27T12:16:28.000Z
PRODUCT_ID = "HA485_0000_IR3.JP2"
RELEASE_ID = 0107
REVISION_ID = 0000
/* QUALITY DATA ELEMENTS */
DATA_QUALITY_ID = 1
DATA_QUALITY_DESC = "Data calculated based on original SPICE kernels"
/* TIME DATA ELEMENTS */
SPACECRAFT_CLOCK_START_COUNT = "1/0280705490.09054"
SPACECRAFT_CLOCK_STOP_COUNT = "1/0280705874.17749"
START_TIME = 2012-03-24T21:46:07.868Z
STOP_TIME = 2012-03-24T21:51:01.164Z
/* ORBITAL DATA ELEMENTS */
ASCENDING_NODE_LONGITUDE = 17.16
MAXIMUM_RESOLUTION = 150.8
FOOTPRINT_POINT_LATITUDE = (-9.76925,-9.78255,-9.78666,-9.51677, -9.24603,-8.97017,-8.69509,-8.41975, -8.13943,-7.85946,-7.57995,-7.15365, -6.86934,-6.4376,-6.14925,-5.85673, -5.56448,-5.27047,-4.83072,-4.53301, -4.22819,-3.92467,-3.47259,-3.16706, -2.8526,-2.38232,-2.0707,-1.75342, -1.27601,-0.955466,-0.631601,-0.144127, 0.349537,0.847238,1.35124,1.69218, 2.03399,2.37774,2.72351,3.07311,3.42517 ,3.7798,4.13918,4.49977,4.86309,5.22853 ,5.59712,5.96817,5.99469,6.00764, 6.02151,6.03119,6.04191,6.05007,5.86561 ,5.49312,5.12473,4.75806,4.39616, 4.03693,3.68048,3.32758,2.97223,2.62457 ,2.27983,1.9346,1.59237,1.25322, 0.917151,0.583348,0.251341,-0.0765578, -0.563652,-0.890546,-1.21143,-1.6922, -2.16755,-2.63748,-3.10068,-3.55969, -3.86615,-4.16826,-4.46926,-4.91784, -5.36362,-5.65685,-5.95141,-6.24095, -6.52942,-6.81782,-7.10229,-7.38766, -7.80987,-8.09083,-8.37158,-8.6464, -8.92238,-9.19748,-9.73767,-9.76925)
FOOTPRINT_POINT_LONGITUDE = (53.3431,52.8624,52.1941,52.1868, 52.1798,52.1725,52.165,52.1579,52.1502, 52.1424,52.1344,52.1216,52.1134,52.1, 52.0911,52.0822,52.0724,52.0632,52.045, 52.0345,52.0258,52.0162,51.9964,51.9841 ,51.9752,51.9584,51.9455,51.9328,51.913 ,51.8994,51.8854,51.8633,51.8412, 51.8178,51.7939,51.7782,51.7614,51.7444 ,51.7264,51.7087,51.6907,51.6723, 51.6541,51.6347,51.615,51.5947,51.5738, 51.5524,52.0597,52.4063,52.7978,53.0964 ,53.4628,53.7825,53.9994,53.9921, 53.9848,53.978,53.9711,53.9643,53.9576, 53.9509,53.9457,53.9395,53.9332,53.9278 ,53.9226,53.9172,53.9118,53.9068, 53.9018,53.8967,53.8891,53.885,53.8805, 53.8746,53.8687,53.8625,53.8566,53.8508 ,53.8473,53.8439,53.8403,53.8355, 53.8308,53.8277,53.8248,53.8217,53.8186 ,53.8158,53.813,53.8102,53.806,53.8034, 53.8007,53.798,53.7954,53.7926,53.7872, 53.3431)
ORBIT_NUMBER = 10485
ORBITAL_ECCENTRICITY = 0.578
ORBITAL_INCLINATION = 86.88
ORBITAL_SEMIMAJOR_AXIS = 8834.27
PERIAPSIS_ALTITUDE = 334.12
PERIAPSIS_ARGUMENT_ANGLE = 328.09
PERIAPSIS_TIME = 2012-03-24T21:39:49.000Z
SPACECRAFT_ORIENTATION = (0.0,1.0,0.0)
^MEX_ORIENTATION_DESC = "MEX_ORIENTATION_DESC.TXT"
SPACECRAFT_POINTING_MODE = ACROSSTRACK
^MEX_POINTING_DESC = "MEX_POINTING_DESC.TXT"
RIGHT_ASCENSION = -1e+32
DECLINATION = -1e+32
OFFSET_ANGLE = 0.458
SPACECRAFT_SOLAR_DISTANCE = 2.48156e+08
TARGET_NAME = MARS
/* CAMERA DATA ELEMENTS */
DETECTOR_TEMPERATURE = 18.5744
FOCAL_PLANE_TEMPERATURE = 8.1755
INST_CMPRS_NAME = "DISCRETE COSINE TRANSFORMATION (DCT)"
INST_CMPRS_RATIO = 9.10751
INST_CMPRS_QUALITY = 0
INST_CMPRS_QUANTZ_TBL_ID = 0
INSTRUMENT_TEMPERATURE = 12.0496
LENS_TEMPERATURE = 9.195
MACROPIXEL_SIZE = 8
MISSING_FRAMES = 0
PIXEL_SUBSAMPLING_FLAG = N
SIGNAL_CHAIN_ID = 2
/* RADIOMETRIC DATA ELEMENTS */
BANDWIDTH = 81.0
CENTER_FILTER_WAVELENGTH = 955.5
RADIANCE_OFFSET = 0.208748
RADIANCE_SCALING_FACTOR = 0.00528693
REFLECTANCE_SCALING_FACTOR = 0.000702393
MEX:REFLECTANCE_OFFSET = 0.0277332
/* IMAGE OBJECT DEFINITIONS */
OBJECT = IMAGE
  INTERCHANGE_FORMAT = BINARY
  LINES = 9371
  LINE_SAMPLES = 1370
  SAMPLE_TYPE = UNSIGNED_INTEGER
  SAMPLE_BITS = 8
  BANDS = 1
  BAND_STORAGE_TYPE = BAND_SEQUENTIAL
  MAXIMUM = 255
  MEAN = 120.399
  MINIMUM = 1
  STANDARD_DEVIATION = 48.3607
END_OBJECT = IMAGE
/* MAP OBJECT DEFINITIONS */
OBJECT = IMAGE_MAP_PROJECTION
  ^DATA_SET_MAP_PROJECTION_CATALOG= "DSMAP.CAT"
  A_AXIS_RADIUS = 3396.0
  B_AXIS_RADIUS = 3396.0
  C_AXIS_RADIUS = 3396.0
  CENTER_LATITUDE = 0.0
  CENTER_LONGITUDE = 53.0
  COORDINATE_SYSTEM_NAME = PLANETOGRAPHIC
  COORDINATE_SYSTEM_TYPE = "BODY-FIXED ROTATING"
  EASTERNMOST_LONGITUDE = 53.9994
  FIRST_STANDARD_PARALLEL = "N/A"
  LINE_FIRST_PIXEL = 1
  LINE_LAST_PIXEL = 9371
  LINE_PROJECTION_OFFSET = 3567.6875
  MAP_PROJECTION_ROTATION = 0.0
  MAP_PROJECTION_TYPE = SINUSOIDAL
  MAP_RESOLUTION = 592.713803866667
  MAP_SCALE = 0.1
  MAXIMUM_LATITUDE = 6.05007
  MINIMUM_LATITUDE = -9.786659999999999
  POSITIVE_LONGITUDE_DIRECTION = EAST
  REFERENCE_LATITUDE = "N/A"
  REFERENCE_LONGITUDE = "N/A"
  SAMPLE_FIRST_PIXEL = 1
  SAMPLE_LAST_PIXEL = 1370
  SAMPLE_PROJECTION_OFFSET = 827.4375
  SECOND_STANDARD_PARALLEL = "N/A"
  WESTERNMOST_LONGITUDE = 51.5524
END_OBJECT = IMAGE_MAP_PROJECTION
/* The JPEG2000 image data file associated with this label. */
OBJECT = COMPRESSED_FILE
  FILE_NAME = "HA485_0000_IR3.JP2"
  RECORD_TYPE = UNDEFINED
  FILE_RECORDS = UNK
  ENCODING_TYPE = "JP2"
  INTERCHANGE_FORMAT = BINARY
  UNCOMPRESSED_FILE_NAME = "HA485_0000_IR3.IMG"
  REQUIRED_STORAGE_BYTES = "12857450"
  ^DESCRIPTION = "JP2INFO.TXT"
END_OBJECT = COMPRESSED_FILE
END
