PDS_VERSION_ID = PDS3
/* FILE DATA ELEMENTS */
RECORD_TYPE = STREAM
/* POINTERS TO DATA OBJECTS */
^COMPRESSED_FILE = "HA497_0000_ND3.JP2"
/* IDENTIFICATION DATA ELEMENTS */
DATA_SET_ID = "MEX-M-HRSC-5-REFDR-MAPPROJECTED-V3.0"
DATA_SET_NAME = "MARS EXPRESS HRSC MAP PROJECTED REFDR V3.0"
DETECTOR_ID = MEX_HRSC_NADIR
EVENT_TYPE = "MARS-CLOUD-VARIABLE-At"
INSTRUMENT_HOST_ID = MEX
INSTRUMENT_HOST_NAME = "MARS EXPRESS"
INSTRUMENT_ID = HRSC
INSTRUMENT_NAME = "HIGH RESOLUTION STEREO CAMERA"
MISSION_NAME = "MARS EXPRESS"
MISSION_PHASE_NAME = ME_Phase_25
PROCESSING_LEVEL_ID = 3
PRODUCT_CREATION_TIME = 2016-10-27T12:16:28.000Z
PRODUCT_ID = "HA497_0000_ND3.JP2"
RELEASE_ID = 0107
REVISION_ID = 0000
/* QUALITY DATA ELEMENTS */
DATA_QUALITY_ID = 1
DATA_QUALITY_DESC = "Data calculated based on original SPICE kernels"
/* TIME DATA ELEMENTS */
SPACECRAFT_CLOCK_START_COUNT = "1/0281007533.07277"
SPACECRAFT_CLOCK_STOP_COUNT = "1/0281008256.63211"
START_TIME = 2012-03-28T09:39:29.188Z
STOP_TIME = 2012-03-28T09:49:05.212Z
/* ORBITAL DATA ELEMENTS */
ASCENDING_NODE_LONGITUDE = 16.93
MAXIMUM_RESOLUTION = 57.9
FOOTPRINT_POINT_LATITUDE = (-20.4949,-20.4938,-19.7561,-19.02, -18.2857,-17.5533,-16.8227,-16.0942, -15.3677,-14.6434,-13.9214,-13.2016, -12.4842,-11.7692,-11.0567,-10.3467, -9.63929,-8.93496,-8.23327,-7.53397, -6.83799,-6.14467,-5.45426,-4.76705, -4.08281,-3.40168,-2.72369,-2.04888, -1.37733,-0.709046,-0.044095,0.617517, 1.27575,1.93059,2.58199,3.22994,3.8744, 4.51535,5.15277,5.78665,6.41695,7.04367 ,7.6668,8.2863,8.90218,9.51442,10.7279, 11.9268,13.111,13.1704,13.187,12.604, 11.4099,10.201,9.59115,8.9776,8.36043, 7.73962,7.11522,6.48721,5.85562,5.22047 ,4.5818,3.93963,3.29396,2.64485,1.9923, 1.3363,0.676909,0.0141535,-0.651935, -1.32133,-1.99398,-2.66986,-3.34893, -4.03115,-4.71617,-5.40434,-6.09545, -6.78991,-7.48685,-8.18705,-8.8898, -9.59584,-10.304,-11.0148,-11.7282, -12.4441,-13.1624,-13.883,-14.6059, -15.3311,-16.0584,-16.7878,-17.5191, -18.2524,-18.9875,-19.7244,-20.463, -20.4949)
FOOTPRINT_POINT_LONGITUDE = (265.93,265.276,265.271,265.265,265.258 ,265.25,265.242,265.231,265.221,265.209 ,265.197,265.183,265.169,265.153, 265.137,265.118,265.096,265.084,265.068 ,265.042,265.026,265.003,264.977, 264.956,264.932,264.907,264.881,264.854 ,264.827,264.799,264.771,264.743, 264.714,264.685,264.655,264.624,264.593 ,264.561,264.528,264.495,264.462, 264.427,264.392,264.357,264.321,264.284 ,264.209,264.132,264.053,265.545, 266.415,266.955,266.927,266.902,266.89, 266.878,266.867,266.855,266.845,266.834 ,266.824,266.814,266.804,266.796, 266.787,266.779,266.772,266.764,266.757 ,266.75,266.743,266.736,266.73,266.723, 266.716,266.71,266.708,266.705,266.703, 266.695,266.693,266.686,266.682,266.669 ,266.666,266.662,266.658,266.654,266.65 ,266.647,266.644,266.64,266.637,266.634 ,266.631,266.628,266.625,266.622, 266.619,265.93)
ORBIT_NUMBER = 10497
ORBITAL_ECCENTRICITY = 0.579
ORBITAL_INCLINATION = 86.87
ORBITAL_SEMIMAJOR_AXIS = 8833.95
PERIAPSIS_ALTITUDE = 333.48
PERIAPSIS_ARGUMENT_ANGLE = 326.01
PERIAPSIS_TIME = 2012-03-28T09:36:03.000Z
SPACECRAFT_ORIENTATION = (0.0,1.0,0.0)
^MEX_ORIENTATION_DESC = "MEX_ORIENTATION_DESC.TXT"
SPACECRAFT_POINTING_MODE = NADIR
^MEX_POINTING_DESC = "MEX_POINTING_DESC.TXT"
RIGHT_ASCENSION = -1e+32
DECLINATION = -1e+32
OFFSET_ANGLE = -1e+32
SPACECRAFT_SOLAR_DISTANCE = 2.47951e+08
TARGET_NAME = MARS
/* CAMERA DATA ELEMENTS */
DETECTOR_TEMPERATURE = 18.9822
FOCAL_PLANE_TEMPERATURE = 8.9911
INST_CMPRS_NAME = "DISCRETE COSINE TRANSFORMATION (DCT)"
INST_CMPRS_RATIO = 17.0756
INST_CMPRS_QUALITY = 0
INST_CMPRS_QUANTZ_TBL_ID = 0
INSTRUMENT_TEMPERATURE = 12.4574
LENS_TEMPERATURE = 9.6028
MACROPIXEL_SIZE = 4
MISSING_FRAMES = 0
PIXEL_SUBSAMPLING_FLAG = N
SIGNAL_CHAIN_ID = 0
/* RADIOMETRIC DATA ELEMENTS */
BANDWIDTH = 177.0
CENTER_FILTER_WAVELENGTH = 677.5
RADIANCE_OFFSET = 0.54741
RADIANCE_SCALING_FACTOR = 0.0254921
REFLECTANCE_SCALING_FACTOR = 0.000832572
MEX:REFLECTANCE_OFFSET = 0.0178784
/* IMAGE OBJECT DEFINITIONS */
OBJECT = IMAGE
  INTERCHANGE_FORMAT = BINARY
  LINES = 39936
  LINE_SAMPLES = 3481
  SAMPLE_TYPE = UNSIGNED_INTEGER
  SAMPLE_BITS = 8
  BANDS = 1
  BAND_STORAGE_TYPE = BAND_SEQUENTIAL
  MAXIMUM = 255
  MEAN = 134.771
  MINIMUM = 1
  STANDARD_DEVIATION = 57.1722
END_OBJECT = IMAGE
/* MAP OBJECT DEFINITIONS */
OBJECT = IMAGE_MAP_PROJECTION
  ^DATA_SET_MAP_PROJECTION_CATALOG= "DSMAP.CAT"
  A_AXIS_RADIUS = 3396.0
  B_AXIS_RADIUS = 3396.0
  C_AXIS_RADIUS = 3396.0
  CENTER_LATITUDE = 0.0
  CENTER_LONGITUDE = 266.0
  COORDINATE_SYSTEM_NAME = PLANETOGRAPHIC
  COORDINATE_SYSTEM_TYPE = "BODY-FIXED ROTATING"
  EASTERNMOST_LONGITUDE = 266.955
  FIRST_STANDARD_PARALLEL = "N/A"
  LINE_FIRST_PIXEL = 1
  LINE_LAST_PIXEL = 39936
  LINE_PROJECTION_OFFSET = 15642.0
  MAP_PROJECTION_ROTATION = 0.0
  MAP_PROJECTION_TYPE = SINUSOIDAL
  MAP_RESOLUTION = 1185.42760773333
  MAP_SCALE = 0.05
  MAXIMUM_LATITUDE = 13.187
  MINIMUM_LATITUDE = -20.4949
  POSITIVE_LONGITUDE_DIRECTION = EAST
  REFERENCE_LATITUDE = "N/A"
  REFERENCE_LONGITUDE = "N/A"
  SAMPLE_FIRST_PIXEL = 1
  SAMPLE_LAST_PIXEL = 3481
  SAMPLE_PROJECTION_OFFSET = 2303.0
  SECOND_STANDARD_PARALLEL = "N/A"
  WESTERNMOST_LONGITUDE = 264.053
END_OBJECT = IMAGE_MAP_PROJECTION
/* The JPEG2000 image data file associated with this label. */
OBJECT = COMPRESSED_FILE
  FILE_NAME = "HA497_0000_ND3.JP2"
  RECORD_TYPE = UNDEFINED
  FILE_RECORDS = UNK
  ENCODING_TYPE = "JP2"
  INTERCHANGE_FORMAT = BINARY
  UNCOMPRESSED_FILE_NAME = "HA497_0000_ND3.IMG"
  REQUIRED_STORAGE_BYTES = "139041583"
  ^DESCRIPTION = "JP2INFO.TXT"
END_OBJECT = COMPRESSED_FILE
END
