PDS_VERSION_ID = PDS3
/* FILE DATA ELEMENTS */
RECORD_TYPE = STREAM
/* POINTERS TO DATA OBJECTS */
^COMPRESSED_FILE = "HA499_0000_BL3.JP2"
/* IDENTIFICATION DATA ELEMENTS */
DATA_SET_ID = "MEX-M-HRSC-5-REFDR-MAPPROJECTED-V3.0"
DATA_SET_NAME = "MARS EXPRESS HRSC MAP PROJECTED REFDR V3.0"
DETECTOR_ID = MEX_HRSC_BLUE
EVENT_TYPE = "MARS-REGIONAL-MAPPING-Im-Fl"
INSTRUMENT_HOST_ID = MEX
INSTRUMENT_HOST_NAME = "MARS EXPRESS"
INSTRUMENT_ID = HRSC
INSTRUMENT_NAME = "HIGH RESOLUTION STEREO CAMERA"
MISSION_NAME = "MARS EXPRESS"
MISSION_PHASE_NAME = ME_Phase_25
PROCESSING_LEVEL_ID = 3
PRODUCT_CREATION_TIME = 2016-10-27T12:16:28.000Z
PRODUCT_ID = "HA499_0000_BL3.JP2"
RELEASE_ID = 0107
REVISION_ID = 0000
/* QUALITY DATA ELEMENTS */
DATA_QUALITY_ID = 1
DATA_QUALITY_DESC = "Data calculated based on original SPICE kernels"
/* TIME DATA ELEMENTS */
SPACECRAFT_CLOCK_START_COUNT = "1/0281058037.07304"
SPACECRAFT_CLOCK_STOP_COUNT = "1/0281058330.51444"
START_TIME = 2012-03-28T23:41:13.249Z
STOP_TIME = 2012-03-28T23:44:16.694Z
/* ORBITAL DATA ELEMENTS */
ASCENDING_NODE_LONGITUDE = 16.89
MAXIMUM_RESOLUTION = 69.5
FOOTPRINT_POINT_LATITUDE = (-11.1679,-11.168,-11.1679,-11.1676, -11.167,-11.1662,-11.1652,-10.8683, -10.4676,-10.0679,-9.86516,-9.6609, -9.35537,-9.04888,-8.84142,-8.63337, -8.32168,-8.11402,-7.90228,-7.69028, -7.47833,-7.2669,-7.05173,-6.83603, -6.62054,-6.40525,-6.07647,-5.85715, -5.63772,-5.30417,-5.08108,-4.85823, -4.51912,-4.29226,-4.06572,-3.83584, -3.60492,-3.37457,-3.14186,-2.90752, -2.67373,-2.43736,-2.19937,-1.96181, -1.72189,-1.48052,-1.23946,-0.872739, -0.62771,-0.380255,-0.057943,-0.0555721 ,-0.0527427,-0.0500235,-0.0473982, -0.0442103,-0.0414808,-0.290377, -0.539611,-0.784589,-1.03021,-1.27434, -1.63702,-1.87888,-2.11685,-2.3552, -2.71061,-3.06154,-3.29707,-3.52781, -3.75879,-4.10413,-4.33133,-4.55855, -4.78601,-5.12102,-5.34461,-5.5684, -5.89769,-6.11742,-6.44596,-6.66193, -6.87789,-7.0943,-7.30877,-7.51962, -7.73172,-7.94418,-8.26015,-8.46886, -8.67491,-8.88354,-9.19458,-9.39849, -9.60265,-9.80723,-10.0115,-10.4119, -10.8132,-11.1679)
FOOTPRINT_POINT_LONGITUDE = (61.2275,60.9989,60.7686,60.5364, 60.3025,60.0666,59.7257,59.7197,59.7112 ,59.7031,59.6987,59.6943,59.6892, 59.6791,59.6747,59.6698,59.6623,59.6567 ,59.6513,59.6455,59.639,59.6333,59.6275 ,59.6216,59.6156,59.6092,59.5994,59.593 ,59.5853,59.5755,59.5687,59.5616, 59.5502,59.5426,59.5349,59.5276,59.5186 ,59.5104,59.5022,59.4936,59.4857, 59.4763,59.4672,59.4582,59.4491,59.44, 59.4305,59.4165,59.4056,59.3956,59.475, 59.7398,60.0589,60.357,60.6163,60.9663, 61.2405,61.3718,61.3696,61.3675,61.3652 ,61.3631,61.3599,61.3578,61.3558, 61.3537,61.3507,61.3479,61.3458,61.3439 ,61.342,61.3392,61.3374,61.3356,61.3337 ,61.3311,61.3293,61.3276,61.325,61.3233 ,61.3208,61.3191,61.3174,61.3158, 61.3141,61.3125,61.3109,61.3093,61.3069 ,61.3053,61.3037,61.3021,61.2997, 61.2982,61.2966,61.295,61.2935,61.2904, 61.2873,61.2275)
ORBIT_NUMBER = 10499
ORBITAL_ECCENTRICITY = 0.578
ORBITAL_INCLINATION = 86.89
ORBITAL_SEMIMAJOR_AXIS = 8829.77
PERIAPSIS_ALTITUDE = 333.29
PERIAPSIS_ARGUMENT_ANGLE = 325.68
PERIAPSIS_TIME = 2012-03-28T23:35:21.000Z
SPACECRAFT_ORIENTATION = (0.0,1.0,0.0)
^MEX_ORIENTATION_DESC = "MEX_ORIENTATION_DESC.TXT"
SPACECRAFT_POINTING_MODE = ACROSSTRACK
^MEX_POINTING_DESC = "MEX_POINTING_DESC.TXT"
RIGHT_ASCENSION = -1e+32
DECLINATION = -1e+32
OFFSET_ANGLE = 0.8
SPACECRAFT_SOLAR_DISTANCE = 2.47915e+08
TARGET_NAME = MARS
/* CAMERA DATA ELEMENTS */
DETECTOR_TEMPERATURE = 18.5744
FOCAL_PLANE_TEMPERATURE = 8.7872
INST_CMPRS_NAME = "DISCRETE COSINE TRANSFORMATION (DCT)"
INST_CMPRS_RATIO = 5.9367
INST_CMPRS_QUALITY = 0
INST_CMPRS_QUANTZ_TBL_ID = 0
INSTRUMENT_TEMPERATURE = 12.0496
LENS_TEMPERATURE = 9.195
MACROPIXEL_SIZE = 4
MISSING_FRAMES = 0
PIXEL_SUBSAMPLING_FLAG = N
SIGNAL_CHAIN_ID = 2
/* RADIOMETRIC DATA ELEMENTS */
BANDWIDTH = 76.0
CENTER_FILTER_WAVELENGTH = 444.0
RADIANCE_OFFSET = 0.183848
RADIANCE_SCALING_FACTOR = 0.00175094
REFLECTANCE_SCALING_FACTOR = 0.000110569
MEX:REFLECTANCE_OFFSET = 0.0116097
/* IMAGE OBJECT DEFINITIONS */
OBJECT = IMAGE
  INTERCHANGE_FORMAT = BINARY
  LINES = 13190
  LINE_SAMPLES = 2492
  SAMPLE_TYPE = UNSIGNED_INTEGER
  SAMPLE_BITS = 8
  BANDS = 1
  BAND_STORAGE_TYPE = BAND_SEQUENTIAL
  MAXIMUM = 255
  MEAN = 132.43
  MINIMUM = 1
  STANDARD_DEVIATION = 25.8901
END_OBJECT = IMAGE
/* MAP OBJECT DEFINITIONS */
OBJECT = IMAGE_MAP_PROJECTION
  ^DATA_SET_MAP_PROJECTION_CATALOG= "DSMAP.CAT"
  A_AXIS_RADIUS = 3396.0
  B_AXIS_RADIUS = 3396.0
  C_AXIS_RADIUS = 3396.0
  CENTER_LATITUDE = 0.0
  CENTER_LONGITUDE = 60.0
  COORDINATE_SYSTEM_NAME = PLANETOGRAPHIC
  COORDINATE_SYSTEM_TYPE = "BODY-FIXED ROTATING"
  EASTERNMOST_LONGITUDE = 61.3718
  FIRST_STANDARD_PARALLEL = "N/A"
  LINE_FIRST_PIXEL = 1
  LINE_LAST_PIXEL = 13190
  LINE_PROJECTION_OFFSET = -57.875
  MAP_PROJECTION_ROTATION = 0.0
  MAP_PROJECTION_TYPE = SINUSOIDAL
  MAP_RESOLUTION = 1185.42760773333
  MAP_SCALE = 0.05
  MAXIMUM_LATITUDE = -0.041481
  MINIMUM_LATITUDE = -11.168
  POSITIVE_LONGITUDE_DIRECTION = EAST
  REFERENCE_LATITUDE = "N/A"
  REFERENCE_LONGITUDE = "N/A"
  SAMPLE_FIRST_PIXEL = 1
  SAMPLE_LAST_PIXEL = 2492
  SAMPLE_PROJECTION_OFFSET = 839.375
  SECOND_STANDARD_PARALLEL = "N/A"
  WESTERNMOST_LONGITUDE = 59.3956
END_OBJECT = IMAGE_MAP_PROJECTION
/* The JPEG2000 image data file associated with this label. */
OBJECT = COMPRESSED_FILE
  FILE_NAME = "HA499_0000_BL3.JP2"
  RECORD_TYPE = UNDEFINED
  FILE_RECORDS = UNK
  ENCODING_TYPE = "JP2"
  INTERCHANGE_FORMAT = BINARY
  UNCOMPRESSED_FILE_NAME = "HA499_0000_BL3.IMG"
  REQUIRED_STORAGE_BYTES = "32889416"
  ^DESCRIPTION = "JP2INFO.TXT"
END_OBJECT = COMPRESSED_FILE
END
