PDS_VERSION_ID = PDS3
/* FILE DATA ELEMENTS */
RECORD_TYPE = STREAM
/* POINTERS TO DATA OBJECTS */
^COMPRESSED_FILE = "HA499_0000_P23.JP2"
/* IDENTIFICATION DATA ELEMENTS */
DATA_SET_ID = "MEX-M-HRSC-5-REFDR-MAPPROJECTED-V3.0"
DATA_SET_NAME = "MARS EXPRESS HRSC MAP PROJECTED REFDR V3.0"
DETECTOR_ID = MEX_HRSC_P2
EVENT_TYPE = "MARS-REGIONAL-MAPPING-Im-Fl"
INSTRUMENT_HOST_ID = MEX
INSTRUMENT_HOST_NAME = "MARS EXPRESS"
INSTRUMENT_ID = HRSC
INSTRUMENT_NAME = "HIGH RESOLUTION STEREO CAMERA"
MISSION_NAME = "MARS EXPRESS"
MISSION_PHASE_NAME = ME_Phase_25
PROCESSING_LEVEL_ID = 3
PRODUCT_CREATION_TIME = 2016-10-27T12:16:28.000Z
PRODUCT_ID = "HA499_0000_P23.JP2"
RELEASE_ID = 0107
REVISION_ID = 0000
/* QUALITY DATA ELEMENTS */
DATA_QUALITY_ID = 1
DATA_QUALITY_DESC = "Data calculated based on original SPICE kernels"
/* TIME DATA ELEMENTS */
SPACECRAFT_CLOCK_START_COUNT = "1/0281058037.07304"
SPACECRAFT_CLOCK_STOP_COUNT = "1/0281058330.51444"
START_TIME = 2012-03-28T23:40:53.725Z
STOP_TIME = 2012-03-28T23:43:49.746Z
/* ORBITAL DATA ELEMENTS */
ASCENDING_NODE_LONGITUDE = 16.89
MAXIMUM_RESOLUTION = 34.8
FOOTPRINT_POINT_LATITUDE = (-11.1847,-11.1799,-11.1746,-11.1688, -11.1625,-11.1557,-10.8624,-10.5607, -10.1582,-9.85682,-9.65271,-9.34749, -9.13836,-8.93301,-8.72821,-8.51944, -8.30824,-8.0984,-7.7836,-7.57028, -7.35574,-7.14179,-6.82083,-6.60385, -6.38503,-6.16646,-5.94847,-5.61488, -5.28126,-5.05907,-4.83402,-4.60673, -4.37994,-4.15334,-3.92303,-3.69106, -3.34427,-3.10979,-2.87435,-2.6398, -2.4023,-2.16278,-1.92397,-1.56194, -1.31901,-1.07622,-0.705381,-0.458589, -0.20955,-0.0676693,-0.0707726, -0.0741612,-0.0760374,-0.0791442, -0.0805246,-0.333004,-0.580106, -0.827338,-1.07477,-1.31834,-1.5623, -1.80599,-2.1652,-2.40489,-2.76162, -3.11087,-3.35094,-3.5824,-3.92898, -4.16123,-4.50211,-4.73001,-5.06987, -5.29268,-5.5159,-5.73873,-5.96068, -6.17914,-6.398,-6.61778,-6.8357, -7.05066,-7.26498,-7.58308,-7.7961, -8.00647,-8.32451,-8.53624,-8.74003, -8.94566,-9.15485,-9.36454,-9.56922, -9.87569,-10.0768,-10.2784,-10.4798, -10.6817,-10.983,-11.1847)
FOOTPRINT_POINT_LONGITUDE = (61.0461,60.8113,60.5745,60.3357, 60.0948,59.8515,59.7242,59.718,59.7102, 59.7042,59.6989,59.6955,59.6877,59.6832 ,59.679,59.6748,59.6688,59.6638,59.6559 ,59.6497,59.6441,59.6387,59.6302, 59.6244,59.6182,59.6119,59.6059,59.5951 ,59.5855,59.579,59.5721,59.5648,59.5576 ,59.5503,59.5432,59.5348,59.5226, 59.5148,59.5064,59.4985,59.4899,59.4811 ,59.4725,59.4592,59.4503,59.4411, 59.4262,59.4167,59.4063,59.7628,60.0469 ,60.3851,60.665,60.9986,61.2748,61.3347 ,61.333,61.3313,61.3296,61.328,61.3263, 61.3247,61.3223,61.3207,61.3183,61.3162 ,61.3145,61.313,61.3108,61.3093,61.3072 ,61.3057,61.3036,61.3022,61.3008, 61.2994,61.2981,61.2967,61.2953,61.294, 61.2926,61.2913,61.29,61.2879,61.2866, 61.2853,61.2834,61.2821,61.2806,61.2793 ,61.2781,61.2769,61.2755,61.2736, 61.2722,61.271,61.2696,61.2683,61.2664, 61.0461)
ORBIT_NUMBER = 10499
ORBITAL_ECCENTRICITY = 0.578
ORBITAL_INCLINATION = 86.89
ORBITAL_SEMIMAJOR_AXIS = 8829.77
PERIAPSIS_ALTITUDE = 333.29
PERIAPSIS_ARGUMENT_ANGLE = 325.68
PERIAPSIS_TIME = 2012-03-28T23:35:21.000Z
SPACECRAFT_ORIENTATION = (0.0,1.0,0.0)
^MEX_ORIENTATION_DESC = "MEX_ORIENTATION_DESC.TXT"
SPACECRAFT_POINTING_MODE = ACROSSTRACK
^MEX_POINTING_DESC = "MEX_POINTING_DESC.TXT"
RIGHT_ASCENSION = -1e+32
DECLINATION = -1e+32
OFFSET_ANGLE = 0.8
SPACECRAFT_SOLAR_DISTANCE = 2.47915e+08
TARGET_NAME = MARS
/* CAMERA DATA ELEMENTS */
DETECTOR_TEMPERATURE = 19.1861
FOCAL_PLANE_TEMPERATURE = 8.7872
INST_CMPRS_NAME = "DISCRETE COSINE TRANSFORMATION (DCT)"
INST_CMPRS_RATIO = 7.86413
INST_CMPRS_QUALITY = 0
INST_CMPRS_QUANTZ_TBL_ID = 0
INSTRUMENT_TEMPERATURE = 12.0496
LENS_TEMPERATURE = 9.195
MACROPIXEL_SIZE = 2
MISSING_FRAMES = 0
PIXEL_SUBSAMPLING_FLAG = N
SIGNAL_CHAIN_ID = 3
/* RADIOMETRIC DATA ELEMENTS */
BANDWIDTH = 177.0
CENTER_FILTER_WAVELENGTH = 676.5
RADIANCE_OFFSET = 1.0299
RADIANCE_SCALING_FACTOR = 0.0108738
REFLECTANCE_SCALING_FACTOR = 0.000354359
MEX:REFLECTANCE_OFFSET = 0.0335629
/* IMAGE OBJECT DEFINITIONS */
OBJECT = IMAGE
  INTERCHANGE_FORMAT = BINARY
  LINES = 26379
  LINE_SAMPLES = 4984
  SAMPLE_TYPE = UNSIGNED_INTEGER
  SAMPLE_BITS = 8
  BANDS = 1
  BAND_STORAGE_TYPE = BAND_SEQUENTIAL
  MAXIMUM = 255
  MEAN = 102.242
  MINIMUM = 1
  STANDARD_DEVIATION = 19.9222
END_OBJECT = IMAGE
/* MAP OBJECT DEFINITIONS */
OBJECT = IMAGE_MAP_PROJECTION
  ^DATA_SET_MAP_PROJECTION_CATALOG= "DSMAP.CAT"
  A_AXIS_RADIUS = 3396.0
  B_AXIS_RADIUS = 3396.0
  C_AXIS_RADIUS = 3396.0
  CENTER_LATITUDE = 0.0
  CENTER_LONGITUDE = 60.0
  COORDINATE_SYSTEM_NAME = PLANETOGRAPHIC
  COORDINATE_SYSTEM_TYPE = "BODY-FIXED ROTATING"
  EASTERNMOST_LONGITUDE = 61.3347
  FIRST_STANDARD_PARALLEL = "N/A"
  LINE_FIRST_PIXEL = 1
  LINE_LAST_PIXEL = 26379
  LINE_PROJECTION_OFFSET = -115.25
  MAP_PROJECTION_ROTATION = 0.0
  MAP_PROJECTION_TYPE = SINUSOIDAL
  MAP_RESOLUTION = 2370.85521546667
  MAP_SCALE = 0.025
  MAXIMUM_LATITUDE = -0.067669
  MINIMUM_LATITUDE = -11.1847
  POSITIVE_LONGITUDE_DIRECTION = EAST
  REFERENCE_LATITUDE = "N/A"
  REFERENCE_LONGITUDE = "N/A"
  SAMPLE_FIRST_PIXEL = 1
  SAMPLE_LAST_PIXEL = 4984
  SAMPLE_PROJECTION_OFFSET = 1679.25
  SECOND_STANDARD_PARALLEL = "N/A"
  WESTERNMOST_LONGITUDE = 59.4063
END_OBJECT = IMAGE_MAP_PROJECTION
/* The JPEG2000 image data file associated with this label. */
OBJECT = COMPRESSED_FILE
  FILE_NAME = "HA499_0000_P23.JP2"
  RECORD_TYPE = UNDEFINED
  FILE_RECORDS = UNK
  ENCODING_TYPE = "JP2"
  INTERCHANGE_FORMAT = BINARY
  UNCOMPRESSED_FILE_NAME = "HA499_0000_P23.IMG"
  REQUIRED_STORAGE_BYTES = "131497856"
  ^DESCRIPTION = "JP2INFO.TXT"
END_OBJECT = COMPRESSED_FILE
END
