PDS_VERSION_ID = PDS3
/* FILE DATA ELEMENTS */
RECORD_TYPE = STREAM
/* POINTERS TO DATA OBJECTS */
^COMPRESSED_FILE = "HA502_0001_BL3.JP2"
/* IDENTIFICATION DATA ELEMENTS */
DATA_SET_ID = "MEX-M-HRSC-5-REFDR-MAPPROJECTED-V3.0"
DATA_SET_NAME = "MARS EXPRESS HRSC MAP PROJECTED REFDR V3.0"
DETECTOR_ID = MEX_HRSC_BLUE
EVENT_TYPE = "MARS-REGIONAL-MAPPING-Vo-Fl"
INSTRUMENT_HOST_ID = MEX
INSTRUMENT_HOST_NAME = "MARS EXPRESS"
INSTRUMENT_ID = HRSC
INSTRUMENT_NAME = "HIGH RESOLUTION STEREO CAMERA"
MISSION_NAME = "MARS EXPRESS"
MISSION_PHASE_NAME = ME_Phase_25
PROCESSING_LEVEL_ID = 3
PRODUCT_CREATION_TIME = 2016-10-27T15:49:42.000Z
PRODUCT_ID = "HA502_0001_BL3.JP2"
RELEASE_ID = 0108
REVISION_ID = 0000
/* QUALITY DATA ELEMENTS */
DATA_QUALITY_ID = 1
DATA_QUALITY_DESC = "Data calculated based on original SPICE kernels"
/* TIME DATA ELEMENTS */
SPACECRAFT_CLOCK_START_COUNT = "1/0281133457.07295"
SPACECRAFT_CLOCK_STOP_COUNT = "1/0281133792.54750"
START_TIME = 2012-03-29T20:38:08.624Z
STOP_TIME = 2012-03-29T20:42:08.754Z
/* ORBITAL DATA ELEMENTS */
ASCENDING_NODE_LONGITUDE = 16.83
MAXIMUM_RESOLUTION = 59.9
FOOTPRINT_POINT_LATITUDE = (-19.4961,-19.4936,-19.49,-19.3434, -19.0638,-18.7844,-18.5054,-18.2267, -17.9482,-17.6697,-17.3915,-17.1137, -16.8361,-16.5587,-16.2817,-16.0045, -15.7283,-15.4521,-15.1761,-14.9005, -14.479,-14.197,-13.9133,-13.632, -13.345,-13.0562,-12.7678,-12.3326, -12.0379,-11.7438,-11.45,-10.9998, -10.6997,-10.2465,-9.94039,-9.6347, -9.17019,-8.85797,-8.38688,-8.06897, -7.75177,-7.42937,-7.10609,-6.61625, -6.28786,-5.95812,-5.62157,-5.28738, -4.94744,-4.51172,-4.5077,-4.50455, -4.50208,-4.67043,-5.01113,-5.35004, -5.68511,-6.02081,-6.5155,-6.84543, -7.16919,-7.49354,-7.81509,-8.13317, -8.60964,-8.92169,-9.23435,-9.54505, -9.85128,-10.1579,-10.4638,-10.7642, -11.0651,-11.5147,-11.8092,-12.104, -12.5454,-12.8336,-13.1222,-13.4111, -13.6982,-13.9804,-14.263,-14.5458, -14.9665,-15.518,-15.796,-16.073, -16.3503,-16.6278,-16.9057,-17.1838, -17.462,-17.7405,-18.0193,-18.2983, -18.5776,-18.8571,-19.137,-19.4961)
FOOTPRINT_POINT_LONGITUDE = (114.45,114.04,113.625,113.159,113.157, 113.155,113.154,113.152,113.15,113.148, 113.145,113.143,113.14,113.137,113.134, 113.13,113.128,113.124,113.121,113.117, 113.112,113.108,113.099,113.096,113.095 ,113.089,113.083,113.074,113.068, 113.062,113.057,113.047,113.04,113.03, 113.023,113.017,113.005,112.996,112.982 ,112.973,112.965,112.956,112.947,112.93 ,112.922,112.912,112.897,112.886, 112.875,113.033,113.491,113.93,114.266, 114.67,114.667,114.665,114.662,114.659, 114.655,114.652,114.65,114.647,114.645, 114.642,114.638,114.636,114.634,114.631 ,114.629,114.627,114.624,114.622,114.62 ,114.616,114.614,114.612,114.608, 114.606,114.604,114.602,114.599,114.597 ,114.595,114.593,114.59,114.585,114.583 ,114.581,114.578,114.576,114.574, 114.572,114.569,114.567,114.565,114.562 ,114.56,114.557,114.555,114.45)
ORBIT_NUMBER = 10502
ORBITAL_ECCENTRICITY = 0.578
ORBITAL_INCLINATION = 86.88
ORBITAL_SEMIMAJOR_AXIS = 8830.17
PERIAPSIS_ALTITUDE = 333.19
PERIAPSIS_ARGUMENT_ANGLE = 325.14
PERIAPSIS_TIME = 2012-03-29T20:34:19.000Z
SPACECRAFT_ORIENTATION = (0.0,1.0,0.0)
^MEX_ORIENTATION_DESC = "MEX_ORIENTATION_DESC.TXT"
SPACECRAFT_POINTING_MODE = ACROSSTRACK
^MEX_POINTING_DESC = "MEX_POINTING_DESC.TXT"
RIGHT_ASCENSION = -1e+32
DECLINATION = -1e+32
OFFSET_ANGLE = 0.6
SPACECRAFT_SOLAR_DISTANCE = 2.47861e+08
TARGET_NAME = MARS
/* CAMERA DATA ELEMENTS */
DETECTOR_TEMPERATURE = 18.7783
FOCAL_PLANE_TEMPERATURE = 9.3989
INST_CMPRS_NAME = "DISCRETE COSINE TRANSFORMATION (DCT)"
INST_CMPRS_RATIO = 4.47043
INST_CMPRS_QUALITY = 0
INST_CMPRS_QUANTZ_TBL_ID = 0
INSTRUMENT_TEMPERATURE = 12.0496
LENS_TEMPERATURE = 9.3989
MACROPIXEL_SIZE = 4
MISSING_FRAMES = 0
PIXEL_SUBSAMPLING_FLAG = N
SIGNAL_CHAIN_ID = 2
/* RADIOMETRIC DATA ELEMENTS */
BANDWIDTH = 76.0
CENTER_FILTER_WAVELENGTH = 444.0
RADIANCE_OFFSET = 0.153169
RADIANCE_SCALING_FACTOR = 0.001956
REFLECTANCE_SCALING_FACTOR = 0.000123464
MEX:REFLECTANCE_OFFSET = 0.0096681
/* IMAGE OBJECT DEFINITIONS */
OBJECT = IMAGE
  INTERCHANGE_FORMAT = BINARY
  LINES = 17784
  LINE_SAMPLES = 2263
  SAMPLE_TYPE = UNSIGNED_INTEGER
  SAMPLE_BITS = 8
  BANDS = 1
  BAND_STORAGE_TYPE = BAND_SEQUENTIAL
  MAXIMUM = 255
  MEAN = 114.355
  MINIMUM = 1
  STANDARD_DEVIATION = 29.9216
END_OBJECT = IMAGE
/* MAP OBJECT DEFINITIONS */
OBJECT = IMAGE_MAP_PROJECTION
  ^DATA_SET_MAP_PROJECTION_CATALOG= "DSMAP.CAT"
  A_AXIS_RADIUS = 3396.0
  B_AXIS_RADIUS = 3396.0
  C_AXIS_RADIUS = 3396.0
  CENTER_LATITUDE = 0.0
  CENTER_LONGITUDE = 114.0
  COORDINATE_SYSTEM_NAME = PLANETOGRAPHIC
  COORDINATE_SYSTEM_TYPE = "BODY-FIXED ROTATING"
  EASTERNMOST_LONGITUDE = 114.67
  FIRST_STANDARD_PARALLEL = "N/A"
  LINE_FIRST_PIXEL = 1
  LINE_LAST_PIXEL = 17784
  LINE_PROJECTION_OFFSET = -5327.375
  MAP_PROJECTION_ROTATION = 0.0
  MAP_PROJECTION_TYPE = SINUSOIDAL
  MAP_RESOLUTION = 1185.42760773333
  MAP_SCALE = 0.05
  MAXIMUM_LATITUDE = -4.50208
  MINIMUM_LATITUDE = -19.4961
  POSITIVE_LONGITUDE_DIRECTION = EAST
  REFERENCE_LATITUDE = "N/A"
  REFERENCE_LONGITUDE = "N/A"
  SAMPLE_FIRST_PIXEL = 1
  SAMPLE_LAST_PIXEL = 2263
  SAMPLE_PROJECTION_OFFSET = 1437.875
  SECOND_STANDARD_PARALLEL = "N/A"
  WESTERNMOST_LONGITUDE = 112.875
END_OBJECT = IMAGE_MAP_PROJECTION
/* The JPEG2000 image data file associated with this label. */
OBJECT = COMPRESSED_FILE
  FILE_NAME = "HA502_0001_BL3.JP2"
  RECORD_TYPE = UNDEFINED
  FILE_RECORDS = UNK
  ENCODING_TYPE = "JP2"
  INTERCHANGE_FORMAT = BINARY
  UNCOMPRESSED_FILE_NAME = "HA502_0001_BL3.IMG"
  REQUIRED_STORAGE_BYTES = "40267822"
  ^DESCRIPTION = "JP2INFO.TXT"
END_OBJECT = COMPRESSED_FILE
END
