PDS_VERSION_ID = PDS3
/* FILE DATA ELEMENTS */
RECORD_TYPE = STREAM
/* POINTERS TO DATA OBJECTS */
^COMPRESSED_FILE = "HA502_0001_ND3.JP2"
/* IDENTIFICATION DATA ELEMENTS */
DATA_SET_ID = "MEX-M-HRSC-5-REFDR-MAPPROJECTED-V3.0"
DATA_SET_NAME = "MARS EXPRESS HRSC MAP PROJECTED REFDR V3.0"
DETECTOR_ID = MEX_HRSC_NADIR
EVENT_TYPE = "MARS-REGIONAL-MAPPING-Vo-Fl"
INSTRUMENT_HOST_ID = MEX
INSTRUMENT_HOST_NAME = "MARS EXPRESS"
INSTRUMENT_ID = HRSC
INSTRUMENT_NAME = "HIGH RESOLUTION STEREO CAMERA"
MISSION_NAME = "MARS EXPRESS"
MISSION_PHASE_NAME = ME_Phase_25
PROCESSING_LEVEL_ID = 3
PRODUCT_CREATION_TIME = 2016-10-27T15:49:42.000Z
PRODUCT_ID = "HA502_0001_ND3.JP2"
RELEASE_ID = 0108
REVISION_ID = 0000
/* QUALITY DATA ELEMENTS */
DATA_QUALITY_ID = 1
DATA_QUALITY_DESC = "Data calculated based on original SPICE kernels"
/* TIME DATA ELEMENTS */
SPACECRAFT_CLOCK_START_COUNT = "1/0281133457.07295"
SPACECRAFT_CLOCK_STOP_COUNT = "1/0281133792.54750"
START_TIME = 2012-03-29T20:38:14.345Z
STOP_TIME = 2012-03-29T20:42:17.342Z
/* ORBITAL DATA ELEMENTS */
ASCENDING_NODE_LONGITUDE = 16.83
MAXIMUM_RESOLUTION = 15
FOOTPRINT_POINT_LATITUDE = (-19.4972,-19.4964,-19.4936,-19.2135, -18.9336,-18.654,-18.3747,-18.0956, -17.8169,-17.5384,-17.2602,-16.9823, -16.7047,-16.4274,-16.1505,-15.8738, -15.3215,-15.0412,-14.7585,-14.476, -14.194,-13.7646,-13.4762,-13.188, -12.7528,-12.4583,-12.1642,-11.8705, -11.5704,-11.2703,-10.9707,-10.5141, -10.2084,-9.74718,-9.43556,-9.12452, -8.80934,-8.49219,-8.17563,-7.85292, -7.3694,-6.87758,-6.54989,-6.21662, -5.8832,-5.37668,-5.03804,-4.69385, -4.51374,-4.50884,-4.50454,-4.49934, -4.66843,-5.01342,-5.35274,-5.86027, -6.19439,-6.52845,-7.02122,-7.3496, -7.83405,-8.15744,-8.47458,-8.79231, -9.10809,-9.41971,-9.73188,-10.194, -10.5002,-10.9577,-11.2578,-11.5584, -11.8592,-12.1533,-12.4479,-12.7429, -13.1789,-13.4675,-13.7565,-14.0454, -14.3277,-14.6104,-14.8935,-15.3158, -15.5922,-15.8691,-16.1462,-16.4236, -16.7013,-16.9793,-17.2576,-17.5362, -17.8151,-18.0943,-18.3738,-18.6535, -18.9335,-19.2138,-19.4944,-19.4972)
FOOTPRINT_POINT_LONGITUDE = (114.132,113.689,113.146,113.144, 113.143,113.141,113.139,113.137,113.135 ,113.132,113.13,113.127,113.124,113.121 ,113.118,113.115,113.108,113.104,113.1, 113.096,113.092,113.08,113.08,113.075, 113.066,113.06,113.054,113.048,113.041, 113.035,113.028,113.018,113.011,113.0, 112.992,112.984,112.974,112.965,112.956 ,112.947,112.934,112.916,112.906, 112.898,112.887,112.866,112.855,112.846 ,113.263,113.663,114.009,114.405, 114.681,114.678,114.675,114.671,114.668 ,114.665,114.66,114.658,114.654,114.651 ,114.648,114.646,114.643,114.64,114.638 ,114.634,114.632,114.628,114.626, 114.623,114.621,114.618,114.616,114.613 ,114.61,114.608,114.605,114.603,114.601 ,114.598,114.596,114.593,114.59,114.588 ,114.585,114.583,114.581,114.578, 114.576,114.573,114.571,114.568,114.566 ,114.563,114.561,114.558,114.556, 114.132)
ORBIT_NUMBER = 10502
ORBITAL_ECCENTRICITY = 0.578
ORBITAL_INCLINATION = 86.88
ORBITAL_SEMIMAJOR_AXIS = 8830.17
PERIAPSIS_ALTITUDE = 333.19
PERIAPSIS_ARGUMENT_ANGLE = 325.14
PERIAPSIS_TIME = 2012-03-29T20:34:19.000Z
SPACECRAFT_ORIENTATION = (0.0,1.0,0.0)
^MEX_ORIENTATION_DESC = "MEX_ORIENTATION_DESC.TXT"
SPACECRAFT_POINTING_MODE = ACROSSTRACK
^MEX_POINTING_DESC = "MEX_POINTING_DESC.TXT"
RIGHT_ASCENSION = -1e+32
DECLINATION = -1e+32
OFFSET_ANGLE = 0.6
SPACECRAFT_SOLAR_DISTANCE = 2.47861e+08
TARGET_NAME = MARS
/* CAMERA DATA ELEMENTS */
DETECTOR_TEMPERATURE = 18.7783
FOCAL_PLANE_TEMPERATURE = 9.3989
INST_CMPRS_NAME = "DISCRETE COSINE TRANSFORMATION (DCT)"
INST_CMPRS_RATIO = 5.57217
INST_CMPRS_QUALITY = 0
INST_CMPRS_QUANTZ_TBL_ID = 0
INSTRUMENT_TEMPERATURE = 12.0496
LENS_TEMPERATURE = 9.3989
MACROPIXEL_SIZE = 1
MISSING_FRAMES = 0
PIXEL_SUBSAMPLING_FLAG = N
SIGNAL_CHAIN_ID = 0
/* RADIOMETRIC DATA ELEMENTS */
BANDWIDTH = 177.0
CENTER_FILTER_WAVELENGTH = 677.5
RADIANCE_OFFSET = 0.611895
RADIANCE_SCALING_FACTOR = 0.0148338
REFLECTANCE_SCALING_FACTOR = 0.000484118
MEX:REFLECTANCE_OFFSET = 0.0199699
/* IMAGE OBJECT DEFINITIONS */
OBJECT = IMAGE
  INTERCHANGE_FORMAT = BINARY
  LINES = 71135
  LINE_SAMPLES = 9050
  SAMPLE_TYPE = UNSIGNED_INTEGER
  SAMPLE_BITS = 8
  BANDS = 1
  BAND_STORAGE_TYPE = BAND_SEQUENTIAL
  MAXIMUM = 255
  MEAN = 84.0241
  MINIMUM = 1
  STANDARD_DEVIATION = 23.27
END_OBJECT = IMAGE
/* MAP OBJECT DEFINITIONS */
OBJECT = IMAGE_MAP_PROJECTION
  ^DATA_SET_MAP_PROJECTION_CATALOG= "DSMAP.CAT"
  A_AXIS_RADIUS = 3396.0
  B_AXIS_RADIUS = 3396.0
  C_AXIS_RADIUS = 3396.0
  CENTER_LATITUDE = 0.0
  CENTER_LONGITUDE = 114.0
  COORDINATE_SYSTEM_NAME = PLANETOGRAPHIC
  COORDINATE_SYSTEM_TYPE = "BODY-FIXED ROTATING"
  EASTERNMOST_LONGITUDE = 114.681
  FIRST_STANDARD_PARALLEL = "N/A"
  LINE_FIRST_PIXEL = 1
  LINE_LAST_PIXEL = 71135
  LINE_PROJECTION_OFFSET = -21308.0
  MAP_PROJECTION_ROTATION = 0.0
  MAP_PROJECTION_TYPE = SINUSOIDAL
  MAP_RESOLUTION = 4741.71043093333
  MAP_SCALE = 0.0125
  MAXIMUM_LATITUDE = -4.49934
  MINIMUM_LATITUDE = -19.4972
  POSITIVE_LONGITUDE_DIRECTION = EAST
  REFERENCE_LATITUDE = "N/A"
  REFERENCE_LONGITUDE = "N/A"
  SAMPLE_FIRST_PIXEL = 1
  SAMPLE_LAST_PIXEL = 9050
  SAMPLE_PROJECTION_OFFSET = 5753.0
  SECOND_STANDARD_PARALLEL = "N/A"
  WESTERNMOST_LONGITUDE = 112.846
END_OBJECT = IMAGE_MAP_PROJECTION
/* The JPEG2000 image data file associated with this label. */
OBJECT = COMPRESSED_FILE
  FILE_NAME = "HA502_0001_ND3.JP2"
  RECORD_TYPE = UNDEFINED
  FILE_RECORDS = UNK
  ENCODING_TYPE = "JP2"
  INTERCHANGE_FORMAT = BINARY
  UNCOMPRESSED_FILE_NAME = "HA502_0001_ND3.IMG"
  REQUIRED_STORAGE_BYTES = "643807950"
  ^DESCRIPTION = "JP2INFO.TXT"
END_OBJECT = COMPRESSED_FILE
END
