PDS_VERSION_ID = PDS3
/* FILE DATA ELEMENTS */
RECORD_TYPE = STREAM
/* POINTERS TO DATA OBJECTS */
^COMPRESSED_FILE = "HA502_0001_RE3.JP2"
/* IDENTIFICATION DATA ELEMENTS */
DATA_SET_ID = "MEX-M-HRSC-5-REFDR-MAPPROJECTED-V3.0"
DATA_SET_NAME = "MARS EXPRESS HRSC MAP PROJECTED REFDR V3.0"
DETECTOR_ID = MEX_HRSC_RED
EVENT_TYPE = "MARS-REGIONAL-MAPPING-Vo-Fl"
INSTRUMENT_HOST_ID = MEX
INSTRUMENT_HOST_NAME = "MARS EXPRESS"
INSTRUMENT_ID = HRSC
INSTRUMENT_NAME = "HIGH RESOLUTION STEREO CAMERA"
MISSION_NAME = "MARS EXPRESS"
MISSION_PHASE_NAME = ME_Phase_25
PROCESSING_LEVEL_ID = 3
PRODUCT_CREATION_TIME = 2016-10-27T15:49:42.000Z
PRODUCT_ID = "HA502_0001_RE3.JP2"
RELEASE_ID = 0108
REVISION_ID = 0000
/* QUALITY DATA ELEMENTS */
DATA_QUALITY_ID = 1
DATA_QUALITY_DESC = "Data calculated based on original SPICE kernels"
/* TIME DATA ELEMENTS */
SPACECRAFT_CLOCK_START_COUNT = "1/0281133457.07295"
SPACECRAFT_CLOCK_STOP_COUNT = "1/0281133792.54750"
START_TIME = 2012-03-29T20:37:46.492Z
STOP_TIME = 2012-03-29T20:41:37.045Z
/* ORBITAL DATA ELEMENTS */
ASCENDING_NODE_LONGITUDE = 16.83
MAXIMUM_RESOLUTION = 61.2
FOOTPRINT_POINT_LATITUDE = (-19.5161,-19.4958,-19.4771,-19.0726, -18.7879,-18.5037,-18.2201,-17.936, -17.6515,-17.3675,-17.0835,-16.7998, -16.5159,-16.2327,-15.8075,-15.5241, -15.0996,-14.8167,-14.5344,-14.2535, -13.9642,-13.6816,-13.4056,-13.1202, -12.8301,-12.5398,-12.2505,-11.9608, -11.6645,-11.3684,-11.0725,-10.624, -10.3215,-10.0198,-9.71795,-9.40688, -9.09813,-8.78609,-8.31353,-7.99728, -7.52114,-7.0364,-6.54575,-6.2197, -5.89053,-5.54925,-5.21399,-4.87698, -4.54068,-4.51352,-4.51447,-4.52276, -4.52918,-4.87139,-5.20951,-5.71281, -6.21203,-6.54342,-6.87113,-7.19506, -7.51923,-7.99832,-8.31482,-8.78785, -9.09755,-9.40753,-9.86962,-10.1725, -10.4761,-10.9302,-11.2267,-11.5241, -11.8218,-12.1165,-12.4068,-12.6969, -12.9856,-13.2752,-13.5575,-13.8395, -14.1225,-14.4056,-14.6881,-14.9713, -15.2492,-15.533,-15.823,-16.2487, -16.5325,-16.8168,-17.1013,-17.3849, -17.669,-17.9531,-18.2377,-18.5225, -18.8071,-19.0925,-19.5017,-19.5161)
FOOTPRINT_POINT_LONGITUDE = (114.184,113.571,113.163,113.162,113.16 ,113.159,113.158,113.156,113.154, 113.152,113.149,113.147,113.144,113.142 ,113.137,113.134,113.129,113.126, 113.122,113.12,113.111,113.107,113.106, 113.101,113.096,113.091,113.086,113.08, 113.075,113.069,113.063,113.054,113.048 ,113.042,113.035,113.027,113.021, 113.011,112.999,112.991,112.979,112.965 ,112.95,112.942,112.932,112.918,112.908 ,112.897,112.89,113.185,113.641,114.161 ,114.632,114.63,114.627,114.625,114.621 ,114.619,114.617,114.615,114.613, 114.611,114.609,114.606,114.604,114.602 ,114.6,114.598,114.596,114.593,114.592, 114.59,114.588,114.586,114.584,114.583, 114.581,114.579,114.577,114.576,114.574 ,114.572,114.57,114.568,114.567,114.565 ,114.563,114.56,114.558,114.556,114.554 ,114.552,114.55,114.548,114.546,114.544 ,114.542,114.539,114.536,114.184)
ORBIT_NUMBER = 10502
ORBITAL_ECCENTRICITY = 0.578
ORBITAL_INCLINATION = 86.88
ORBITAL_SEMIMAJOR_AXIS = 8830.17
PERIAPSIS_ALTITUDE = 333.19
PERIAPSIS_ARGUMENT_ANGLE = 325.14
PERIAPSIS_TIME = 2012-03-29T20:34:19.000Z
SPACECRAFT_ORIENTATION = (0.0,1.0,0.0)
^MEX_ORIENTATION_DESC = "MEX_ORIENTATION_DESC.TXT"
SPACECRAFT_POINTING_MODE = ACROSSTRACK
^MEX_POINTING_DESC = "MEX_POINTING_DESC.TXT"
RIGHT_ASCENSION = -1e+32
DECLINATION = -1e+32
OFFSET_ANGLE = 0.6
SPACECRAFT_SOLAR_DISTANCE = 2.47861e+08
TARGET_NAME = MARS
/* CAMERA DATA ELEMENTS */
DETECTOR_TEMPERATURE = 18.9822
FOCAL_PLANE_TEMPERATURE = 9.3989
INST_CMPRS_NAME = "DISCRETE COSINE TRANSFORMATION (DCT)"
INST_CMPRS_RATIO = 8.39095
INST_CMPRS_QUALITY = 0
INST_CMPRS_QUANTZ_TBL_ID = 0
INSTRUMENT_TEMPERATURE = 12.0496
LENS_TEMPERATURE = 9.3989
MACROPIXEL_SIZE = 4
MISSING_FRAMES = 0
PIXEL_SUBSAMPLING_FLAG = N
SIGNAL_CHAIN_ID = 2
/* RADIOMETRIC DATA ELEMENTS */
BANDWIDTH = 48.0
CENTER_FILTER_WAVELENGTH = 748.0
RADIANCE_OFFSET = 0.199628
RADIANCE_SCALING_FACTOR = 0.00438399
REFLECTANCE_SCALING_FACTOR = 0.000614627
MEX:REFLECTANCE_OFFSET = 0.0279875
/* IMAGE OBJECT DEFINITIONS */
OBJECT = IMAGE
  INTERCHANGE_FORMAT = BINARY
  LINES = 17784
  LINE_SAMPLES = 2263
  SAMPLE_TYPE = UNSIGNED_INTEGER
  SAMPLE_BITS = 8
  BANDS = 1
  BAND_STORAGE_TYPE = BAND_SEQUENTIAL
  MAXIMUM = 255
  MEAN = 81.9044
  MINIMUM = 1
  STANDARD_DEVIATION = 22.754
END_OBJECT = IMAGE
/* MAP OBJECT DEFINITIONS */
OBJECT = IMAGE_MAP_PROJECTION
  ^DATA_SET_MAP_PROJECTION_CATALOG= "DSMAP.CAT"
  A_AXIS_RADIUS = 3396.0
  B_AXIS_RADIUS = 3396.0
  C_AXIS_RADIUS = 3396.0
  CENTER_LATITUDE = 0.0
  CENTER_LONGITUDE = 114.0
  COORDINATE_SYSTEM_NAME = PLANETOGRAPHIC
  COORDINATE_SYSTEM_TYPE = "BODY-FIXED ROTATING"
  EASTERNMOST_LONGITUDE = 114.632
  FIRST_STANDARD_PARALLEL = "N/A"
  LINE_FIRST_PIXEL = 1
  LINE_LAST_PIXEL = 17784
  LINE_PROJECTION_OFFSET = -5327.375
  MAP_PROJECTION_ROTATION = 0.0
  MAP_PROJECTION_TYPE = SINUSOIDAL
  MAP_RESOLUTION = 1185.42760773333
  MAP_SCALE = 0.05
  MAXIMUM_LATITUDE = -4.51352
  MINIMUM_LATITUDE = -19.5161
  POSITIVE_LONGITUDE_DIRECTION = EAST
  REFERENCE_LATITUDE = "N/A"
  REFERENCE_LONGITUDE = "N/A"
  SAMPLE_FIRST_PIXEL = 1
  SAMPLE_LAST_PIXEL = 2263
  SAMPLE_PROJECTION_OFFSET = 1437.875
  SECOND_STANDARD_PARALLEL = "N/A"
  WESTERNMOST_LONGITUDE = 112.89
END_OBJECT = IMAGE_MAP_PROJECTION
/* The JPEG2000 image data file associated with this label. */
OBJECT = COMPRESSED_FILE
  FILE_NAME = "HA502_0001_RE3.JP2"
  RECORD_TYPE = UNDEFINED
  FILE_RECORDS = UNK
  ENCODING_TYPE = "JP2"
  INTERCHANGE_FORMAT = BINARY
  UNCOMPRESSED_FILE_NAME = "HA502_0001_RE3.IMG"
  REQUIRED_STORAGE_BYTES = "40267822"
  ^DESCRIPTION = "JP2INFO.TXT"
END_OBJECT = COMPRESSED_FILE
END
