PDS_VERSION_ID = PDS3
/* FILE DATA ELEMENTS */
RECORD_TYPE = STREAM
/* POINTERS TO DATA OBJECTS */
^COMPRESSED_FILE = "HA506_0000_S23.JP2"
/* IDENTIFICATION DATA ELEMENTS */
DATA_SET_ID = "MEX-M-HRSC-5-REFDR-MAPPROJECTED-V3.0"
DATA_SET_NAME = "MARS EXPRESS HRSC MAP PROJECTED REFDR V3.0"
DETECTOR_ID = MEX_HRSC_S2
EVENT_TYPE = "MARS-REGIONAL-MAPPING-Te-Im-Fl"
INSTRUMENT_HOST_ID = MEX
INSTRUMENT_HOST_NAME = "MARS EXPRESS"
INSTRUMENT_ID = HRSC
INSTRUMENT_NAME = "HIGH RESOLUTION STEREO CAMERA"
MISSION_NAME = "MARS EXPRESS"
MISSION_PHASE_NAME = ME_Phase_25
PROCESSING_LEVEL_ID = 3
PRODUCT_CREATION_TIME = 2016-10-27T15:49:42.000Z
PRODUCT_ID = "HA506_0000_S23.JP2"
RELEASE_ID = 0108
REVISION_ID = 0000
/* QUALITY DATA ELEMENTS */
DATA_QUALITY_ID = 1
DATA_QUALITY_DESC = "Data calculated based on original SPICE kernels"
/* TIME DATA ELEMENTS */
SPACECRAFT_CLOCK_START_COUNT = "1/0281234251.08404"
SPACECRAFT_CLOCK_STOP_COUNT = "1/0281234619.11946"
START_TIME = 2012-03-31T00:37:34.735Z
STOP_TIME = 2012-03-31T00:41:33.349Z
/* ORBITAL DATA ELEMENTS */
ASCENDING_NODE_LONGITUDE = 16.76
MAXIMUM_RESOLUTION = 33.7
FOOTPRINT_POINT_LATITUDE = (-15.2897,-15.312,-15.3537,-15.3928, -15.125,-14.7235,-14.3202,-14.048, -13.6368,-13.363,-13.087,-12.7935, -12.513,-12.2472,-11.964,-11.6772, -11.2469,-10.8172,-10.379,-10.0852, -9.64527,-9.34617,-8.89916,-8.44736, -7.99145,-7.68726,-7.37149,-6.89901, -6.43134,-6.11432,-5.79214,-5.46738, -5.14169,-4.8172,-4.48586,-3.99022, -3.48471,-3.14907,-2.80323,-2.28903, -1.9379,-1.41166,-1.05485,-0.514837, -0.153548,0.0846283,0.0991901,0.125604, 0.149893,0.174999,0.202928,0.224649, -0.140517,-0.686115,-1.04058,-1.39699, -1.74795,-2.10042,-2.43313,-2.77589, -3.11734,-3.6243,-3.96734,-4.30086, -4.63743,-4.96293,-5.28131,-5.60622, -5.92637,-6.40994,-6.72356,-7.0359, -7.34902,-7.65748,-7.96452,-8.27109, -8.57419,-8.87413,-9.17533,-9.4713, -9.76423,-10.0611,-10.3549,-10.6456, -10.9328,-11.2198,-11.5077,-11.7935, -12.0751,-12.4972,-12.9158,-13.1956, -13.4697,-13.7377,-14.0101,-14.2852, -14.5599,-14.8254,-15.0927,-15.2897)
FOOTPRINT_POINT_LONGITUDE = (67.1907,66.9522,66.4869,66.0444, 66.0383,66.0289,66.0192,66.0119,66.0017 ,65.9948,65.9884,65.9846,65.9771, 65.9658,65.9591,65.9519,65.9399,65.9278 ,65.9154,65.907,65.8942,65.8854,65.8714 ,65.8577,65.8428,65.8329,65.8243,65.81, 65.7939,65.7831,65.7732,65.7627,65.7518 ,65.7406,65.7293,65.7118,65.6938, 65.6815,65.6694,65.6503,65.6375,65.6176 ,65.6042,65.5837,65.5695,65.765,65.9899 ,66.3313,66.6387,66.9502,67.2856, 67.5524,67.5492,67.5438,67.5428,67.5408 ,67.5384,67.5351,67.5425,67.5422, 67.5409,67.5392,67.5322,67.53,67.5259, 67.5253,67.5302,67.5294,67.5283,67.5246 ,67.5246,67.5251,67.5253,67.5249, 67.5248,67.5253,67.5257,67.5263,67.5262 ,67.5301,67.5313,67.5295,67.5305, 67.5326,67.5336,67.5349,67.5356,67.5369 ,67.5372,67.5383,67.5428,67.54,67.5414, 67.5483,67.5514,67.5524,67.5475,67.5509 ,67.5528,67.1907)
ORBIT_NUMBER = 10506
ORBITAL_ECCENTRICITY = 0.578
ORBITAL_INCLINATION = 86.89
ORBITAL_SEMIMAJOR_AXIS = 8827.71
PERIAPSIS_ALTITUDE = 332.82
PERIAPSIS_ARGUMENT_ANGLE = 324.47
PERIAPSIS_TIME = 2012-03-31T00:33:00.000Z
SPACECRAFT_ORIENTATION = (0.0,1.0,0.0)
^MEX_ORIENTATION_DESC = "MEX_ORIENTATION_DESC.TXT"
SPACECRAFT_POINTING_MODE = ACROSSTRACK
^MEX_POINTING_DESC = "MEX_POINTING_DESC.TXT"
RIGHT_ASCENSION = -1e+32
DECLINATION = -1e+32
OFFSET_ANGLE = -1.4
SPACECRAFT_SOLAR_DISTANCE = 2.47786e+08
TARGET_NAME = MARS
/* CAMERA DATA ELEMENTS */
DETECTOR_TEMPERATURE = 19.1861
FOCAL_PLANE_TEMPERATURE = 7.7677
INST_CMPRS_NAME = "DISCRETE COSINE TRANSFORMATION (DCT)"
INST_CMPRS_RATIO = 11.6402
INST_CMPRS_QUALITY = 0
INST_CMPRS_QUANTZ_TBL_ID = 0
INSTRUMENT_TEMPERATURE = 12.0496
LENS_TEMPERATURE = 8.7872
MACROPIXEL_SIZE = 2
MISSING_FRAMES = 0
PIXEL_SUBSAMPLING_FLAG = N
SIGNAL_CHAIN_ID = 1
/* RADIOMETRIC DATA ELEMENTS */
BANDWIDTH = 178.0
CENTER_FILTER_WAVELENGTH = 679.0
RADIANCE_OFFSET = 0.82104
RADIANCE_SCALING_FACTOR = 0.0103301
REFLECTANCE_SCALING_FACTOR = 0.000335883
MEX:REFLECTANCE_OFFSET = 0.0266962
/* IMAGE OBJECT DEFINITIONS */
OBJECT = IMAGE
  INTERCHANGE_FORMAT = BINARY
  LINES = 36781
  LINE_SAMPLES = 5330
  SAMPLE_TYPE = UNSIGNED_INTEGER
  SAMPLE_BITS = 8
  BANDS = 1
  BAND_STORAGE_TYPE = BAND_SEQUENTIAL
  MAXIMUM = 255
  MEAN = 112.433
  MINIMUM = 1
  STANDARD_DEVIATION = 26.7626
END_OBJECT = IMAGE
/* MAP OBJECT DEFINITIONS */
OBJECT = IMAGE_MAP_PROJECTION
  ^DATA_SET_MAP_PROJECTION_CATALOG= "DSMAP.CAT"
  A_AXIS_RADIUS = 3396.0
  B_AXIS_RADIUS = 3396.0
  C_AXIS_RADIUS = 3396.0
  CENTER_LATITUDE = 0.0
  CENTER_LONGITUDE = 67.0
  COORDINATE_SYSTEM_NAME = PLANETOGRAPHIC
  COORDINATE_SYSTEM_TYPE = "BODY-FIXED ROTATING"
  EASTERNMOST_LONGITUDE = 67.5528
  FIRST_STANDARD_PARALLEL = "N/A"
  LINE_FIRST_PIXEL = 1
  LINE_LAST_PIXEL = 36781
  LINE_PROJECTION_OFFSET = 467.25
  MAP_PROJECTION_ROTATION = 0.0
  MAP_PROJECTION_TYPE = SINUSOIDAL
  MAP_RESOLUTION = 2370.85521546667
  MAP_SCALE = 0.025
  MAXIMUM_LATITUDE = 0.224649
  MINIMUM_LATITUDE = -15.3928
  POSITIVE_LONGITUDE_DIRECTION = EAST
  REFERENCE_LATITUDE = "N/A"
  REFERENCE_LONGITUDE = "N/A"
  SAMPLE_FIRST_PIXEL = 1
  SAMPLE_LAST_PIXEL = 5330
  SAMPLE_PROJECTION_OFFSET = 3624.25
  SECOND_STANDARD_PARALLEL = "N/A"
  WESTERNMOST_LONGITUDE = 65.56950000000001
END_OBJECT = IMAGE_MAP_PROJECTION
/* The JPEG2000 image data file associated with this label. */
OBJECT = COMPRESSED_FILE
  FILE_NAME = "HA506_0000_S23.JP2"
  RECORD_TYPE = UNDEFINED
  FILE_RECORDS = UNK
  ENCODING_TYPE = "JP2"
  INTERCHANGE_FORMAT = BINARY
  UNCOMPRESSED_FILE_NAME = "HA506_0000_S23.IMG"
  REQUIRED_STORAGE_BYTES = "196069380"
  ^DESCRIPTION = "JP2INFO.TXT"
END_OBJECT = COMPRESSED_FILE
END
