PDS_VERSION_ID = PDS3
/* FILE DATA ELEMENTS */
RECORD_TYPE = STREAM
/* POINTERS TO DATA OBJECTS */
^COMPRESSED_FILE = "HA508_0000_P13.JP2"
/* IDENTIFICATION DATA ELEMENTS */
DATA_SET_ID = "MEX-M-HRSC-5-REFDR-MAPPROJECTED-V3.0"
DATA_SET_NAME = "MARS EXPRESS HRSC MAP PROJECTED REFDR V3.0"
DETECTOR_ID = MEX_HRSC_P1
EVENT_TYPE = "MARS-REGIONAL-MAPPING-Vo-Eo"
INSTRUMENT_HOST_ID = MEX
INSTRUMENT_HOST_NAME = "MARS EXPRESS"
INSTRUMENT_ID = HRSC
INSTRUMENT_NAME = "HIGH RESOLUTION STEREO CAMERA"
MISSION_NAME = "MARS EXPRESS"
MISSION_PHASE_NAME = ME_Phase_25
PROCESSING_LEVEL_ID = 3
PRODUCT_CREATION_TIME = 2016-10-27T15:49:42.000Z
PRODUCT_ID = "HA508_0000_P13.JP2"
RELEASE_ID = 0108
REVISION_ID = 0000
/* QUALITY DATA ELEMENTS */
DATA_QUALITY_ID = 1
DATA_QUALITY_DESC = "Data calculated based on original SPICE kernels"
/* TIME DATA ELEMENTS */
SPACECRAFT_CLOCK_START_COUNT = "1/0281284512.08261"
SPACECRAFT_CLOCK_STOP_COUNT = "1/0281284866.54276"
START_TIME = 2012-03-31T14:36:11.490Z
STOP_TIME = 2012-03-31T14:40:47.782Z
/* ORBITAL DATA ELEMENTS */
ASCENDING_NODE_LONGITUDE = 16.72
MAXIMUM_RESOLUTION = 62
FOOTPRINT_POINT_LATITUDE = (-21.8378,-21.8486,-21.8633,-21.5615, -21.2617,-20.9607,-20.6601,-20.3598, -20.0604,-19.7612,-19.4624,-19.1641, -18.8665,-18.5695,-17.9772,-17.5245, -17.2219,-16.9199,-16.6154,-16.3067, -15.9989,-15.6918,-15.3762,-14.9094, -14.4347,-14.1153,-13.7966,-13.474, -13.1492,-12.8254,-12.3311,-12.0018, -11.4996,-11.1645,-10.6547,-10.3143, -9.96896,-9.62309,-9.09796,-8.74724, -8.39064,-7.85351,-7.49212,-7.12727, -6.76162,-6.39077,-6.02027,-5.64383, -5.60414,-5.58779,-5.57553,-5.55774, -5.73276,-6.10832,-6.48082,-7.03401, -7.40053,-7.76254,-8.12332,-8.48048, -9.01075,-9.53744,-9.88403,-10.231, -10.5719,-11.0832,-11.4189,-11.9221, -12.418,-12.7485,-13.0733,-13.3985, -13.7223,-14.0415,-14.3615,-14.6799, -14.9935,-15.3079,-15.6225,-15.9302, -16.2387,-16.5476,-17.0044,-17.3073, -17.6108,-17.9132,-18.2095,-18.5064, -18.8041,-19.102,-19.4007,-19.6998, -19.9997,-20.2999,-20.6007,-20.9021, -21.2037,-21.5056,-21.8081,-21.8378)
FOOTPRINT_POINT_LONGITUDE = (220.232,219.804,219.185,219.184, 219.182,219.181,219.18,219.179,219.178, 219.176,219.175,219.173,219.171,219.168 ,219.163,219.158,219.155,219.152, 219.148,219.144,219.14,219.135,219.132, 219.121,219.113,219.108,219.102,219.095 ,219.089,219.082,219.071,219.063, 219.051,219.043,219.03,219.021,219.011, 219.002,218.986,218.976,218.964,218.948 ,218.936,218.923,218.91,218.897,218.883 ,218.869,219.183,219.605,219.933,220.42 ,220.816,220.812,220.807,220.8,220.796, 220.792,220.787,220.783,220.777,220.771 ,220.767,220.763,220.759,220.753, 220.749,220.744,220.738,220.734,220.731 ,220.727,220.723,220.72,220.716,220.713 ,220.709,220.705,220.702,220.698, 220.695,220.691,220.686,220.682,220.678 ,220.675,220.671,220.668,220.664,220.66 ,220.657,220.653,220.649,220.645, 220.641,220.637,220.633,220.63,220.626, 220.232)
ORBIT_NUMBER = 10508
ORBITAL_ECCENTRICITY = 0.578
ORBITAL_INCLINATION = 86.89
ORBITAL_SEMIMAJOR_AXIS = 8824.49
PERIAPSIS_ALTITUDE = 332.77
PERIAPSIS_ARGUMENT_ANGLE = 324.1
PERIAPSIS_TIME = 2012-03-31T14:32:14.000Z
SPACECRAFT_ORIENTATION = (0.0,1.0,0.0)
^MEX_ORIENTATION_DESC = "MEX_ORIENTATION_DESC.TXT"
SPACECRAFT_POINTING_MODE = ACROSSTRACK
^MEX_POINTING_DESC = "MEX_POINTING_DESC.TXT"
RIGHT_ASCENSION = -1e+32
DECLINATION = -1e+32
OFFSET_ANGLE = 0.8
SPACECRAFT_SOLAR_DISTANCE = 2.47748e+08
TARGET_NAME = MARS
/* CAMERA DATA ELEMENTS */
DETECTOR_TEMPERATURE = 18.1666
FOCAL_PLANE_TEMPERATURE = 8.5833
INST_CMPRS_NAME = "DISCRETE COSINE TRANSFORMATION (DCT)"
INST_CMPRS_RATIO = 5.78501
INST_CMPRS_QUALITY = 0
INST_CMPRS_QUANTZ_TBL_ID = 0
INSTRUMENT_TEMPERATURE = 11.6418
LENS_TEMPERATURE = 8.7872
MACROPIXEL_SIZE = 4
MISSING_FRAMES = 0
PIXEL_SUBSAMPLING_FLAG = N
SIGNAL_CHAIN_ID = 3
/* RADIOMETRIC DATA ELEMENTS */
BANDWIDTH = 174.0
CENTER_FILTER_WAVELENGTH = 675.0
RADIANCE_OFFSET = 1.17299
RADIANCE_SCALING_FACTOR = 0.0227292
REFLECTANCE_SCALING_FACTOR = 0.000750393
MEX:REFLECTANCE_OFFSET = 0.0387257
/* IMAGE OBJECT DEFINITIONS */
OBJECT = IMAGE
  INTERCHANGE_FORMAT = BINARY
  LINES = 19306
  LINE_SAMPLES = 2264
  SAMPLE_TYPE = UNSIGNED_INTEGER
  SAMPLE_BITS = 8
  BANDS = 1
  BAND_STORAGE_TYPE = BAND_SEQUENTIAL
  MAXIMUM = 255
  MEAN = 110.841
  MINIMUM = 1
  STANDARD_DEVIATION = 24.6503
END_OBJECT = IMAGE
/* MAP OBJECT DEFINITIONS */
OBJECT = IMAGE_MAP_PROJECTION
  ^DATA_SET_MAP_PROJECTION_CATALOG= "DSMAP.CAT"
  A_AXIS_RADIUS = 3396.0
  B_AXIS_RADIUS = 3396.0
  C_AXIS_RADIUS = 3396.0
  CENTER_LATITUDE = 0.0
  CENTER_LONGITUDE = 220.0
  COORDINATE_SYSTEM_NAME = PLANETOGRAPHIC
  COORDINATE_SYSTEM_TYPE = "BODY-FIXED ROTATING"
  EASTERNMOST_LONGITUDE = 220.816
  FIRST_STANDARD_PARALLEL = "N/A"
  LINE_FIRST_PIXEL = 1
  LINE_LAST_PIXEL = 19306
  LINE_PROJECTION_OFFSET = -6608.375
  MAP_PROJECTION_ROTATION = 0.0
  MAP_PROJECTION_TYPE = SINUSOIDAL
  MAP_RESOLUTION = 1185.42760773333
  MAP_SCALE = 0.05
  MAXIMUM_LATITUDE = -5.55774
  MINIMUM_LATITUDE = -21.8633
  POSITIVE_LONGITUDE_DIRECTION = EAST
  REFERENCE_LATITUDE = "N/A"
  REFERENCE_LONGITUDE = "N/A"
  SAMPLE_FIRST_PIXEL = 1
  SAMPLE_LAST_PIXEL = 2264
  SAMPLE_PROJECTION_OFFSET = 1358.375
  SECOND_STANDARD_PARALLEL = "N/A"
  WESTERNMOST_LONGITUDE = 218.869
END_OBJECT = IMAGE_MAP_PROJECTION
/* The JPEG2000 image data file associated with this label. */
OBJECT = COMPRESSED_FILE
  FILE_NAME = "HA508_0000_P13.JP2"
  RECORD_TYPE = UNDEFINED
  FILE_RECORDS = UNK
  ENCODING_TYPE = "JP2"
  INTERCHANGE_FORMAT = BINARY
  UNCOMPRESSED_FILE_NAME = "HA508_0000_P13.IMG"
  REQUIRED_STORAGE_BYTES = "43731424"
  ^DESCRIPTION = "JP2INFO.TXT"
END_OBJECT = COMPRESSED_FILE
END
