PDS_VERSION_ID = PDS3
/* FILE DATA ELEMENTS */
RECORD_TYPE = STREAM
/* POINTERS TO DATA OBJECTS */
^COMPRESSED_FILE = "HA510_0001_P23.JP2"
/* IDENTIFICATION DATA ELEMENTS */
DATA_SET_ID = "MEX-M-HRSC-5-REFDR-MAPPROJECTED-V3.0"
DATA_SET_NAME = "MARS EXPRESS HRSC MAP PROJECTED REFDR V3.0"
DETECTOR_ID = MEX_HRSC_P2
EVENT_TYPE = "MARS-REGIONAL-MAPPING-Im-Fl"
INSTRUMENT_HOST_ID = MEX
INSTRUMENT_HOST_NAME = "MARS EXPRESS"
INSTRUMENT_ID = HRSC
INSTRUMENT_NAME = "HIGH RESOLUTION STEREO CAMERA"
MISSION_NAME = "MARS EXPRESS"
MISSION_PHASE_NAME = ME_Phase_25
PROCESSING_LEVEL_ID = 3
PRODUCT_CREATION_TIME = 2016-10-27T15:49:42.000Z
PRODUCT_ID = "HA510_0001_P23.JP2"
RELEASE_ID = 0108
REVISION_ID = 0000
/* QUALITY DATA ELEMENTS */
DATA_QUALITY_ID = 1
DATA_QUALITY_DESC = "Data calculated based on original SPICE kernels"
/* TIME DATA ELEMENTS */
SPACECRAFT_CLOCK_START_COUNT = "1/0281334885.07287"
SPACECRAFT_CLOCK_STOP_COUNT = "1/0281335252.40838"
START_TIME = 2012-04-01T04:34:59.731Z
STOP_TIME = 2012-04-01T04:39:21.471Z
/* ORBITAL DATA ELEMENTS */
ASCENDING_NODE_LONGITUDE = 16.69
MAXIMUM_RESOLUTION = 29.9
FOOTPRINT_POINT_LATITUDE = (-21.6355,-21.6424,-21.6488,-21.6546, -21.6622,-21.3946,-21.0984,-20.7795, -20.461,-20.1426,-19.8247,-19.3482, -19.0305,-18.5497,-18.2305,-17.9135, -17.6032,-17.2864,-16.8116,-16.4951, -16.0212,-15.5477,-15.2324,-14.9119, -14.5891,-14.1056,-13.7751,-13.4441, -13.1182,-12.7876,-12.2827,-11.9452, -11.4346,-11.0922,-10.7484,-10.3999, -9.86885,-9.51364,-9.15373,-8.79768, -8.42942,-7.87936,-7.50806,-7.13664, -6.57229,-6.19422,-5.80359,-5.41728, -5.0241,-4.81997,-4.81234,-4.7964, -4.78596,-4.76784,-5.16213,-5.54951, -5.9377,-6.51536,-6.8951,-7.26783, -7.82645,-8.19276,-8.56012,-8.92143, -9.28176,-9.64161,-10.1723,-10.5264, -11.042,-11.3866,-11.7253,-12.0587, -12.4019,-12.7393,-13.0703,-13.5658, -13.8956,-14.2191,-14.5435,-14.8671, -15.1881,-15.5042,-15.8174,-16.132, -16.4489,-16.7643,-17.2392,-17.5561, -17.8764,-18.3547,-18.6719,-18.9868, -19.3041,-19.6242,-20.104,-20.4216, -20.7401,-21.0591,-21.4889,-21.6355)
FOOTPRINT_POINT_LONGITUDE = (17.2491,17.0324,16.8174,16.6043, 16.1912,16.1884,16.1851,16.1813,16.1774 ,16.1734,16.1692,16.1625,16.1579, 16.1506,16.1456,16.1404,16.1352,16.1297 ,16.1213,16.1154,16.1064,16.097,16.0906 ,16.0839,16.0771,16.0665,16.0589, 16.0513,16.0439,16.0359,16.0236,16.0151 ,16.002,15.9932,15.984,15.9746,15.9596, 15.9494,15.9389,15.9286,15.9173,15.9004 ,15.8887,15.877,15.8588,15.8465,15.8327 ,15.8196,15.8057,16.075,16.3356,16.8254 ,17.1426,17.6125,17.611,17.6093,17.6075 ,17.6001,17.5984,17.5976,17.5956, 17.5946,17.5932,17.5916,17.5901,17.5878 ,17.5847,17.5829,17.5838,17.5838, 17.5859,17.5889,17.5842,17.5833,17.5823 ,17.5823,17.5818,17.5811,17.5799, 17.5795,17.5793,17.5786,17.5807,17.5818 ,17.5811,17.5819,17.5821,17.5821, 17.5794,17.5774,17.5779,17.5808,17.5815 ,17.5799,17.5781,17.5792,17.5796, 17.5797,17.5799,17.2491)
ORBIT_NUMBER = 10510
ORBITAL_ECCENTRICITY = 0.578
ORBITAL_INCLINATION = 86.88
ORBITAL_SEMIMAJOR_AXIS = 8825.83
PERIAPSIS_ALTITUDE = 333.49
PERIAPSIS_ARGUMENT_ANGLE = 323.77
PERIAPSIS_TIME = 2012-04-01T04:31:38.000Z
SPACECRAFT_ORIENTATION = (0.0,1.0,0.0)
^MEX_ORIENTATION_DESC = "MEX_ORIENTATION_DESC.TXT"
SPACECRAFT_POINTING_MODE = ACROSSTRACK
^MEX_POINTING_DESC = "MEX_POINTING_DESC.TXT"
RIGHT_ASCENSION = -1e+32
DECLINATION = -1e+32
OFFSET_ANGLE = -0.65
SPACECRAFT_SOLAR_DISTANCE = 2.47709e+08
TARGET_NAME = MARS
/* CAMERA DATA ELEMENTS */
DETECTOR_TEMPERATURE = 19.39
FOCAL_PLANE_TEMPERATURE = 8.9911
INST_CMPRS_NAME = "DISCRETE COSINE TRANSFORMATION (DCT)"
INST_CMPRS_RATIO = 8.01222
INST_CMPRS_QUALITY = 0
INST_CMPRS_QUANTZ_TBL_ID = 0
INSTRUMENT_TEMPERATURE = 12.4574
LENS_TEMPERATURE = 9.195
MACROPIXEL_SIZE = 2
MISSING_FRAMES = 0
PIXEL_SUBSAMPLING_FLAG = N
SIGNAL_CHAIN_ID = 3
/* RADIOMETRIC DATA ELEMENTS */
BANDWIDTH = 177.0
CENTER_FILTER_WAVELENGTH = 676.5
RADIANCE_OFFSET = 0.972785
RADIANCE_SCALING_FACTOR = 0.0172326
REFLECTANCE_SCALING_FACTOR = 0.000560649
MEX:REFLECTANCE_OFFSET = 0.0316489
/* IMAGE OBJECT DEFINITIONS */
OBJECT = IMAGE
  INTERCHANGE_FORMAT = BINARY
  LINES = 39948
  LINE_SAMPLES = 4658
  SAMPLE_TYPE = UNSIGNED_INTEGER
  SAMPLE_BITS = 8
  BANDS = 1
  BAND_STORAGE_TYPE = BAND_SEQUENTIAL
  MAXIMUM = 255
  MEAN = 80.4977
  MINIMUM = 1
  STANDARD_DEVIATION = 27.8385
END_OBJECT = IMAGE
/* MAP OBJECT DEFINITIONS */
OBJECT = IMAGE_MAP_PROJECTION
  ^DATA_SET_MAP_PROJECTION_CATALOG= "DSMAP.CAT"
  A_AXIS_RADIUS = 3396.0
  B_AXIS_RADIUS = 3396.0
  C_AXIS_RADIUS = 3396.0
  CENTER_LATITUDE = 0.0
  CENTER_LONGITUDE = 17.0
  COORDINATE_SYSTEM_NAME = PLANETOGRAPHIC
  COORDINATE_SYSTEM_TYPE = "BODY-FIXED ROTATING"
  EASTERNMOST_LONGITUDE = 17.6125
  FIRST_STANDARD_PARALLEL = "N/A"
  LINE_FIRST_PIXEL = 1
  LINE_LAST_PIXEL = 39948
  LINE_PROJECTION_OFFSET = -11332.25
  MAP_PROJECTION_ROTATION = 0.0
  MAP_PROJECTION_TYPE = SINUSOIDAL
  MAP_RESOLUTION = 2370.85521546667
  MAP_SCALE = 0.025
  MAXIMUM_LATITUDE = -4.76784
  MINIMUM_LATITUDE = -21.6622
  POSITIVE_LONGITUDE_DIRECTION = EAST
  REFERENCE_LATITUDE = "N/A"
  REFERENCE_LONGITUDE = "N/A"
  SAMPLE_FIRST_PIXEL = 1
  SAMPLE_LAST_PIXEL = 4658
  SAMPLE_PROJECTION_OFFSET = 2958.25
  SECOND_STANDARD_PARALLEL = "N/A"
  WESTERNMOST_LONGITUDE = 15.8057
END_OBJECT = IMAGE_MAP_PROJECTION
/* The JPEG2000 image data file associated with this label. */
OBJECT = COMPRESSED_FILE
  FILE_NAME = "HA510_0001_P23.JP2"
  RECORD_TYPE = UNDEFINED
  FILE_RECORDS = UNK
  ENCODING_TYPE = "JP2"
  INTERCHANGE_FORMAT = BINARY
  UNCOMPRESSED_FILE_NAME = "HA510_0001_P23.IMG"
  REQUIRED_STORAGE_BYTES = "186105732"
  ^DESCRIPTION = "JP2INFO.TXT"
END_OBJECT = COMPRESSED_FILE
END
