PDS_VERSION_ID = PDS3
/* FILE DATA ELEMENTS */
RECORD_TYPE = STREAM
/* POINTERS TO DATA OBJECTS */
^COMPRESSED_FILE = "HA517_0000_ND3.JP2"
/* IDENTIFICATION DATA ELEMENTS */
DATA_SET_ID = "MEX-M-HRSC-5-REFDR-MAPPROJECTED-V3.0"
DATA_SET_NAME = "MARS EXPRESS HRSC MAP PROJECTED REFDR V3.0"
DETECTOR_ID = MEX_HRSC_NADIR
EVENT_TYPE = "MARS-REGIONAL-MAPPING-Te-Im-Fl"
INSTRUMENT_HOST_ID = MEX
INSTRUMENT_HOST_NAME = "MARS EXPRESS"
INSTRUMENT_ID = HRSC
INSTRUMENT_NAME = "HIGH RESOLUTION STEREO CAMERA"
MISSION_NAME = "MARS EXPRESS"
MISSION_PHASE_NAME = ME_Phase_25
PROCESSING_LEVEL_ID = 3
PRODUCT_CREATION_TIME = 2016-10-27T15:49:42.000Z
PRODUCT_ID = "HA517_0000_ND3.JP2"
RELEASE_ID = 0108
REVISION_ID = 0000
/* QUALITY DATA ELEMENTS */
DATA_QUALITY_ID = 1
DATA_QUALITY_DESC = "Data calculated based on original SPICE kernels"
/* TIME DATA ELEMENTS */
SPACECRAFT_CLOCK_START_COUNT = "1/0281511112.08257"
SPACECRAFT_CLOCK_STOP_COUNT = "1/0281511454.65015"
START_TIME = 2012-04-03T05:32:28.993Z
STOP_TIME = 2012-04-03T05:36:38.966Z
/* ORBITAL DATA ELEMENTS */
ASCENDING_NODE_LONGITUDE = 16.55
MAXIMUM_RESOLUTION = 15.1
FOOTPRINT_POINT_LATITUDE = (-21.9917,-21.9925,-21.9927,-21.992, -21.7024,-21.4142,-21.1263,-20.8388, -20.5515,-20.2645,-19.9779,-19.6916, -19.4056,-19.1199,-18.8344,-18.5493, -18.2646,-17.9802,-17.6962,-17.4125, -17.1223,-16.8317,-16.5414,-16.2516, -15.8071,-15.5107,-15.2147,-14.7626, -14.4602,-14.1582,-13.8511,-13.5425, -13.2345,-12.9228,-12.6083,-12.2943, -11.9765,-11.6562,-11.3365,-10.8485, -10.5229,-10.027,-9.69567,-9.19138, -8.85438,-8.51222,-8.16941,-7.64886, -7.30076,-6.94653,-6.58926,-6.58437, -6.57713,-6.57039,-7.09987,-7.62598, -8.14747,-8.49092,-8.83369,-9.17125, -9.67642,-10.0084,-10.5051,-10.8313, -11.3202,-11.6405,-11.9613,-12.2796, -12.5941,-12.9092,-13.2213,-13.5299, -13.839,-14.1465,-14.449,-14.7519, -15.2049,-15.5013,-15.7982,-16.2432, -16.5335,-16.8242,-17.1152,-17.4058, -17.6899,-17.9744,-18.2592,-18.5443, -18.8298,-19.1156,-19.4016,-19.6881, -19.9748,-20.2619,-20.5492,-20.8369, -21.1249,-21.4131,-21.7017,-21.9917)
FOOTPRINT_POINT_LONGITUDE = (20.8812,20.5607,20.1983,19.85,19.6025, 19.5998,19.5975,19.5951,19.5924,19.5896 ,19.5868,19.5838,19.5811,19.5779, 19.5732,19.5681,19.5642,19.5604,19.5561 ,19.5511,19.5458,19.5409,19.5358, 19.5308,19.5227,19.5171,19.5113,19.5037 ,19.4981,19.4911,19.4838,19.4765, 19.4694,19.4619,19.4539,19.4462,19.4382 ,19.4293,19.4222,19.4091,19.3999, 19.3861,19.3763,19.3603,19.3492,19.3382 ,19.3269,19.3098,19.2981,19.2848, 19.5286,19.9317,20.4795,20.9534,21.1233 ,21.1193,21.1159,21.113,21.1106,21.1082 ,21.1044,21.1019,21.0983,21.0959, 21.0925,21.0902,21.0885,21.0863,21.0836 ,21.0813,21.0804,21.0771,21.0753, 21.0732,21.0709,21.0686,21.0655,21.0638 ,21.0619,21.0604,21.0586,21.0566,21.055 ,21.0529,21.0505,21.0482,21.0459, 21.0442,21.0426,21.0408,21.0396,21.0378 ,21.0361,21.0343,21.0325,21.0304, 21.0287,21.0268,21.0244,20.8812)
ORBIT_NUMBER = 10517
ORBITAL_ECCENTRICITY = 0.578
ORBITAL_INCLINATION = 86.87
ORBITAL_SEMIMAJOR_AXIS = 8820.59
PERIAPSIS_ALTITUDE = 333.18
PERIAPSIS_ARGUMENT_ANGLE = 322.57
PERIAPSIS_TIME = 2012-04-03T05:28:33.000Z
SPACECRAFT_ORIENTATION = (0.0,1.0,0.0)
^MEX_ORIENTATION_DESC = "MEX_ORIENTATION_DESC.TXT"
SPACECRAFT_POINTING_MODE = NADIR
^MEX_POINTING_DESC = "MEX_POINTING_DESC.TXT"
RIGHT_ASCENSION = -1e+32
DECLINATION = -1e+32
OFFSET_ANGLE = -1e+32
SPACECRAFT_SOLAR_DISTANCE = 2.47571e+08
TARGET_NAME = MARS
/* CAMERA DATA ELEMENTS */
DETECTOR_TEMPERATURE = 18.1666
FOCAL_PLANE_TEMPERATURE = 8.5833
INST_CMPRS_NAME = "DISCRETE COSINE TRANSFORMATION (DCT)"
INST_CMPRS_RATIO = 5.77028
INST_CMPRS_QUALITY = 0
INST_CMPRS_QUANTZ_TBL_ID = 0
INSTRUMENT_TEMPERATURE = 11.8457
LENS_TEMPERATURE = 8.9911
MACROPIXEL_SIZE = 1
MISSING_FRAMES = 0
PIXEL_SUBSAMPLING_FLAG = N
SIGNAL_CHAIN_ID = 0
/* RADIOMETRIC DATA ELEMENTS */
BANDWIDTH = 177.0
CENTER_FILTER_WAVELENGTH = 677.5
RADIANCE_OFFSET = 0.806589
RADIANCE_SCALING_FACTOR = 0.0155973
REFLECTANCE_SCALING_FACTOR = 0.000507847
MEX:REFLECTANCE_OFFSET = 0.0262624
/* IMAGE OBJECT DEFINITIONS */
OBJECT = IMAGE
  INTERCHANGE_FORMAT = BINARY
  LINES = 73129
  LINE_SAMPLES = 9054
  SAMPLE_TYPE = UNSIGNED_INTEGER
  SAMPLE_BITS = 8
  BANDS = 1
  BAND_STORAGE_TYPE = BAND_SEQUENTIAL
  MAXIMUM = 255
  MEAN = 84.9125
  MINIMUM = 1
  STANDARD_DEVIATION = 19.5987
END_OBJECT = IMAGE
/* MAP OBJECT DEFINITIONS */
OBJECT = IMAGE_MAP_PROJECTION
  ^DATA_SET_MAP_PROJECTION_CATALOG= "DSMAP.CAT"
  A_AXIS_RADIUS = 3396.0
  B_AXIS_RADIUS = 3396.0
  C_AXIS_RADIUS = 3396.0
  CENTER_LATITUDE = 0.0
  CENTER_LONGITUDE = 20.0
  COORDINATE_SYSTEM_NAME = PLANETOGRAPHIC
  COORDINATE_SYSTEM_TYPE = "BODY-FIXED ROTATING"
  EASTERNMOST_LONGITUDE = 21.1233
  FIRST_STANDARD_PARALLEL = "N/A"
  LINE_FIRST_PIXEL = 1
  LINE_LAST_PIXEL = 73129
  LINE_PROJECTION_OFFSET = -31143.0
  MAP_PROJECTION_ROTATION = 0.0
  MAP_PROJECTION_TYPE = SINUSOIDAL
  MAP_RESOLUTION = 4741.71043093333
  MAP_SCALE = 0.0125
  MAXIMUM_LATITUDE = -6.57039
  MINIMUM_LATITUDE = -21.9927
  POSITIVE_LONGITUDE_DIRECTION = EAST
  REFERENCE_LATITUDE = "N/A"
  REFERENCE_LONGITUDE = "N/A"
  SAMPLE_FIRST_PIXEL = 1
  SAMPLE_LAST_PIXEL = 9054
  SAMPLE_PROJECTION_OFFSET = 3553.0
  SECOND_STANDARD_PARALLEL = "N/A"
  WESTERNMOST_LONGITUDE = 19.2848
END_OBJECT = IMAGE_MAP_PROJECTION
/* The JPEG2000 image data file associated with this label. */
OBJECT = COMPRESSED_FILE
  FILE_NAME = "HA517_0000_ND3.JP2"
  RECORD_TYPE = UNDEFINED
  FILE_RECORDS = UNK
  ENCODING_TYPE = "JP2"
  INTERCHANGE_FORMAT = BINARY
  UNCOMPRESSED_FILE_NAME = "HA517_0000_ND3.IMG"
  REQUIRED_STORAGE_BYTES = "662146182"
  ^DESCRIPTION = "JP2INFO.TXT"
END_OBJECT = COMPRESSED_FILE
END
