PDS_VERSION_ID = PDS3
/* FILE DATA ELEMENTS */
RECORD_TYPE = STREAM
/* POINTERS TO DATA OBJECTS */
^COMPRESSED_FILE = "HA517_0000_RE3.JP2"
/* IDENTIFICATION DATA ELEMENTS */
DATA_SET_ID = "MEX-M-HRSC-5-REFDR-MAPPROJECTED-V3.0"
DATA_SET_NAME = "MARS EXPRESS HRSC MAP PROJECTED REFDR V3.0"
DETECTOR_ID = MEX_HRSC_RED
EVENT_TYPE = "MARS-REGIONAL-MAPPING-Te-Im-Fl"
INSTRUMENT_HOST_ID = MEX
INSTRUMENT_HOST_NAME = "MARS EXPRESS"
INSTRUMENT_ID = HRSC
INSTRUMENT_NAME = "HIGH RESOLUTION STEREO CAMERA"
MISSION_NAME = "MARS EXPRESS"
MISSION_PHASE_NAME = ME_Phase_25
PROCESSING_LEVEL_ID = 3
PRODUCT_CREATION_TIME = 2016-10-27T15:49:42.000Z
PRODUCT_ID = "HA517_0000_RE3.JP2"
RELEASE_ID = 0108
REVISION_ID = 0000
/* QUALITY DATA ELEMENTS */
DATA_QUALITY_ID = 1
DATA_QUALITY_DESC = "Data calculated based on original SPICE kernels"
/* TIME DATA ELEMENTS */
SPACECRAFT_CLOCK_START_COUNT = "1/0281511112.08257"
SPACECRAFT_CLOCK_STOP_COUNT = "1/0281511454.65015"
START_TIME = 2012-04-03T05:32:01.354Z
STOP_TIME = 2012-04-03T05:35:58.652Z
/* ORBITAL DATA ELEMENTS */
ASCENDING_NODE_LONGITUDE = 16.55
MAXIMUM_RESOLUTION = 61.3
FOOTPRINT_POINT_LATITUDE = (-21.9996,-21.9998,-21.9994,-21.9974, -21.7425,-21.4945,-21.0683,-20.6262, -20.3314,-20.0374,-19.7434,-19.45, -19.0096,-18.5631,-18.1214,-17.6814, -17.3859,-16.9443,-16.651,-16.3578, -16.0653,-15.7726,-15.4801,-15.1823, -14.8841,-14.5883,-14.2886,-13.9826, -13.6744,-13.3674,-13.0607,-12.7448, -12.2755,-11.9619,-11.6399,-11.3227, -11.0024,-10.677,-10.1874,-9.85862, -9.52298,-9.01862,-8.50647,-8.16497, -7.81905,-7.47144,-7.11905,-6.94128, -6.58781,-6.57901,-6.57709,-6.57821, -6.57515,-6.57224,-6.56969,-6.92174, -7.27597,-7.62255,-8.14237,-8.6547, -8.9957,-9.33014,-9.66512,-9.99902, -10.3267,-10.6552,-10.9817,-11.3029, -11.6242,-11.9458,-12.4173,-12.7317, -13.1966,-13.5071,-13.8138,-14.1218, -14.4246,-14.725,-15.1764,-15.621, -15.9138,-16.2017,-16.4963,-16.9368, -17.2304,-17.5255,-17.822,-18.2649, -18.7063,-19.0,-19.4409,-19.8828, -20.1777,-20.4729,-20.7686,-21.2114, -21.4916,-21.7412,-21.9911,-21.9996)
FOOTPRINT_POINT_LONGITUDE = (20.6573,20.4005,20.1824,19.8102, 19.6235,19.6218,19.6191,19.6159,19.6135 ,19.6112,19.6086,19.6061,19.6019, 19.5949,19.5892,19.5837,19.5789,19.572, 19.5676,19.5629,19.5583,19.5535,19.5485 ,19.5432,19.5384,19.5343,19.5285,19.522 ,19.5153,19.5089,19.5023,19.4946, 19.4845,19.4773,19.4692,19.4627,19.4548 ,19.4467,19.4346,19.4259,19.4164, 19.4012,19.3863,19.376,19.3658,19.3552, 19.3431,19.3373,19.3263,19.5708,19.8816 ,20.1758,20.3717,20.7956,21.0783, 21.0773,21.0752,21.0739,21.0717,21.0691 ,21.0676,21.066,21.0644,21.0626,21.0611 ,21.0594,21.0579,21.0563,21.0548, 21.0533,21.051,21.0495,21.0485,21.0459, 21.0447,21.0432,21.0414,21.0399,21.0376 ,21.0358,21.0346,21.0351,21.0334, 21.0313,21.0301,21.0283,21.0261,21.0235 ,21.0215,21.0204,21.0188,21.0169, 21.0155,21.0141,21.0125,21.0104,21.009, 21.007,21.0049,20.6573)
ORBIT_NUMBER = 10517
ORBITAL_ECCENTRICITY = 0.578
ORBITAL_INCLINATION = 86.87
ORBITAL_SEMIMAJOR_AXIS = 8820.59
PERIAPSIS_ALTITUDE = 333.18
PERIAPSIS_ARGUMENT_ANGLE = 322.57
PERIAPSIS_TIME = 2012-04-03T05:28:33.000Z
SPACECRAFT_ORIENTATION = (0.0,1.0,0.0)
^MEX_ORIENTATION_DESC = "MEX_ORIENTATION_DESC.TXT"
SPACECRAFT_POINTING_MODE = NADIR
^MEX_POINTING_DESC = "MEX_POINTING_DESC.TXT"
RIGHT_ASCENSION = -1e+32
DECLINATION = -1e+32
OFFSET_ANGLE = -1e+32
SPACECRAFT_SOLAR_DISTANCE = 2.47571e+08
TARGET_NAME = MARS
/* CAMERA DATA ELEMENTS */
DETECTOR_TEMPERATURE = 18.5744
FOCAL_PLANE_TEMPERATURE = 8.5833
INST_CMPRS_NAME = "DISCRETE COSINE TRANSFORMATION (DCT)"
INST_CMPRS_RATIO = 8.92949
INST_CMPRS_QUALITY = 0
INST_CMPRS_QUANTZ_TBL_ID = 0
INSTRUMENT_TEMPERATURE = 11.8457
LENS_TEMPERATURE = 8.9911
MACROPIXEL_SIZE = 4
MISSING_FRAMES = 0
PIXEL_SUBSAMPLING_FLAG = N
SIGNAL_CHAIN_ID = 2
/* RADIOMETRIC DATA ELEMENTS */
BANDWIDTH = 48.0
CENTER_FILTER_WAVELENGTH = 748.0
RADIANCE_OFFSET = 0.271494
RADIANCE_SCALING_FACTOR = 0.00444661
REFLECTANCE_SCALING_FACTOR = 0.000621949
MEX:REFLECTANCE_OFFSET = 0.0379739
/* IMAGE OBJECT DEFINITIONS */
OBJECT = IMAGE
  INTERCHANGE_FORMAT = BINARY
  LINES = 18283
  LINE_SAMPLES = 2264
  SAMPLE_TYPE = UNSIGNED_INTEGER
  SAMPLE_BITS = 8
  BANDS = 1
  BAND_STORAGE_TYPE = BAND_SEQUENTIAL
  MAXIMUM = 255
  MEAN = 83.7076
  MINIMUM = 1
  STANDARD_DEVIATION = 20.1
END_OBJECT = IMAGE
/* MAP OBJECT DEFINITIONS */
OBJECT = IMAGE_MAP_PROJECTION
  ^DATA_SET_MAP_PROJECTION_CATALOG= "DSMAP.CAT"
  A_AXIS_RADIUS = 3396.0
  B_AXIS_RADIUS = 3396.0
  C_AXIS_RADIUS = 3396.0
  CENTER_LATITUDE = 0.0
  CENTER_LONGITUDE = 20.0
  COORDINATE_SYSTEM_NAME = PLANETOGRAPHIC
  COORDINATE_SYSTEM_TYPE = "BODY-FIXED ROTATING"
  EASTERNMOST_LONGITUDE = 21.0783
  FIRST_STANDARD_PARALLEL = "N/A"
  LINE_FIRST_PIXEL = 1
  LINE_LAST_PIXEL = 18283
  LINE_PROJECTION_OFFSET = -7786.125
  MAP_PROJECTION_ROTATION = 0.0
  MAP_PROJECTION_TYPE = SINUSOIDAL
  MAP_RESOLUTION = 1185.42760773333
  MAP_SCALE = 0.05
  MAXIMUM_LATITUDE = -6.56969
  MINIMUM_LATITUDE = -21.9998
  POSITIVE_LONGITUDE_DIRECTION = EAST
  REFERENCE_LATITUDE = "N/A"
  REFERENCE_LONGITUDE = "N/A"
  SAMPLE_FIRST_PIXEL = 1
  SAMPLE_LAST_PIXEL = 2264
  SAMPLE_PROJECTION_OFFSET = 887.875
  SECOND_STANDARD_PARALLEL = "N/A"
  WESTERNMOST_LONGITUDE = 19.3263
END_OBJECT = IMAGE_MAP_PROJECTION
/* The JPEG2000 image data file associated with this label. */
OBJECT = COMPRESSED_FILE
  FILE_NAME = "HA517_0000_RE3.JP2"
  RECORD_TYPE = UNDEFINED
  FILE_RECORDS = UNK
  ENCODING_TYPE = "JP2"
  INTERCHANGE_FORMAT = BINARY
  UNCOMPRESSED_FILE_NAME = "HA517_0000_RE3.IMG"
  REQUIRED_STORAGE_BYTES = "41415352"
  ^DESCRIPTION = "JP2INFO.TXT"
END_OBJECT = COMPRESSED_FILE
END
