PDS_VERSION_ID = PDS3
/* FILE DATA ELEMENTS */
RECORD_TYPE = STREAM
/* POINTERS TO DATA OBJECTS */
^COMPRESSED_FILE = "HA521_0000_GR3.JP2"
/* IDENTIFICATION DATA ELEMENTS */
DATA_SET_ID = "MEX-M-HRSC-5-REFDR-MAPPROJECTED-V3.0"
DATA_SET_NAME = "MARS EXPRESS HRSC MAP PROJECTED REFDR V3.0"
DETECTOR_ID = MEX_HRSC_GREEN
EVENT_TYPE = "MARS-CLOUD-VARIABLE-At"
INSTRUMENT_HOST_ID = MEX
INSTRUMENT_HOST_NAME = "MARS EXPRESS"
INSTRUMENT_ID = HRSC
INSTRUMENT_NAME = "HIGH RESOLUTION STEREO CAMERA"
MISSION_NAME = "MARS EXPRESS"
MISSION_PHASE_NAME = ME_Phase_25
PROCESSING_LEVEL_ID = 3
PRODUCT_CREATION_TIME = 2016-10-27T15:49:42.000Z
PRODUCT_ID = "HA521_0000_GR3.JP2"
RELEASE_ID = 0108
REVISION_ID = 0000
/* QUALITY DATA ELEMENTS */
DATA_QUALITY_ID = 1
DATA_QUALITY_DESC = "Data calculated based on original SPICE kernels"
/* TIME DATA ELEMENTS */
SPACECRAFT_CLOCK_START_COUNT = "1/0281611818.09036"
SPACECRAFT_CLOCK_STOP_COUNT = "1/0281612618.16423"
START_TIME = 2012-04-04T09:30:57.258Z
STOP_TIME = 2012-04-04T09:41:58.465Z
/* ORBITAL DATA ELEMENTS */
ASCENDING_NODE_LONGITUDE = 16.48
MAXIMUM_RESOLUTION = 64.4
FOOTPRINT_POINT_LATITUDE = (-19.8539,-19.5989,-18.5677,-17.5166, -16.7153,-15.9038,-15.3559,-14.8006, -14.2425,-13.6741,-13.1028,-12.5237, -11.9365,-11.344,-10.7473,-10.1367, -9.52004,-8.89645,-8.26641,-7.62671, -6.9763,-6.31626,-5.64647,-4.96645, -4.2771,-3.57874,-2.86827,-2.14702, -1.41172,-0.666402,0.0932278,0.864363, 1.64985,2.46013,3.27375,4.10194,4.94428 ,5.80438,6.68174,7.57673,8.48864, 9.41956,10.366,11.3378,12.3269,13.3378, 14.3701,15.4249,16.1497,16.1687,16.1938 ,16.2224,15.6884,15.1541,14.102,13.0733 ,12.0658,11.08,10.115,9.16961,8.24288, 7.33478,6.44403,5.5694,4.71309,3.87067, 3.04537,2.23401,1.42626,0.644371, -0.124658,-0.880523,-1.62524,-2.35585, -3.0776,-3.7869,-4.48529,-5.17069, -5.84684,-6.51438,-7.17223,-7.82075, -8.45977,-9.08825,-9.70945,-10.3251, -10.9324,-11.5325,-12.121,-12.9953, -13.8544,-14.6993,-15.2577,-15.8062, -16.3519,-16.8899,-17.952,-18.9946, -19.7705,-19.8539)
FOOTPRINT_POINT_LONGITUDE = (331.496,330.658,330.642,330.627, 330.613,330.598,330.587,330.575,330.563 ,330.55,330.535,330.52,330.505,330.489, 330.467,330.451,330.433,330.412,330.388 ,330.364,330.342,330.32,330.295,330.27, 330.242,330.21,330.179,330.146,330.114, 330.078,330.043,330.004,329.963,329.917 ,329.873,329.825,329.772,329.719, 329.665,329.609,329.548,329.485,329.412 ,329.346,329.27,329.191,329.106,329.015 ,329.263,329.853,330.754,332.139, 332.653,332.635,332.603,332.574,332.548 ,332.522,332.498,332.476,332.456, 332.436,332.419,332.405,332.388,332.377 ,332.363,332.352,332.337,332.327, 332.316,332.307,332.299,332.291,332.287 ,332.279,332.272,332.263,332.256, 332.251,332.247,332.241,332.234,332.225 ,332.219,332.219,332.215,332.21,332.202 ,332.195,332.189,332.184,332.181, 332.177,332.174,332.17,332.163,332.156, 332.15,331.496)
ORBIT_NUMBER = 10521
ORBITAL_ECCENTRICITY = 0.578
ORBITAL_INCLINATION = 86.89
ORBITAL_SEMIMAJOR_AXIS = 8814.71
PERIAPSIS_ALTITUDE = 332.74
PERIAPSIS_ARGUMENT_ANGLE = 321.89
PERIAPSIS_TIME = 2012-04-04T09:26:10.000Z
SPACECRAFT_ORIENTATION = (0.0,1.0,0.0)
^MEX_ORIENTATION_DESC = "MEX_ORIENTATION_DESC.TXT"
SPACECRAFT_POINTING_MODE = NADIR
^MEX_POINTING_DESC = "MEX_POINTING_DESC.TXT"
RIGHT_ASCENSION = -1e+32
DECLINATION = -1e+32
OFFSET_ANGLE = -1e+32
SPACECRAFT_SOLAR_DISTANCE = 2.47489e+08
TARGET_NAME = MARS
/* CAMERA DATA ELEMENTS */
DETECTOR_TEMPERATURE = 18.3705
FOCAL_PLANE_TEMPERATURE = 7.9716
INST_CMPRS_NAME = "DISCRETE COSINE TRANSFORMATION (DCT)"
INST_CMPRS_RATIO = 10.5119
INST_CMPRS_QUALITY = 0
INST_CMPRS_QUANTZ_TBL_ID = 0
INSTRUMENT_TEMPERATURE = 11.234
LENS_TEMPERATURE = 8.5833
MACROPIXEL_SIZE = 4
MISSING_FRAMES = 1
PIXEL_SUBSAMPLING_FLAG = N
SIGNAL_CHAIN_ID = 2
/* RADIOMETRIC DATA ELEMENTS */
BANDWIDTH = 88.0
CENTER_FILTER_WAVELENGTH = 538.0
RADIANCE_OFFSET = 0.378602
RADIANCE_SCALING_FACTOR = 0.00708093
REFLECTANCE_SCALING_FACTOR = 0.000373414
MEX:REFLECTANCE_OFFSET = 0.0199656
/* IMAGE OBJECT DEFINITIONS */
OBJECT = IMAGE
  INTERCHANGE_FORMAT = BINARY
  LINES = 42804
  LINE_SAMPLES = 4082
  SAMPLE_TYPE = UNSIGNED_INTEGER
  SAMPLE_BITS = 8
  BANDS = 1
  BAND_STORAGE_TYPE = BAND_SEQUENTIAL
  MAXIMUM = 255
  MEAN = 125.181
  MINIMUM = 1
  STANDARD_DEVIATION = 55.6292
END_OBJECT = IMAGE
/* MAP OBJECT DEFINITIONS */
OBJECT = IMAGE_MAP_PROJECTION
  ^DATA_SET_MAP_PROJECTION_CATALOG= "DSMAP.CAT"
  A_AXIS_RADIUS = 3396.0
  B_AXIS_RADIUS = 3396.0
  C_AXIS_RADIUS = 3396.0
  CENTER_LATITUDE = 0.0
  CENTER_LONGITUDE = 331.0
  COORDINATE_SYSTEM_NAME = PLANETOGRAPHIC
  COORDINATE_SYSTEM_TYPE = "BODY-FIXED ROTATING"
  EASTERNMOST_LONGITUDE = 332.653
  FIRST_STANDARD_PARALLEL = "N/A"
  LINE_FIRST_PIXEL = 1
  LINE_LAST_PIXEL = 42804
  LINE_PROJECTION_OFFSET = 19252.0
  MAP_PROJECTION_ROTATION = 0.0
  MAP_PROJECTION_TYPE = SINUSOIDAL
  MAP_RESOLUTION = 1185.42760773333
  MAP_SCALE = 0.05
  MAXIMUM_LATITUDE = 16.2224
  MINIMUM_LATITUDE = -19.8539
  POSITIVE_LONGITUDE_DIRECTION = EAST
  REFERENCE_LATITUDE = "N/A"
  REFERENCE_LONGITUDE = "N/A"
  SAMPLE_FIRST_PIXEL = 1
  SAMPLE_LAST_PIXEL = 4082
  SAMPLE_PROJECTION_OFFSET = 2248.0
  SECOND_STANDARD_PARALLEL = "N/A"
  WESTERNMOST_LONGITUDE = 329.015
END_OBJECT = IMAGE_MAP_PROJECTION
/* The JPEG2000 image data file associated with this label. */
OBJECT = COMPRESSED_FILE
  FILE_NAME = "HA521_0000_GR3.JP2"
  RECORD_TYPE = UNDEFINED
  FILE_RECORDS = UNK
  ENCODING_TYPE = "JP2"
  INTERCHANGE_FORMAT = BINARY
  UNCOMPRESSED_FILE_NAME = "HA521_0000_GR3.IMG"
  REQUIRED_STORAGE_BYTES = "174750420"
  ^DESCRIPTION = "JP2INFO.TXT"
END_OBJECT = COMPRESSED_FILE
END
