PDS_VERSION_ID = PDS3
/* FILE DATA ELEMENTS */
RECORD_TYPE = STREAM
/* POINTERS TO DATA OBJECTS */
^COMPRESSED_FILE = "HA521_0000_RE3.JP2"
/* IDENTIFICATION DATA ELEMENTS */
DATA_SET_ID = "MEX-M-HRSC-5-REFDR-MAPPROJECTED-V3.0"
DATA_SET_NAME = "MARS EXPRESS HRSC MAP PROJECTED REFDR V3.0"
DETECTOR_ID = MEX_HRSC_RED
EVENT_TYPE = "MARS-CLOUD-VARIABLE-At"
INSTRUMENT_HOST_ID = MEX
INSTRUMENT_HOST_NAME = "MARS EXPRESS"
INSTRUMENT_ID = HRSC
INSTRUMENT_NAME = "HIGH RESOLUTION STEREO CAMERA"
MISSION_NAME = "MARS EXPRESS"
MISSION_PHASE_NAME = ME_Phase_25
PROCESSING_LEVEL_ID = 3
PRODUCT_CREATION_TIME = 2016-10-27T15:49:42.000Z
PRODUCT_ID = "HA521_0000_RE3.JP2"
RELEASE_ID = 0108
REVISION_ID = 0000
/* QUALITY DATA ELEMENTS */
DATA_QUALITY_ID = 1
DATA_QUALITY_DESC = "Data calculated based on original SPICE kernels"
/* TIME DATA ELEMENTS */
SPACECRAFT_CLOCK_START_COUNT = "1/0281611818.09036"
SPACECRAFT_CLOCK_STOP_COUNT = "1/0281612618.16423"
START_TIME = 2012-04-04T09:30:21.768Z
STOP_TIME = 2012-04-04T09:40:08.418Z
/* ORBITAL DATA ELEMENTS */
ASCENDING_NODE_LONGITUDE = 16.48
MAXIMUM_RESOLUTION = 64.7
FOOTPRINT_POINT_LATITUDE = (-19.868,-19.0353,-18.2325,-17.6951, -17.1595,-16.0911,-15.5477,-15.0018, -14.4476,-13.8886,-13.3222,-12.7484, -12.1675,-11.5833,-10.9856,-10.3701, -9.77216,-9.15215,-8.5129,-7.55683, -6.91479,-6.262,-5.59517,-4.92135, -3.88011,-2.81022,-2.08997,-1.36099, -0.613028,0.143242,0.917535,1.70625, 2.51113,3.32829,4.16341,5.02287,5.88906 ,6.77315,7.67061,8.58887,9.52666,10.503 ,11.4705,12.4761,13.5041,14.5603, 15.0966,15.636,16.1853,16.2257,16.2418, 16.2666,15.7269,15.1836,14.6455,13.5926 ,12.5645,11.5594,10.5719,9.60483, 8.66582,7.73254,6.82556,5.94662,5.07719 ,4.22217,3.39488,2.56887,1.76045, 0.970465,0.192432,-0.569637,-1.316, -2.05152,-2.77523,-3.47818,-4.52445, -5.21373,-6.22075,-6.87974,-7.52661, -8.48962,-9.12719,-9.75044,-10.6468, -11.2454,-12.1442,-12.7273,-13.3004, -13.8692,-14.4292,-14.9835,-15.5297, -16.3433,-17.4136,-17.9492,-18.754, -19.2911,-19.8294,-19.868)
FOOTPRINT_POINT_LONGITUDE = (331.266,330.676,330.666,330.658, 330.649,330.632,330.623,330.613,330.603 ,330.591,330.579,330.566,330.552, 330.538,330.523,330.501,330.489,330.471 ,330.447,330.418,330.399,330.379, 330.357,330.334,330.294,330.25,330.222, 330.193,330.161,330.129,330.094,330.057 ,330.017,329.977,329.934,329.886, 329.839,329.79,329.74,329.686,329.63, 329.564,329.506,329.438,329.367,329.29, 329.251,329.211,329.169,330.205,330.935 ,331.911,332.428,332.417,332.406, 332.387,332.371,332.355,332.34,332.325, 332.314,332.299,332.288,332.281,332.271 ,332.261,332.256,332.247,332.238, 332.232,332.226,332.22,332.215,332.211, 332.206,332.205,332.2,332.194,332.189, 332.186,332.183,332.177,332.17,332.166, 332.168,332.165,332.156,332.154,332.151 ,332.148,332.146,332.145,332.143, 332.139,332.134,332.132,332.128,332.126 ,332.123,331.266)
ORBIT_NUMBER = 10521
ORBITAL_ECCENTRICITY = 0.578
ORBITAL_INCLINATION = 86.89
ORBITAL_SEMIMAJOR_AXIS = 8814.71
PERIAPSIS_ALTITUDE = 332.74
PERIAPSIS_ARGUMENT_ANGLE = 321.89
PERIAPSIS_TIME = 2012-04-04T09:26:10.000Z
SPACECRAFT_ORIENTATION = (0.0,1.0,0.0)
^MEX_ORIENTATION_DESC = "MEX_ORIENTATION_DESC.TXT"
SPACECRAFT_POINTING_MODE = NADIR
^MEX_POINTING_DESC = "MEX_POINTING_DESC.TXT"
RIGHT_ASCENSION = -1e+32
DECLINATION = -1e+32
OFFSET_ANGLE = -1e+32
SPACECRAFT_SOLAR_DISTANCE = 2.47489e+08
TARGET_NAME = MARS
/* CAMERA DATA ELEMENTS */
DETECTOR_TEMPERATURE = 18.7783
FOCAL_PLANE_TEMPERATURE = 7.9716
INST_CMPRS_NAME = "DISCRETE COSINE TRANSFORMATION (DCT)"
INST_CMPRS_RATIO = 13.2126
INST_CMPRS_QUALITY = 0
INST_CMPRS_QUANTZ_TBL_ID = 0
INSTRUMENT_TEMPERATURE = 11.234
LENS_TEMPERATURE = 8.5833
MACROPIXEL_SIZE = 4
MISSING_FRAMES = 0
PIXEL_SUBSAMPLING_FLAG = N
SIGNAL_CHAIN_ID = 2
/* RADIOMETRIC DATA ELEMENTS */
BANDWIDTH = 48.0
CENTER_FILTER_WAVELENGTH = 748.0
RADIANCE_OFFSET = 0.203093
RADIANCE_SCALING_FACTOR = 0.00727416
REFLECTANCE_SCALING_FACTOR = 0.00101677
MEX:REFLECTANCE_OFFSET = 0.0283878
/* IMAGE OBJECT DEFINITIONS */
OBJECT = IMAGE
  INTERCHANGE_FORMAT = BINARY
  LINES = 42804
  LINE_SAMPLES = 4082
  SAMPLE_TYPE = UNSIGNED_INTEGER
  SAMPLE_BITS = 8
  BANDS = 1
  BAND_STORAGE_TYPE = BAND_SEQUENTIAL
  MAXIMUM = 255
  MEAN = 105.615
  MINIMUM = 1
  STANDARD_DEVIATION = 54.8663
END_OBJECT = IMAGE
/* MAP OBJECT DEFINITIONS */
OBJECT = IMAGE_MAP_PROJECTION
  ^DATA_SET_MAP_PROJECTION_CATALOG= "DSMAP.CAT"
  A_AXIS_RADIUS = 3396.0
  B_AXIS_RADIUS = 3396.0
  C_AXIS_RADIUS = 3396.0
  CENTER_LATITUDE = 0.0
  CENTER_LONGITUDE = 331.0
  COORDINATE_SYSTEM_NAME = PLANETOGRAPHIC
  COORDINATE_SYSTEM_TYPE = "BODY-FIXED ROTATING"
  EASTERNMOST_LONGITUDE = 332.428
  FIRST_STANDARD_PARALLEL = "N/A"
  LINE_FIRST_PIXEL = 1
  LINE_LAST_PIXEL = 42804
  LINE_PROJECTION_OFFSET = 19252.0
  MAP_PROJECTION_ROTATION = 0.0
  MAP_PROJECTION_TYPE = SINUSOIDAL
  MAP_RESOLUTION = 1185.42760773333
  MAP_SCALE = 0.05
  MAXIMUM_LATITUDE = 16.2666
  MINIMUM_LATITUDE = -19.868
  POSITIVE_LONGITUDE_DIRECTION = EAST
  REFERENCE_LATITUDE = "N/A"
  REFERENCE_LONGITUDE = "N/A"
  SAMPLE_FIRST_PIXEL = 1
  SAMPLE_LAST_PIXEL = 4082
  SAMPLE_PROJECTION_OFFSET = 2248.0
  SECOND_STANDARD_PARALLEL = "N/A"
  WESTERNMOST_LONGITUDE = 329.169
END_OBJECT = IMAGE_MAP_PROJECTION
/* The JPEG2000 image data file associated with this label. */
OBJECT = COMPRESSED_FILE
  FILE_NAME = "HA521_0000_RE3.JP2"
  RECORD_TYPE = UNDEFINED
  FILE_RECORDS = UNK
  ENCODING_TYPE = "JP2"
  INTERCHANGE_FORMAT = BINARY
  UNCOMPRESSED_FILE_NAME = "HA521_0000_RE3.IMG"
  REQUIRED_STORAGE_BYTES = "174750420"
  ^DESCRIPTION = "JP2INFO.TXT"
END_OBJECT = COMPRESSED_FILE
END
