PDS_VERSION_ID = PDS3
/* FILE DATA ELEMENTS */
RECORD_TYPE = STREAM
/* POINTERS TO DATA OBJECTS */
^COMPRESSED_FILE = "HA522_0000_ND3.JP2"
/* IDENTIFICATION DATA ELEMENTS */
DATA_SET_ID = "MEX-M-HRSC-5-REFDR-MAPPROJECTED-V3.0"
DATA_SET_NAME = "MARS EXPRESS HRSC MAP PROJECTED REFDR V3.0"
DETECTOR_ID = MEX_HRSC_NADIR
EVENT_TYPE = "MARS-REGIONAL-MAPPING-Vo-Eo"
INSTRUMENT_HOST_ID = MEX
INSTRUMENT_HOST_NAME = "MARS EXPRESS"
INSTRUMENT_ID = HRSC
INSTRUMENT_NAME = "HIGH RESOLUTION STEREO CAMERA"
MISSION_NAME = "MARS EXPRESS"
MISSION_PHASE_NAME = ME_Phase_25
PROCESSING_LEVEL_ID = 3
PRODUCT_CREATION_TIME = 2016-10-27T15:49:42.000Z
PRODUCT_ID = "HA522_0000_ND3.JP2"
RELEASE_ID = 0108
REVISION_ID = 0000
/* QUALITY DATA ELEMENTS */
DATA_QUALITY_ID = 1
DATA_QUALITY_DESC = "Data calculated based on original SPICE kernels"
/* TIME DATA ELEMENTS */
SPACECRAFT_CLOCK_START_COUNT = "1/0281636917.07292"
SPACECRAFT_CLOCK_STOP_COUNT = "1/0281637215.05138"
START_TIME = 2012-04-04T16:29:13.356Z
STOP_TIME = 2012-04-04T16:32:45.353Z
/* ORBITAL DATA ELEMENTS */
ASCENDING_NODE_LONGITUDE = 16.46
MAXIMUM_RESOLUTION = 14.7
FOOTPRINT_POINT_LATITUDE = (-23.8301,-23.8304,-23.8294,-23.6992, -23.4431,-23.1872,-22.9316,-22.6761, -22.4209,-22.1659,-21.9111,-21.6565, -21.4022,-21.1482,-20.8943,-20.6407, -20.3874,-20.1343,-19.8815,-19.6289, -19.3766,-19.1245,-18.6212,-18.119, -17.7335,-17.4765,-17.2198,-16.9634, -16.7015,-16.4389,-16.1768,-15.9149, -15.6488,-15.3809,-15.1134,-14.8463, -14.4377,-14.1649,-13.8925,-13.4763, -13.1983,-12.9206,-12.6375,-12.3542, -12.0714,-11.7841,-11.4956,-11.2076, -10.9147,-10.6212,-10.6152,-10.6106, -10.6056,-10.602,-10.8945,-11.188, -11.4765,-11.7654,-12.0533,-12.3366, -12.6204,-12.9041,-13.1821,-13.4606, -13.8775,-14.1504,-14.4237,-14.8329, -15.1005,-15.3684,-15.6366,-15.9033, -16.1655,-16.4281,-16.691,-16.9534, -17.2102,-17.4673,-17.7247,-18.1107, -18.6137,-19.1177,-19.3702,-19.6228, -19.8758,-20.129,-20.3824,-20.6361, -20.8901,-21.1443,-21.3987,-21.6533, -21.9083,-22.1634,-22.4188,-22.6743, -22.9301,-23.1862,-23.4424,-23.8301)
FOOTPRINT_POINT_LONGITUDE = (229.748,229.429,228.834,228.48,228.479 ,228.477,228.476,228.475,228.473, 228.471,228.469,228.467,228.465,228.463 ,228.46,228.458,228.455,228.452,228.449 ,228.446,228.443,228.44,228.433,228.425 ,228.419,228.415,228.411,228.406, 228.402,228.397,228.392,228.387,228.382 ,228.376,228.37,228.365,228.356,228.349 ,228.343,228.333,228.327,228.32,228.313 ,228.305,228.298,228.29,228.282,228.274 ,228.266,228.257,228.63,229.103,229.543 ,229.83,229.972,229.97,229.967,229.965, 229.963,229.962,229.96,229.958,229.956, 229.954,229.951,229.95,229.948,229.945, 229.943,229.942,229.94,229.938,229.937, 229.935,229.933,229.932,229.93,229.929, 229.927,229.925,229.921,229.918,229.917 ,229.915,229.913,229.912,229.91,229.909 ,229.907,229.905,229.904,229.902,229.9, 229.898,229.897,229.895,229.893,229.891 ,229.889,229.748)
ORBIT_NUMBER = 10522
ORBITAL_ECCENTRICITY = 0.578
ORBITAL_INCLINATION = 86.89
ORBITAL_SEMIMAJOR_AXIS = 8818.27
PERIAPSIS_ALTITUDE = 332.02
PERIAPSIS_ARGUMENT_ANGLE = 321.69
PERIAPSIS_TIME = 2012-04-04T16:25:32.000Z
SPACECRAFT_ORIENTATION = (0.0,1.0,0.0)
^MEX_ORIENTATION_DESC = "MEX_ORIENTATION_DESC.TXT"
SPACECRAFT_POINTING_MODE = NADIR
^MEX_POINTING_DESC = "MEX_POINTING_DESC.TXT"
RIGHT_ASCENSION = -1e+32
DECLINATION = -1e+32
OFFSET_ANGLE = -1e+32
SPACECRAFT_SOLAR_DISTANCE = 2.47469e+08
TARGET_NAME = MARS
/* CAMERA DATA ELEMENTS */
DETECTOR_TEMPERATURE = 18.3705
FOCAL_PLANE_TEMPERATURE = 8.7872
INST_CMPRS_NAME = "DISCRETE COSINE TRANSFORMATION (DCT)"
INST_CMPRS_RATIO = 4.74861
INST_CMPRS_QUALITY = 0
INST_CMPRS_QUANTZ_TBL_ID = 0
INSTRUMENT_TEMPERATURE = 11.8457
LENS_TEMPERATURE = 9.195
MACROPIXEL_SIZE = 1
MISSING_FRAMES = 0
PIXEL_SUBSAMPLING_FLAG = N
SIGNAL_CHAIN_ID = 0
/* RADIOMETRIC DATA ELEMENTS */
BANDWIDTH = 177.0
CENTER_FILTER_WAVELENGTH = 677.5
RADIANCE_OFFSET = 0.688692
RADIANCE_SCALING_FACTOR = 0.0230358
REFLECTANCE_SCALING_FACTOR = 0.000749422
MEX:REFLECTANCE_OFFSET = 0.0224051
/* IMAGE OBJECT DEFINITIONS */
OBJECT = IMAGE
  INTERCHANGE_FORMAT = BINARY
  LINES = 62737
  LINE_SAMPLES = 8376
  SAMPLE_TYPE = UNSIGNED_INTEGER
  SAMPLE_BITS = 8
  BANDS = 1
  BAND_STORAGE_TYPE = BAND_SEQUENTIAL
  MAXIMUM = 255
  MEAN = 96.8578
  MINIMUM = 1
  STANDARD_DEVIATION = 27.1339
END_OBJECT = IMAGE
/* MAP OBJECT DEFINITIONS */
OBJECT = IMAGE_MAP_PROJECTION
  ^DATA_SET_MAP_PROJECTION_CATALOG= "DSMAP.CAT"
  A_AXIS_RADIUS = 3396.0
  B_AXIS_RADIUS = 3396.0
  C_AXIS_RADIUS = 3396.0
  CENTER_LATITUDE = 0.0
  CENTER_LONGITUDE = 229.0
  COORDINATE_SYSTEM_NAME = PLANETOGRAPHIC
  COORDINATE_SYSTEM_TYPE = "BODY-FIXED ROTATING"
  EASTERNMOST_LONGITUDE = 229.972
  FIRST_STANDARD_PARALLEL = "N/A"
  LINE_FIRST_PIXEL = 1
  LINE_LAST_PIXEL = 62737
  LINE_PROJECTION_OFFSET = -50262.0
  MAP_PROJECTION_ROTATION = 0.0
  MAP_PROJECTION_TYPE = SINUSOIDAL
  MAP_RESOLUTION = 4741.71043093333
  MAP_SCALE = 0.0125
  MAXIMUM_LATITUDE = -10.602
  MINIMUM_LATITUDE = -23.8304
  POSITIVE_LONGITUDE_DIRECTION = EAST
  REFERENCE_LATITUDE = "N/A"
  REFERENCE_LONGITUDE = "N/A"
  SAMPLE_FIRST_PIXEL = 1
  SAMPLE_LAST_PIXEL = 8376
  SAMPLE_PROJECTION_OFFSET = 3629.0
  SECOND_STANDARD_PARALLEL = "N/A"
  WESTERNMOST_LONGITUDE = 228.257
END_OBJECT = IMAGE_MAP_PROJECTION
/* The JPEG2000 image data file associated with this label. */
OBJECT = COMPRESSED_FILE
  FILE_NAME = "HA522_0000_ND3.JP2"
  RECORD_TYPE = UNDEFINED
  FILE_RECORDS = UNK
  ENCODING_TYPE = "JP2"
  INTERCHANGE_FORMAT = BINARY
  UNCOMPRESSED_FILE_NAME = "HA522_0000_ND3.IMG"
  REQUIRED_STORAGE_BYTES = "525518616"
  ^DESCRIPTION = "JP2INFO.TXT"
END_OBJECT = COMPRESSED_FILE
END
