PDS_VERSION_ID = PDS3
/* FILE DATA ELEMENTS */
RECORD_TYPE = STREAM
/* POINTERS TO DATA OBJECTS */
^COMPRESSED_FILE = "HA526_0000_GR3.JP2"
/* IDENTIFICATION DATA ELEMENTS */
DATA_SET_ID = "MEX-M-HRSC-5-REFDR-MAPPROJECTED-V3.0"
DATA_SET_NAME = "MARS EXPRESS HRSC MAP PROJECTED REFDR V3.0"
DETECTOR_ID = MEX_HRSC_GREEN
EVENT_TYPE = "MARS-REGIONAL-MAPPING-Im-Fl"
INSTRUMENT_HOST_ID = MEX
INSTRUMENT_HOST_NAME = "MARS EXPRESS"
INSTRUMENT_ID = HRSC
INSTRUMENT_NAME = "HIGH RESOLUTION STEREO CAMERA"
MISSION_NAME = "MARS EXPRESS"
MISSION_PHASE_NAME = ME_Phase_25
PROCESSING_LEVEL_ID = 3
PRODUCT_CREATION_TIME = 2016-10-27T15:49:42.000Z
PRODUCT_ID = "HA526_0000_GR3.JP2"
RELEASE_ID = 0108
REVISION_ID = 0000
/* QUALITY DATA ELEMENTS */
DATA_QUALITY_ID = 1
DATA_QUALITY_DESC = "Data calculated based on original SPICE kernels"
/* TIME DATA ELEMENTS */
SPACECRAFT_CLOCK_START_COUNT = "1/0281737523.08407"
SPACECRAFT_CLOCK_STOP_COUNT = "1/0281737862.20717"
START_TIME = 2012-04-05T20:26:03.095Z
STOP_TIME = 2012-04-05T20:30:22.361Z
/* ORBITAL DATA ELEMENTS */
ASCENDING_NODE_LONGITUDE = 16.38
MAXIMUM_RESOLUTION = 56.4
FOOTPRINT_POINT_LATITUDE = (-28.611,-28.6086,-28.6056,-28.6044, -28.3246,-28.0455,-27.7669,-27.3496, -27.0713,-26.7933,-26.5083,-26.231, -25.815,-25.5381,-25.2613,-24.9849, -24.663,-24.3336,-24.0048,-23.6765, -23.3487,-23.021,-22.6937,-22.367, -22.0406,-21.7149,-21.3894,-20.9019, -20.4157,-19.9321,-19.6093,-19.287, -18.7931,-18.4637,-18.1347,-17.6327, -17.297,-16.9616,-16.619,-16.096, -15.7502,-15.4007,-15.0516,-14.5195, -14.1644,-13.6238,-13.2624,-12.8961, -12.4395,-12.4369,-12.4333,-12.4297, -12.4259,-12.794,-13.1626,-13.5246, -14.0684,-14.6032,-14.9597,-15.3088, -15.6586,-16.1782,-16.7007,-17.0424, -17.3785,-17.7151,-18.0532,-18.383, -18.8763,-19.2068,-19.5287,-19.8519, -20.1757,-20.4998,-20.8246,-21.1496, -21.4752,-21.8012,-22.1276,-22.4542, -22.7814,-23.1091,-23.438,-23.7657, -24.0945,-24.4239,-24.7543,-25.063, -25.478,-25.7552,-26.0322,-26.31, -26.5947,-27.0129,-27.2916,-27.57, -27.8491,-28.1289,-28.4087,-28.611)
FOOTPRINT_POINT_LONGITUDE = (180.736,180.234,179.849,179.503, 179.506,179.507,179.508,179.508,179.509 ,179.509,179.511,179.51,179.51,179.51, 179.51,179.509,179.509,179.508,179.507, 179.505,179.503,179.501,179.499,179.497 ,179.494,179.491,179.488,179.484, 179.479,179.469,179.465,179.461,179.457 ,179.452,179.446,179.436,179.429, 179.423,179.416,179.406,179.399,179.391 ,179.383,179.371,179.361,179.347, 179.336,179.326,179.314,179.65,180.177, 180.448,180.897,181.026,181.022,181.019 ,181.014,181.011,181.008,181.005, 181.002,180.998,180.992,180.99,180.987, 180.984,180.985,180.983,180.976,180.975 ,180.971,180.969,180.967,180.965, 180.963,180.961,180.959,180.956,180.954 ,180.951,180.948,180.946,180.945,180.94 ,180.937,180.935,180.933,180.932, 180.927,180.925,180.921,180.918,180.916 ,180.913,180.911,180.907,180.905, 180.903,180.901,180.736)
ORBIT_NUMBER = 10526
ORBITAL_ECCENTRICITY = 0.578
ORBITAL_INCLINATION = 86.88
ORBITAL_SEMIMAJOR_AXIS = 8813.53
PERIAPSIS_ALTITUDE = 332.82
PERIAPSIS_ARGUMENT_ANGLE = 321.04
PERIAPSIS_TIME = 2012-04-05T20:23:21.000Z
SPACECRAFT_ORIENTATION = (0.0,1.0,0.0)
^MEX_ORIENTATION_DESC = "MEX_ORIENTATION_DESC.TXT"
SPACECRAFT_POINTING_MODE = NADIR
^MEX_POINTING_DESC = "MEX_POINTING_DESC.TXT"
RIGHT_ASCENSION = -1e+32
DECLINATION = -1e+32
OFFSET_ANGLE = -1e+32
SPACECRAFT_SOLAR_DISTANCE = 2.47384e+08
TARGET_NAME = MARS
/* CAMERA DATA ELEMENTS */
DETECTOR_TEMPERATURE = 18.5744
FOCAL_PLANE_TEMPERATURE = 8.3794
INST_CMPRS_NAME = "DISCRETE COSINE TRANSFORMATION (DCT)"
INST_CMPRS_RATIO = 6.91108
INST_CMPRS_QUALITY = 0
INST_CMPRS_QUANTZ_TBL_ID = 0
INSTRUMENT_TEMPERATURE = 11.6418
LENS_TEMPERATURE = 9.3989
MACROPIXEL_SIZE = 4
MISSING_FRAMES = 2
PIXEL_SUBSAMPLING_FLAG = N
SIGNAL_CHAIN_ID = 2
/* RADIOMETRIC DATA ELEMENTS */
BANDWIDTH = 88.0
CENTER_FILTER_WAVELENGTH = 538.0
RADIANCE_OFFSET = 0.122304
RADIANCE_SCALING_FACTOR = 0.00604325
REFLECTANCE_SCALING_FACTOR = 0.000318423
MEX:REFLECTANCE_OFFSET = 0.00644428
/* IMAGE OBJECT DEFINITIONS */
OBJECT = IMAGE
  INTERCHANGE_FORMAT = BINARY
  LINES = 19208
  LINE_SAMPLES = 2060
  SAMPLE_TYPE = UNSIGNED_INTEGER
  SAMPLE_BITS = 8
  BANDS = 1
  BAND_STORAGE_TYPE = BAND_SEQUENTIAL
  MAXIMUM = 255
  MEAN = 116.456
  MINIMUM = 1
  STANDARD_DEVIATION = 37.6007
END_OBJECT = IMAGE
/* MAP OBJECT DEFINITIONS */
OBJECT = IMAGE_MAP_PROJECTION
  ^DATA_SET_MAP_PROJECTION_CATALOG= "DSMAP.CAT"
  A_AXIS_RADIUS = 3396.0
  B_AXIS_RADIUS = 3396.0
  C_AXIS_RADIUS = 3396.0
  CENTER_LATITUDE = 0.0
  CENTER_LONGITUDE = 180.0
  COORDINATE_SYSTEM_NAME = PLANETOGRAPHIC
  COORDINATE_SYSTEM_TYPE = "BODY-FIXED ROTATING"
  EASTERNMOST_LONGITUDE = 181.026
  FIRST_STANDARD_PARALLEL = "N/A"
  LINE_FIRST_PIXEL = 1
  LINE_LAST_PIXEL = 19208
  LINE_PROJECTION_OFFSET = -14714.375
  MAP_PROJECTION_ROTATION = 0.0
  MAP_PROJECTION_TYPE = SINUSOIDAL
  MAP_RESOLUTION = 1185.42760773333
  MAP_SCALE = 0.05
  MAXIMUM_LATITUDE = -12.4259
  MINIMUM_LATITUDE = -28.611
  POSITIVE_LONGITUDE_DIRECTION = EAST
  REFERENCE_LATITUDE = "N/A"
  REFERENCE_LONGITUDE = "N/A"
  SAMPLE_FIRST_PIXEL = 1
  SAMPLE_LAST_PIXEL = 2060
  SAMPLE_PROJECTION_OFFSET = 834.125
  SECOND_STANDARD_PARALLEL = "N/A"
  WESTERNMOST_LONGITUDE = 179.314
END_OBJECT = IMAGE_MAP_PROJECTION
/* The JPEG2000 image data file associated with this label. */
OBJECT = COMPRESSED_FILE
  FILE_NAME = "HA526_0000_GR3.JP2"
  RECORD_TYPE = UNDEFINED
  FILE_RECORDS = UNK
  ENCODING_TYPE = "JP2"
  INTERCHANGE_FORMAT = BINARY
  UNCOMPRESSED_FILE_NAME = "HA526_0000_GR3.IMG"
  REQUIRED_STORAGE_BYTES = "39589080"
  ^DESCRIPTION = "JP2INFO.TXT"
END_OBJECT = COMPRESSED_FILE
END
