PDS_VERSION_ID = PDS3
/* FILE DATA ELEMENTS */
RECORD_TYPE = STREAM
/* POINTERS TO DATA OBJECTS */
^COMPRESSED_FILE = "HA526_0000_S13.JP2"
/* IDENTIFICATION DATA ELEMENTS */
DATA_SET_ID = "MEX-M-HRSC-5-REFDR-MAPPROJECTED-V3.0"
DATA_SET_NAME = "MARS EXPRESS HRSC MAP PROJECTED REFDR V3.0"
DETECTOR_ID = MEX_HRSC_S1
EVENT_TYPE = "MARS-REGIONAL-MAPPING-Im-Fl"
INSTRUMENT_HOST_ID = MEX
INSTRUMENT_HOST_NAME = "MARS EXPRESS"
INSTRUMENT_ID = HRSC
INSTRUMENT_NAME = "HIGH RESOLUTION STEREO CAMERA"
MISSION_NAME = "MARS EXPRESS"
MISSION_PHASE_NAME = ME_Phase_25
PROCESSING_LEVEL_ID = 3
PRODUCT_CREATION_TIME = 2016-10-27T15:49:42.000Z
PRODUCT_ID = "HA526_0000_S13.JP2"
RELEASE_ID = 0108
REVISION_ID = 0000
/* QUALITY DATA ELEMENTS */
DATA_QUALITY_ID = 1
DATA_QUALITY_DESC = "Data calculated based on original SPICE kernels"
/* TIME DATA ELEMENTS */
SPACECRAFT_CLOCK_START_COUNT = "1/0281737523.08407"
SPACECRAFT_CLOCK_STOP_COUNT = "1/0281737862.20717"
START_TIME = 2012-04-05T20:26:30.347Z
STOP_TIME = 2012-04-05T20:31:03.970Z
/* ORBITAL DATA ELEMENTS */
ASCENDING_NODE_LONGITUDE = 16.38
MAXIMUM_RESOLUTION = 30.7
FOOTPRINT_POINT_LATITUDE = (-28.5811,-28.5803,-28.5779,-28.595, -28.3193,-28.047,-27.7758,-27.5076, -27.2362,-26.8295,-26.5209,-26.0393, -25.7174,-25.3962,-24.9156,-24.5964, -24.2767,-23.9586,-23.6421,-23.3246, -23.0079,-22.6931,-22.2208,-21.9073, -21.5948,-21.2806,-20.9615,-20.4832, -20.1733,-19.689,-19.3654,-18.8656, -18.3723,-18.0434,-17.7118,-17.2148, -16.8767,-16.3659,-16.0225,-15.5012, -15.1514,-14.6275,-14.273,-13.7429, -13.3854,-12.8398,-12.474,-12.4539, -12.4487,-12.4499,-12.4438,-12.436, -12.4362,-12.4381,-12.9846,-13.523, -13.887,-14.2398,-14.6007,-14.9506, -15.4759,-15.8181,-16.3383,-16.8427, -17.1855,-17.518,-18.0203,-18.363, -18.6817,-19.0127,-19.4981,-19.8247, -20.1489,-20.4678,-20.7889,-21.1089, -21.4232,-21.7361,-22.0498,-22.3629, -22.8356,-23.1509,-23.4754,-23.7861, -24.1017,-24.4209,-24.7434,-25.0679, -25.5463,-25.8678,-26.186,-26.5073, -26.8213,-27.0928,-27.3651,-27.6347, -27.907,-28.1837,-28.5971,-28.5811)
FOOTPRINT_POINT_LONGITUDE = (180.637,180.416,179.907,179.481, 179.483,179.484,179.484,179.483,179.483 ,179.483,179.484,179.483,179.482, 179.481,179.48,179.478,179.477,179.475, 179.472,179.47,179.468,179.465,179.46, 179.457,179.453,179.45,179.447,179.44, 179.433,179.425,179.42,179.415,179.406, 179.399,179.391,179.379,179.371,179.36, 179.352,179.34,179.331,179.317,179.306, 179.29,179.278,179.261,179.25,179.5, 179.821,180.089,180.338,180.57,180.784, 181.095,181.087,181.079,181.076,181.07, 181.068,181.063,181.057,181.052,181.047 ,181.04,181.037,181.033,181.027,181.028 ,181.021,181.018,181.013,181.01,181.007 ,181.004,181.002,180.999,180.996, 180.993,180.99,180.986,180.981,180.978, 180.977,180.972,180.968,180.965,180.962 ,180.961,180.954,180.951,180.946, 180.942,180.941,180.938,180.935,180.931 ,180.928,180.926,180.922,180.637)
ORBIT_NUMBER = 10526
ORBITAL_ECCENTRICITY = 0.578
ORBITAL_INCLINATION = 86.88
ORBITAL_SEMIMAJOR_AXIS = 8813.53
PERIAPSIS_ALTITUDE = 332.82
PERIAPSIS_ARGUMENT_ANGLE = 321.04
PERIAPSIS_TIME = 2012-04-05T20:23:21.000Z
SPACECRAFT_ORIENTATION = (0.0,1.0,0.0)
^MEX_ORIENTATION_DESC = "MEX_ORIENTATION_DESC.TXT"
SPACECRAFT_POINTING_MODE = NADIR
^MEX_POINTING_DESC = "MEX_POINTING_DESC.TXT"
RIGHT_ASCENSION = -1e+32
DECLINATION = -1e+32
OFFSET_ANGLE = -1e+32
SPACECRAFT_SOLAR_DISTANCE = 2.47384e+08
TARGET_NAME = MARS
/* CAMERA DATA ELEMENTS */
DETECTOR_TEMPERATURE = 17.9627
FOCAL_PLANE_TEMPERATURE = 8.3794
INST_CMPRS_NAME = "DISCRETE COSINE TRANSFORMATION (DCT)"
INST_CMPRS_RATIO = 6.58913
INST_CMPRS_QUALITY = 0
INST_CMPRS_QUANTZ_TBL_ID = 0
INSTRUMENT_TEMPERATURE = 11.6418
LENS_TEMPERATURE = 9.3989
MACROPIXEL_SIZE = 2
MISSING_FRAMES = 0
PIXEL_SUBSAMPLING_FLAG = N
SIGNAL_CHAIN_ID = 1
/* RADIOMETRIC DATA ELEMENTS */
BANDWIDTH = 180.0
CENTER_FILTER_WAVELENGTH = 677.0
RADIANCE_OFFSET = 0.315862
RADIANCE_SCALING_FACTOR = 0.0227607
REFLECTANCE_SCALING_FACTOR = 0.000726728
MEX:REFLECTANCE_OFFSET = 0.0100852
/* IMAGE OBJECT DEFINITIONS */
OBJECT = IMAGE
  INTERCHANGE_FORMAT = BINARY
  LINES = 38415
  LINE_SAMPLES = 4120
  SAMPLE_TYPE = UNSIGNED_INTEGER
  SAMPLE_BITS = 8
  BANDS = 1
  BAND_STORAGE_TYPE = BAND_SEQUENTIAL
  MAXIMUM = 255
  MEAN = 111.044
  MINIMUM = 1
  STANDARD_DEVIATION = 41.5127
END_OBJECT = IMAGE
/* MAP OBJECT DEFINITIONS */
OBJECT = IMAGE_MAP_PROJECTION
  ^DATA_SET_MAP_PROJECTION_CATALOG= "DSMAP.CAT"
  A_AXIS_RADIUS = 3396.0
  B_AXIS_RADIUS = 3396.0
  C_AXIS_RADIUS = 3396.0
  CENTER_LATITUDE = 0.0
  CENTER_LONGITUDE = 180.0
  COORDINATE_SYSTEM_NAME = PLANETOGRAPHIC
  COORDINATE_SYSTEM_TYPE = "BODY-FIXED ROTATING"
  EASTERNMOST_LONGITUDE = 181.095
  FIRST_STANDARD_PARALLEL = "N/A"
  LINE_FIRST_PIXEL = 1
  LINE_LAST_PIXEL = 38415
  LINE_PROJECTION_OFFSET = -29428.25
  MAP_PROJECTION_ROTATION = 0.0
  MAP_PROJECTION_TYPE = SINUSOIDAL
  MAP_RESOLUTION = 2370.85521546667
  MAP_SCALE = 0.025
  MAXIMUM_LATITUDE = -12.436
  MINIMUM_LATITUDE = -28.5971
  POSITIVE_LONGITUDE_DIRECTION = EAST
  REFERENCE_LATITUDE = "N/A"
  REFERENCE_LONGITUDE = "N/A"
  SAMPLE_FIRST_PIXEL = 1
  SAMPLE_LAST_PIXEL = 4120
  SAMPLE_PROJECTION_OFFSET = 1668.75
  SECOND_STANDARD_PARALLEL = "N/A"
  WESTERNMOST_LONGITUDE = 179.25
END_OBJECT = IMAGE_MAP_PROJECTION
/* The JPEG2000 image data file associated with this label. */
OBJECT = COMPRESSED_FILE
  FILE_NAME = "HA526_0000_S13.JP2"
  RECORD_TYPE = UNDEFINED
  FILE_RECORDS = UNK
  ENCODING_TYPE = "JP2"
  INTERCHANGE_FORMAT = BINARY
  UNCOMPRESSED_FILE_NAME = "HA526_0000_S13.IMG"
  REQUIRED_STORAGE_BYTES = "158294520"
  ^DESCRIPTION = "JP2INFO.TXT"
END_OBJECT = COMPRESSED_FILE
END
