PDS_VERSION_ID = PDS3
/* FILE DATA ELEMENTS */
RECORD_TYPE = STREAM
/* POINTERS TO DATA OBJECTS */
^COMPRESSED_FILE = "HA532_0000_P23.JP2"
/* IDENTIFICATION DATA ELEMENTS */
DATA_SET_ID = "MEX-M-HRSC-5-REFDR-MAPPROJECTED-V3.0"
DATA_SET_NAME = "MARS EXPRESS HRSC MAP PROJECTED REFDR V3.0"
DETECTOR_ID = MEX_HRSC_P2
EVENT_TYPE = "MARS-REGIONAL-MAPPING-Vo-Te"
INSTRUMENT_HOST_ID = MEX
INSTRUMENT_HOST_NAME = "MARS EXPRESS"
INSTRUMENT_ID = HRSC
INSTRUMENT_NAME = "HIGH RESOLUTION STEREO CAMERA"
MISSION_NAME = "MARS EXPRESS"
MISSION_PHASE_NAME = ME_Phase_25
PROCESSING_LEVEL_ID = 3
PRODUCT_CREATION_TIME = 2016-10-27T15:49:42.000Z
PRODUCT_ID = "HA532_0000_P23.JP2"
RELEASE_ID = 0108
REVISION_ID = 0000
/* QUALITY DATA ELEMENTS */
DATA_QUALITY_ID = 1
DATA_QUALITY_DESC = "Data calculated based on original SPICE kernels"
/* TIME DATA ELEMENTS */
SPACECRAFT_CLOCK_START_COUNT = "1/0281888606.09060"
SPACECRAFT_CLOCK_STOP_COUNT = "1/0281888867.54185"
START_TIME = 2012-04-07T14:23:41.016Z
STOP_TIME = 2012-04-07T14:26:30.427Z
/* ORBITAL DATA ELEMENTS */
ASCENDING_NODE_LONGITUDE = 16.27
MAXIMUM_RESOLUTION = 60.8
FOOTPRINT_POINT_LATITUDE = (-23.9492,-23.956,-23.9678,-23.9774, -23.6572,-23.4436,-23.1234,-22.9106, -22.6979,-22.4853,-22.2732,-22.0604, -21.8482,-21.6364,-21.4247,-21.2125, -20.8944,-20.5762,-20.3645,-20.1528, -19.8355,-19.6247,-19.4135,-19.2025, -18.9915,-18.7808,-18.4648,-18.2489, -17.9249,-17.7089,-17.4931,-17.2775, -17.0579,-16.837,-16.5057,-16.1748, -15.9513,-15.7259,-15.5004,-15.2751, -15.0496,-14.7053,-14.4749,-14.2445, -14.0143,-13.7803,-13.5447,-13.1915, -13.0071,-12.9953,-12.966,-12.9516, -12.9461,-12.9379,-13.1678,-13.5271, -13.7783,-14.0183,-14.2498,-14.4813, -14.7128,-14.9437,-15.1695,-15.3957, -15.6214,-15.8475,-16.0725,-16.2931, -16.5139,-16.8456,-17.0667,-17.3929, -17.609,-17.825,-18.0412,-18.258, -18.4725,-18.6835,-19.0004,-19.3178, -19.5296,-19.7416,-19.9537,-20.1656, -20.3775,-20.5896,-20.8015,-21.014, -21.226,-21.5445,-21.863,-22.0754, -22.2881,-22.5012,-22.7144,-22.9275, -23.2471,-23.5661,-23.8881,-23.9492)
FOOTPRINT_POINT_LONGITUDE = (287.906,287.691,287.265,286.856, 286.853,286.851,286.847,286.845,286.842 ,286.84,286.837,286.834,286.831,286.828 ,286.825,286.822,286.817,286.813, 286.809,286.806,286.8,286.797,286.793, 286.789,286.786,286.782,286.776,286.771 ,286.765,286.761,286.756,286.752, 286.747,286.742,286.735,286.728,286.723 ,286.717,286.712,286.707,286.701, 286.693,286.687,286.681,286.675,286.669 ,286.663,286.653,286.965,287.195, 287.463,287.748,287.998,288.319,288.323 ,288.318,288.305,288.298,288.297, 288.296,288.295,288.295,288.294,288.294 ,288.294,288.294,288.293,288.293, 288.293,288.293,288.293,288.293,288.293 ,288.292,288.292,288.292,288.292, 288.291,288.291,288.29,288.29,288.289, 288.288,288.288,288.288,288.288,288.288 ,288.287,288.287,288.287,288.287, 288.287,288.287,288.286,288.286,288.285 ,288.285,288.286,288.283,287.906)
ORBIT_NUMBER = 10532
ORBITAL_ECCENTRICITY = 0.578
ORBITAL_INCLINATION = 86.87
ORBITAL_SEMIMAJOR_AXIS = 8816.61
PERIAPSIS_ALTITUDE = 332.34
PERIAPSIS_ARGUMENT_ANGLE = 320.02
PERIAPSIS_TIME = 2012-04-07T14:19:58.000Z
SPACECRAFT_ORIENTATION = (0.0,1.0,0.0)
^MEX_ORIENTATION_DESC = "MEX_ORIENTATION_DESC.TXT"
SPACECRAFT_POINTING_MODE = ACROSSTRACK
^MEX_POINTING_DESC = "MEX_POINTING_DESC.TXT"
RIGHT_ASCENSION = -1e+32
DECLINATION = -1e+32
OFFSET_ANGLE = -0.687
SPACECRAFT_SOLAR_DISTANCE = 2.47255e+08
TARGET_NAME = MARS
/* CAMERA DATA ELEMENTS */
DETECTOR_TEMPERATURE = 18.3705
FOCAL_PLANE_TEMPERATURE = 7.9716
INST_CMPRS_NAME = "DISCRETE COSINE TRANSFORMATION (DCT)"
INST_CMPRS_RATIO = 7.56878
INST_CMPRS_QUALITY = 0
INST_CMPRS_QUANTZ_TBL_ID = 0
INSTRUMENT_TEMPERATURE = 11.0301
LENS_TEMPERATURE = 8.7872
MACROPIXEL_SIZE = 4
MISSING_FRAMES = 0
PIXEL_SUBSAMPLING_FLAG = N
SIGNAL_CHAIN_ID = 3
/* RADIOMETRIC DATA ELEMENTS */
BANDWIDTH = 177.0
CENTER_FILTER_WAVELENGTH = 676.5
RADIANCE_OFFSET = 0.499615
RADIANCE_SCALING_FACTOR = 0.0174469
REFLECTANCE_SCALING_FACTOR = 0.00056554
MEX:REFLECTANCE_OFFSET = 0.016195
/* IMAGE OBJECT DEFINITIONS */
OBJECT = IMAGE
  INTERCHANGE_FORMAT = BINARY
  LINES = 13022
  LINE_SAMPLES = 2101
  SAMPLE_TYPE = UNSIGNED_INTEGER
  SAMPLE_BITS = 8
  BANDS = 1
  BAND_STORAGE_TYPE = BAND_SEQUENTIAL
  MAXIMUM = 255
  MEAN = 83.826
  MINIMUM = 1
  STANDARD_DEVIATION = 18.6072
END_OBJECT = IMAGE
/* MAP OBJECT DEFINITIONS */
OBJECT = IMAGE_MAP_PROJECTION
  ^DATA_SET_MAP_PROJECTION_CATALOG= "DSMAP.CAT"
  A_AXIS_RADIUS = 3396.0
  B_AXIS_RADIUS = 3396.0
  C_AXIS_RADIUS = 3396.0
  CENTER_LATITUDE = 0.0
  CENTER_LONGITUDE = 288.0
  COORDINATE_SYSTEM_NAME = PLANETOGRAPHIC
  COORDINATE_SYSTEM_TYPE = "BODY-FIXED ROTATING"
  EASTERNMOST_LONGITUDE = 288.323
  FIRST_STANDARD_PARALLEL = "N/A"
  LINE_FIRST_PIXEL = 1
  LINE_LAST_PIXEL = 13022
  LINE_PROJECTION_OFFSET = -15373.875
  MAP_PROJECTION_ROTATION = 0.0
  MAP_PROJECTION_TYPE = SINUSOIDAL
  MAP_RESOLUTION = 1185.42760773333
  MAP_SCALE = 0.05
  MAXIMUM_LATITUDE = -12.9379
  MINIMUM_LATITUDE = -23.9774
  POSITIVE_LONGITUDE_DIRECTION = EAST
  REFERENCE_LATITUDE = "N/A"
  REFERENCE_LONGITUDE = "N/A"
  SAMPLE_FIRST_PIXEL = 1
  SAMPLE_LAST_PIXEL = 2101
  SAMPLE_PROJECTION_OFFSET = 1616.875
  SECOND_STANDARD_PARALLEL = "N/A"
  WESTERNMOST_LONGITUDE = 286.653
END_OBJECT = IMAGE_MAP_PROJECTION
/* The JPEG2000 image data file associated with this label. */
OBJECT = COMPRESSED_FILE
  FILE_NAME = "HA532_0000_P23.JP2"
  RECORD_TYPE = UNDEFINED
  FILE_RECORDS = UNK
  ENCODING_TYPE = "JP2"
  INTERCHANGE_FORMAT = BINARY
  UNCOMPRESSED_FILE_NAME = "HA532_0000_P23.IMG"
  REQUIRED_STORAGE_BYTES = "27380232"
  ^DESCRIPTION = "JP2INFO.TXT"
END_OBJECT = COMPRESSED_FILE
END
