PDS_VERSION_ID = PDS3
/* FILE DATA ELEMENTS */
RECORD_TYPE = STREAM
/* POINTERS TO DATA OBJECTS */
^COMPRESSED_FILE = "HA537_0001_BL3.JP2"
/* IDENTIFICATION DATA ELEMENTS */
DATA_SET_ID = "MEX-M-HRSC-5-REFDR-MAPPROJECTED-V3.0"
DATA_SET_NAME = "MARS EXPRESS HRSC MAP PROJECTED REFDR V3.0"
DETECTOR_ID = MEX_HRSC_BLUE
EVENT_TYPE = "MARS-REGIONAL-MAPPING-Im-Fl-Mw"
INSTRUMENT_HOST_ID = MEX
INSTRUMENT_HOST_NAME = "MARS EXPRESS"
INSTRUMENT_ID = HRSC
INSTRUMENT_NAME = "HIGH RESOLUTION STEREO CAMERA"
MISSION_NAME = "MARS EXPRESS"
MISSION_PHASE_NAME = ME_Phase_25
PROCESSING_LEVEL_ID = 3
PRODUCT_CREATION_TIME = 2016-10-27T15:49:42.000Z
PRODUCT_ID = "HA537_0001_BL3.JP2"
RELEASE_ID = 0108
REVISION_ID = 0000
/* QUALITY DATA ELEMENTS */
DATA_QUALITY_ID = 1
DATA_QUALITY_DESC = "Data calculated based on original SPICE kernels"
/* TIME DATA ELEMENTS */
SPACECRAFT_CLOCK_START_COUNT = "1/0282014433.07311"
SPACECRAFT_CLOCK_STOP_COUNT = "1/0282014834.16466"
START_TIME = 2012-04-09T01:21:04.371Z
STOP_TIME = 2012-04-09T01:26:01.589Z
/* ORBITAL DATA ELEMENTS */
ASCENDING_NODE_LONGITUDE = 16.17
MAXIMUM_RESOLUTION = 120.1
FOOTPRINT_POINT_LATITUDE = (-24.9314,-24.9316,-24.9306,-24.9286, -24.5912,-24.2591,-23.9272,-23.5955, -23.2645,-22.9343,-22.604,-22.274, -21.9443,-21.6151,-21.1219,-20.7939, -20.4658,-20.1384,-19.8038,-19.3006, -18.9655,-18.6237,-18.2821,-17.94, -17.5935,-17.2436,-16.8946,-16.5412, -16.1845,-15.8286,-15.4659,-14.9218, -14.3675,-13.9974,-13.4328,-13.0562, -12.672,-12.2881,-11.8986,-11.5076, -11.1114,-10.7143,-10.3112,-9.70231, -9.29246,-8.87764,-8.24853,-7.82569, -7.3967,-6.96767,-6.57098,-6.56177, -6.55605,-6.54963,-6.7578,-7.40309, -7.83378,-8.25793,-8.88774,-9.50926, -9.91892,-10.324,-10.7263,-11.1241, -11.5223,-11.9135,-12.3036,-12.688, -13.0723,-13.449,-14.0139,-14.3849, -14.9393,-15.3026,-15.8471,-16.2038, -16.5611,-17.0893,-17.4395,-17.7901, -18.1325,-18.4753,-18.9889,-19.3242, -19.66,-20.1623,-20.4902,-20.8183, -21.1471,-21.476,-21.8056,-22.1356, -22.466,-22.7967,-23.128,-23.4593, -23.7913,-24.2892,-24.6215,-24.9314)
FOOTPRINT_POINT_LONGITUDE = (136.345,135.864,135.504,135.13,134.919 ,134.918,134.916,134.913,134.912,134.91 ,134.907,134.905,134.902,134.898, 134.893,134.889,134.885,134.881,134.876 ,134.869,134.863,134.857,134.853, 134.847,134.841,134.834,134.827,134.82, 134.813,134.805,134.797,134.786,134.772 ,134.763,134.749,134.739,134.729, 134.718,134.707,134.695,134.683,134.671 ,134.658,134.638,134.625,134.611, 134.589,134.574,134.559,134.542,134.527 ,135.17,135.578,136.004,136.497,136.49, 136.485,136.481,136.476,136.47,136.467, 136.463,136.461,136.458,136.452,136.449 ,136.446,136.443,136.441,136.439, 136.435,136.432,136.428,136.425,136.422 ,136.419,136.416,136.412,136.409, 136.406,136.404,136.401,136.396,136.394 ,136.391,136.387,136.385,136.382,136.38 ,136.377,136.375,136.372,136.369, 136.366,136.363,136.36,136.357,136.353, 136.35,136.345)
ORBIT_NUMBER = 10537
ORBITAL_ECCENTRICITY = 0.578
ORBITAL_INCLINATION = 86.86
ORBITAL_SEMIMAJOR_AXIS = 8815.65
PERIAPSIS_ALTITUDE = 332.53
PERIAPSIS_ARGUMENT_ANGLE = 319.16
PERIAPSIS_TIME = 2012-04-09T01:17:07.000Z
SPACECRAFT_ORIENTATION = (0.0,1.0,0.0)
^MEX_ORIENTATION_DESC = "MEX_ORIENTATION_DESC.TXT"
SPACECRAFT_POINTING_MODE = NADIR
^MEX_POINTING_DESC = "MEX_POINTING_DESC.TXT"
RIGHT_ASCENSION = -1e+32
DECLINATION = -1e+32
OFFSET_ANGLE = -1e+32
SPACECRAFT_SOLAR_DISTANCE = 2.47143e+08
TARGET_NAME = MARS
/* CAMERA DATA ELEMENTS */
DETECTOR_TEMPERATURE = 17.7588
FOCAL_PLANE_TEMPERATURE = 8.5833
INST_CMPRS_NAME = "DISCRETE COSINE TRANSFORMATION (DCT)"
INST_CMPRS_RATIO = 8.24394
INST_CMPRS_QUALITY = 0
INST_CMPRS_QUANTZ_TBL_ID = 0
INSTRUMENT_TEMPERATURE = 11.8457
LENS_TEMPERATURE = 8.7872
MACROPIXEL_SIZE = 8
MISSING_FRAMES = 0
PIXEL_SUBSAMPLING_FLAG = N
SIGNAL_CHAIN_ID = 2
/* RADIOMETRIC DATA ELEMENTS */
BANDWIDTH = 76.0
CENTER_FILTER_WAVELENGTH = 444.0
RADIANCE_OFFSET = 0.089759
RADIANCE_SCALING_FACTOR = 0.00228798
REFLECTANCE_SCALING_FACTOR = 0.000143583
MEX:REFLECTANCE_OFFSET = 0.00563288
/* IMAGE OBJECT DEFINITIONS */
OBJECT = IMAGE
  INTERCHANGE_FORMAT = BINARY
  LINES = 10897
  LINE_SAMPLES = 1230
  SAMPLE_TYPE = UNSIGNED_INTEGER
  SAMPLE_BITS = 8
  BANDS = 1
  BAND_STORAGE_TYPE = BAND_SEQUENTIAL
  MAXIMUM = 255
  MEAN = 135.952
  MINIMUM = 1
  STANDARD_DEVIATION = 33.4394
END_OBJECT = IMAGE
/* MAP OBJECT DEFINITIONS */
OBJECT = IMAGE_MAP_PROJECTION
  ^DATA_SET_MAP_PROJECTION_CATALOG= "DSMAP.CAT"
  A_AXIS_RADIUS = 3396.0
  B_AXIS_RADIUS = 3396.0
  C_AXIS_RADIUS = 3396.0
  CENTER_LATITUDE = 0.0
  CENTER_LONGITUDE = 136.0
  COORDINATE_SYSTEM_NAME = PLANETOGRAPHIC
  COORDINATE_SYSTEM_TYPE = "BODY-FIXED ROTATING"
  EASTERNMOST_LONGITUDE = 136.497
  FIRST_STANDARD_PARALLEL = "N/A"
  LINE_FIRST_PIXEL = 1
  LINE_LAST_PIXEL = 10897
  LINE_PROJECTION_OFFSET = -3883.3125
  MAP_PROJECTION_ROTATION = 0.0
  MAP_PROJECTION_TYPE = SINUSOIDAL
  MAP_RESOLUTION = 592.713803866667
  MAP_SCALE = 0.1
  MAXIMUM_LATITUDE = -6.54963
  MINIMUM_LATITUDE = -24.9316
  POSITIVE_LONGITUDE_DIRECTION = EAST
  REFERENCE_LATITUDE = "N/A"
  REFERENCE_LONGITUDE = "N/A"
  SAMPLE_FIRST_PIXEL = 1
  SAMPLE_LAST_PIXEL = 1230
  SAMPLE_PROJECTION_OFFSET = 906.0625
  SECOND_STANDARD_PARALLEL = "N/A"
  WESTERNMOST_LONGITUDE = 134.527
END_OBJECT = IMAGE_MAP_PROJECTION
/* The JPEG2000 image data file associated with this label. */
OBJECT = COMPRESSED_FILE
  FILE_NAME = "HA537_0001_BL3.JP2"
  RECORD_TYPE = UNDEFINED
  FILE_RECORDS = UNK
  ENCODING_TYPE = "JP2"
  INTERCHANGE_FORMAT = BINARY
  UNCOMPRESSED_FILE_NAME = "HA537_0001_BL3.IMG"
  REQUIRED_STORAGE_BYTES = "13421760"
  ^DESCRIPTION = "JP2INFO.TXT"
END_OBJECT = COMPRESSED_FILE
END
