PDS_VERSION_ID = PDS3
/* FILE DATA ELEMENTS */
RECORD_TYPE = STREAM
/* POINTERS TO DATA OBJECTS */
^COMPRESSED_FILE = "HA538_0000_ND3.JP2"
/* IDENTIFICATION DATA ELEMENTS */
DATA_SET_ID = "MEX-M-HRSC-5-REFDR-MAPPROJECTED-V3.0"
DATA_SET_NAME = "MARS EXPRESS HRSC MAP PROJECTED REFDR V3.0"
DETECTOR_ID = MEX_HRSC_NADIR
EVENT_TYPE = "MARS-REGIONAL-MAPPING-Im-Fl"
INSTRUMENT_HOST_ID = MEX
INSTRUMENT_HOST_NAME = "MARS EXPRESS"
INSTRUMENT_ID = HRSC
INSTRUMENT_NAME = "HIGH RESOLUTION STEREO CAMERA"
MISSION_NAME = "MARS EXPRESS"
MISSION_PHASE_NAME = ME_Phase_25
PROCESSING_LEVEL_ID = 3
PRODUCT_CREATION_TIME = 2016-10-27T15:49:42.000Z
PRODUCT_ID = "HA538_0000_ND3.JP2"
RELEASE_ID = 0108
REVISION_ID = 0000
/* QUALITY DATA ELEMENTS */
DATA_QUALITY_ID = 1
DATA_QUALITY_DESC = "Data calculated based on original SPICE kernels"
/* TIME DATA ELEMENTS */
SPACECRAFT_CLOCK_START_COUNT = "1/0282039646.09027"
SPACECRAFT_CLOCK_STOP_COUNT = "1/0282039941.28782"
START_TIME = 2012-04-09T08:21:25.243Z
STOP_TIME = 2012-04-09T08:24:45.235Z
/* ORBITAL DATA ELEMENTS */
ASCENDING_NODE_LONGITUDE = 16.16
MAXIMUM_RESOLUTION = 15.9
FOOTPRINT_POINT_LATITUDE = (-22.0267,-22.0288,-22.0294,-22.0293, -21.5875,-21.2567,-20.8167,-20.5926, -20.3673,-20.142,-19.9171,-19.6924, -19.4646,-19.2345,-19.0047,-18.7749, -18.5456,-18.1947,-17.9601,-17.7258, -17.4918,-17.2532,-17.014,-16.775, -16.5364,-16.2938,-16.05,-15.8065, -15.5633,-15.3152,-14.9429,-14.6951, -14.3167,-14.0641,-13.8119,-13.5549, -13.2977,-13.041,-12.7809,-12.5193, -12.2582,-11.9938,-11.7279,-11.4624, -11.1931,-10.923,-10.5158,-10.2413, -9.96724,-9.80592,-9.80114,-9.79485, -9.79064,-9.92382,-10.1983,-10.4734, -10.7467,-11.017,-11.4227,-11.6886, -11.955,-12.2203,-12.4819,-12.7439, -13.0049,-13.2621,-13.5196,-13.7775, -14.0301,-14.2831,-14.6626,-14.9107, -15.1592,-15.4081,-15.7761,-16.02, -16.2642,-16.5077,-16.7465,-16.9857, -17.2256,-17.465,-17.6993,-17.9339, -18.1688,-18.5207,-18.7504,-18.9804, -19.2106,-19.441,-19.6696,-19.8946, -20.1199,-20.3454,-20.5711,-20.796, -21.2367,-21.6782,-21.8992,-22.0267)
FOOTPRINT_POINT_LONGITUDE = (34.2211,33.7442,33.3592,33.0492, 32.9344,32.9281,32.922,32.9192,32.9165, 32.9128,32.9093,32.9056,32.9018,32.898, 32.8941,32.8889,32.8846,32.8775,32.8728 ,32.868,32.8632,32.8582,32.8531,32.8478 ,32.8425,32.837,32.8315,32.8258,32.8198 ,32.8136,32.8041,32.7977,32.7878, 32.7809,32.774,32.7669,32.7595,32.7524, 32.7448,32.7374,32.7294,32.7213,32.7131 ,32.7047,32.6962,32.6875,32.6745, 32.6653,32.6558,32.8885,33.2936,33.774, 34.071,34.5256,34.5237,34.5214,34.5189, 34.5174,34.514,34.5121,34.5101,34.5078, 34.5057,34.5041,34.5025,34.5009,34.4994 ,34.4977,34.4957,34.4942,34.4918, 34.4902,34.4885,34.4869,34.4846,34.4829 ,34.4811,34.4785,34.4803,34.48,34.4754, 34.4736,34.4731,34.4718,34.4704,34.4666 ,34.465,34.4634,34.4621,34.4609,34.4593 ,34.4583,34.4563,34.4549,34.4535, 34.4526,34.4492,34.4468,34.4456, 34.2211)
ORBIT_NUMBER = 10538
ORBITAL_ECCENTRICITY = 0.578
ORBITAL_INCLINATION = 86.87
ORBITAL_SEMIMAJOR_AXIS = 8815.52
PERIAPSIS_ALTITUDE = 332.38
PERIAPSIS_ARGUMENT_ANGLE = 318.99
PERIAPSIS_TIME = 2012-04-09T08:16:34.000Z
SPACECRAFT_ORIENTATION = (0.0,1.0,0.0)
^MEX_ORIENTATION_DESC = "MEX_ORIENTATION_DESC.TXT"
SPACECRAFT_POINTING_MODE = ACROSSTRACK
^MEX_POINTING_DESC = "MEX_POINTING_DESC.TXT"
RIGHT_ASCENSION = -1e+32
DECLINATION = -1e+32
OFFSET_ANGLE = -0.27
SPACECRAFT_SOLAR_DISTANCE = 2.47121e+08
TARGET_NAME = MARS
/* CAMERA DATA ELEMENTS */
DETECTOR_TEMPERATURE = 18.7783
FOCAL_PLANE_TEMPERATURE = 8.5833
INST_CMPRS_NAME = "DISCRETE COSINE TRANSFORMATION (DCT)"
INST_CMPRS_RATIO = 5.96558
INST_CMPRS_QUALITY = 0
INST_CMPRS_QUANTZ_TBL_ID = 0
INSTRUMENT_TEMPERATURE = 11.6418
LENS_TEMPERATURE = 8.5833
MACROPIXEL_SIZE = 1
MISSING_FRAMES = 0
PIXEL_SUBSAMPLING_FLAG = N
SIGNAL_CHAIN_ID = 0
/* RADIOMETRIC DATA ELEMENTS */
BANDWIDTH = 177.0
CENTER_FILTER_WAVELENGTH = 677.5
RADIANCE_OFFSET = 0.783539
RADIANCE_SCALING_FACTOR = 0.0146955
REFLECTANCE_SCALING_FACTOR = 0.000476744
MEX:REFLECTANCE_OFFSET = 0.0254191
/* IMAGE OBJECT DEFINITIONS */
OBJECT = IMAGE
  INTERCHANGE_FORMAT = BINARY
  LINES = 58051
  LINE_SAMPLES = 9154
  SAMPLE_TYPE = UNSIGNED_INTEGER
  SAMPLE_BITS = 8
  BANDS = 1
  BAND_STORAGE_TYPE = BAND_SEQUENTIAL
  MAXIMUM = 255
  MEAN = 101.372
  MINIMUM = 1
  STANDARD_DEVIATION = 18.8105
END_OBJECT = IMAGE
/* MAP OBJECT DEFINITIONS */
OBJECT = IMAGE_MAP_PROJECTION
  ^DATA_SET_MAP_PROJECTION_CATALOG= "DSMAP.CAT"
  A_AXIS_RADIUS = 3396.0
  B_AXIS_RADIUS = 3396.0
  C_AXIS_RADIUS = 3396.0
  CENTER_LATITUDE = 0.0
  CENTER_LONGITUDE = 34.0
  COORDINATE_SYSTEM_NAME = PLANETOGRAPHIC
  COORDINATE_SYSTEM_TYPE = "BODY-FIXED ROTATING"
  EASTERNMOST_LONGITUDE = 34.5256
  FIRST_STANDARD_PARALLEL = "N/A"
  LINE_FIRST_PIXEL = 1
  LINE_LAST_PIXEL = 58051
  LINE_PROJECTION_OFFSET = -46391.0
  MAP_PROJECTION_ROTATION = 0.0
  MAP_PROJECTION_TYPE = SINUSOIDAL
  MAP_RESOLUTION = 4741.71043093333
  MAP_SCALE = 0.0125
  MAXIMUM_LATITUDE = -9.79064
  MINIMUM_LATITUDE = -22.0294
  POSITIVE_LONGITUDE_DIRECTION = EAST
  REFERENCE_LATITUDE = "N/A"
  REFERENCE_LONGITUDE = "N/A"
  SAMPLE_FIRST_PIXEL = 1
  SAMPLE_LAST_PIXEL = 9154
  SAMPLE_PROJECTION_OFFSET = 6426.0
  SECOND_STANDARD_PARALLEL = "N/A"
  WESTERNMOST_LONGITUDE = 32.6558
END_OBJECT = IMAGE_MAP_PROJECTION
/* The JPEG2000 image data file associated with this label. */
OBJECT = COMPRESSED_FILE
  FILE_NAME = "HA538_0000_ND3.JP2"
  RECORD_TYPE = UNDEFINED
  FILE_RECORDS = UNK
  ENCODING_TYPE = "JP2"
  INTERCHANGE_FORMAT = BINARY
  UNCOMPRESSED_FILE_NAME = "HA538_0000_ND3.IMG"
  REQUIRED_STORAGE_BYTES = "531435470"
  ^DESCRIPTION = "JP2INFO.TXT"
END_OBJECT = COMPRESSED_FILE
END
