PDS_VERSION_ID = PDS3
/* FILE DATA ELEMENTS */
RECORD_TYPE = STREAM
/* POINTERS TO DATA OBJECTS */
^COMPRESSED_FILE = "HA540_0000_P23.JP2"
/* IDENTIFICATION DATA ELEMENTS */
DATA_SET_ID = "MEX-M-HRSC-5-REFDR-MAPPROJECTED-V3.0"
DATA_SET_NAME = "MARS EXPRESS HRSC MAP PROJECTED REFDR V3.0"
DETECTOR_ID = MEX_HRSC_P2
EVENT_TYPE = "MARS-REGIONAL-MAPPING-Te-Im-Lc"
INSTRUMENT_HOST_ID = MEX
INSTRUMENT_HOST_NAME = "MARS EXPRESS"
INSTRUMENT_ID = HRSC
INSTRUMENT_NAME = "HIGH RESOLUTION STEREO CAMERA"
MISSION_NAME = "MARS EXPRESS"
MISSION_PHASE_NAME = ME_Phase_25
PROCESSING_LEVEL_ID = 3
PRODUCT_CREATION_TIME = 2016-10-27T15:49:42.000Z
PRODUCT_ID = "HA540_0000_P23.JP2"
RELEASE_ID = 0108
REVISION_ID = 0000
/* QUALITY DATA ELEMENTS */
DATA_QUALITY_ID = 1
DATA_QUALITY_DESC = "Data calculated based on original SPICE kernels"
/* TIME DATA ELEMENTS */
SPACECRAFT_CLOCK_START_COUNT = "1/0282089742.09043"
SPACECRAFT_CLOCK_STOP_COUNT = "1/0282090112.38865"
START_TIME = 2012-04-09T22:15:55.788Z
STOP_TIME = 2012-04-09T22:20:46.008Z
/* ORBITAL DATA ELEMENTS */
ASCENDING_NODE_LONGITUDE = 16.12
MAXIMUM_RESOLUTION = 54.8
FOOTPRINT_POINT_LATITUDE = (-38.1986,-38.1969,-38.1928,-37.9794, -37.6279,-37.277,-36.9251,-36.5741, -36.224,-35.8736,-35.5228,-34.9967, -34.6458,-34.2947,-33.9427,-33.5911, -33.2388,-32.8782,-32.5146,-31.9689, -31.6054,-31.2411,-30.8779,-30.5149, -29.9687,-29.4238,-29.06,-28.5148, -27.9709,-27.6052,-27.0624,-26.5181, -26.1552,-25.7931,-25.4214,-24.991, -24.5601,-23.9085,-23.2656,-22.6181, -22.186,-21.7592,-21.1159,-20.6874, -20.2601,-19.8331,-19.3982,-19.1793, -19.1413,-19.1432,-19.1382,-19.1316, -19.351,-19.7825,-20.4253,-20.8539, -21.2829,-21.7129,-22.3559,-22.5749, -23.005,-23.4361,-23.868,-24.2984, -24.7333,-25.1666,-25.5754,-26.1201, -26.4838,-26.8477,-27.2114,-27.5756, -27.9382,-28.4842,-29.0301,-29.5775, -29.9422,-30.3024,-30.6701,-31.0333, -31.3983,-31.7588,-32.1251,-32.4916, -32.8537,-33.3916,-33.744,-34.0956, -34.4481,-34.801,-35.1521,-35.5071, -35.8558,-36.2051,-36.5556,-37.0831, -37.4346,-37.7875,-38.1379,-38.1986)
FOOTPRINT_POINT_LONGITUDE = (189.451,189.086,188.655,188.272, 188.283,188.293,188.302,188.312,188.321 ,188.33,188.338,188.35,188.358,188.365, 188.371,188.377,188.383,188.389,188.394 ,188.401,188.405,188.409,188.412, 188.416,188.419,188.423,188.425,188.427 ,188.428,188.428,188.429,188.428, 188.427,188.427,188.424,188.423,188.421 ,188.415,188.411,188.405,188.4,188.396, 188.388,188.383,188.377,188.371,188.363 ,188.359,188.657,189.042,189.428, 189.674,189.892,189.89,189.887,189.885, 189.882,189.88,189.878,189.875,189.873, 189.87,189.868,189.866,189.862,189.859, 189.856,189.852,189.85,189.847,189.844, 189.841,189.839,189.835,189.831,189.826 ,189.823,189.823,189.818,189.815, 189.812,189.811,189.807,189.802,189.8, 189.796,189.793,189.79,189.787,189.783, 189.78,189.774,189.773,189.771,189.768, 189.762,189.757,189.752,189.748, 189.451)
ORBIT_NUMBER = 10540
ORBITAL_ECCENTRICITY = 0.578
ORBITAL_INCLINATION = 86.88
ORBITAL_SEMIMAJOR_AXIS = 8809.87
PERIAPSIS_ALTITUDE = 332.26
PERIAPSIS_ARGUMENT_ANGLE = 318.65
PERIAPSIS_TIME = 2012-04-09T22:15:28.000Z
SPACECRAFT_ORIENTATION = (0.0,1.0,0.0)
^MEX_ORIENTATION_DESC = "MEX_ORIENTATION_DESC.TXT"
SPACECRAFT_POINTING_MODE = ACROSSTRACK
^MEX_POINTING_DESC = "MEX_POINTING_DESC.TXT"
RIGHT_ASCENSION = -1e+32
DECLINATION = -1e+32
OFFSET_ANGLE = -0.2
SPACECRAFT_SOLAR_DISTANCE = 2.47075e+08
TARGET_NAME = MARS
/* CAMERA DATA ELEMENTS */
DETECTOR_TEMPERATURE = 19.1861
FOCAL_PLANE_TEMPERATURE = 9.195
INST_CMPRS_NAME = "DISCRETE COSINE TRANSFORMATION (DCT)"
INST_CMPRS_RATIO = 5.06069
INST_CMPRS_QUALITY = 0
INST_CMPRS_QUANTZ_TBL_ID = 0
INSTRUMENT_TEMPERATURE = 12.0496
LENS_TEMPERATURE = 9.8067
MACROPIXEL_SIZE = 4
MISSING_FRAMES = 0
PIXEL_SUBSAMPLING_FLAG = N
SIGNAL_CHAIN_ID = 3
/* RADIOMETRIC DATA ELEMENTS */
BANDWIDTH = 177.0
CENTER_FILTER_WAVELENGTH = 676.5
RADIANCE_OFFSET = 0.170372
RADIANCE_SCALING_FACTOR = 0.0199325
REFLECTANCE_SCALING_FACTOR = 0.000645172
MEX:REFLECTANCE_OFFSET = 0.00551459
/* IMAGE OBJECT DEFINITIONS */
OBJECT = IMAGE
  INTERCHANGE_FORMAT = BINARY
  LINES = 22554
  LINE_SAMPLES = 1856
  SAMPLE_TYPE = UNSIGNED_INTEGER
  SAMPLE_BITS = 8
  BANDS = 1
  BAND_STORAGE_TYPE = BAND_SEQUENTIAL
  MAXIMUM = 255
  MEAN = 73.144
  MINIMUM = 1
  STANDARD_DEVIATION = 35.4896
END_OBJECT = IMAGE
/* MAP OBJECT DEFINITIONS */
OBJECT = IMAGE_MAP_PROJECTION
  ^DATA_SET_MAP_PROJECTION_CATALOG= "DSMAP.CAT"
  A_AXIS_RADIUS = 3396.0
  B_AXIS_RADIUS = 3396.0
  C_AXIS_RADIUS = 3396.0
  CENTER_LATITUDE = 0.0
  CENTER_LONGITUDE = 189.0
  COORDINATE_SYSTEM_NAME = PLANETOGRAPHIC
  COORDINATE_SYSTEM_TYPE = "BODY-FIXED ROTATING"
  EASTERNMOST_LONGITUDE = 189.892
  FIRST_STANDARD_PARALLEL = "N/A"
  LINE_FIRST_PIXEL = 1
  LINE_LAST_PIXEL = 22554
  LINE_PROJECTION_OFFSET = -22690.375
  MAP_PROJECTION_ROTATION = 0.0
  MAP_PROJECTION_TYPE = SINUSOIDAL
  MAP_RESOLUTION = 1185.42760773333
  MAP_SCALE = 0.05
  MAXIMUM_LATITUDE = -19.1316
  MINIMUM_LATITUDE = -38.1986
  POSITIVE_LONGITUDE_DIRECTION = EAST
  REFERENCE_LATITUDE = "N/A"
  REFERENCE_LONGITUDE = "N/A"
  SAMPLE_FIRST_PIXEL = 1
  SAMPLE_LAST_PIXEL = 1856
  SAMPLE_PROJECTION_OFFSET = 774.375
  SECOND_STANDARD_PARALLEL = "N/A"
  WESTERNMOST_LONGITUDE = 188.272
END_OBJECT = IMAGE_MAP_PROJECTION
/* The JPEG2000 image data file associated with this label. */
OBJECT = COMPRESSED_FILE
  FILE_NAME = "HA540_0000_P23.JP2"
  RECORD_TYPE = UNDEFINED
  FILE_RECORDS = UNK
  ENCODING_TYPE = "JP2"
  INTERCHANGE_FORMAT = BINARY
  UNCOMPRESSED_FILE_NAME = "HA540_0000_P23.IMG"
  REQUIRED_STORAGE_BYTES = "41880640"
  ^DESCRIPTION = "JP2INFO.TXT"
END_OBJECT = COMPRESSED_FILE
END
