PDS_VERSION_ID = PDS3
/* FILE DATA ELEMENTS */
RECORD_TYPE = STREAM
/* POINTERS TO DATA OBJECTS */
^COMPRESSED_FILE = "HA550_0000_S13.JP2"
/* IDENTIFICATION DATA ELEMENTS */
DATA_SET_ID = "MEX-M-HRSC-5-REFDR-MAPPROJECTED-V3.0"
DATA_SET_NAME = "MARS EXPRESS HRSC MAP PROJECTED REFDR V3.0"
DETECTOR_ID = MEX_HRSC_S1
EVENT_TYPE = "MARS-REGIONAL-MAPPING-Vo-Eo"
INSTRUMENT_HOST_ID = MEX
INSTRUMENT_HOST_NAME = "MARS EXPRESS"
INSTRUMENT_ID = HRSC
INSTRUMENT_NAME = "HIGH RESOLUTION STEREO CAMERA"
MISSION_NAME = "MARS EXPRESS"
MISSION_PHASE_NAME = ME_Phase_25
PROCESSING_LEVEL_ID = 3
PRODUCT_CREATION_TIME = 2016-10-27T15:49:42.000Z
PRODUCT_ID = "HA550_0000_S13.JP2"
RELEASE_ID = 0108
REVISION_ID = 0000
/* QUALITY DATA ELEMENTS */
DATA_QUALITY_ID = 1
DATA_QUALITY_DESC = "Data calculated based on original SPICE kernels"
/* TIME DATA ELEMENTS */
SPACECRAFT_CLOCK_START_COUNT = "1/0282341616.08245"
SPACECRAFT_CLOCK_STOP_COUNT = "1/0282341922.37529"
START_TIME = 2012-04-12T20:14:50.023Z
STOP_TIME = 2012-04-12T20:18:44.251Z
/* ORBITAL DATA ELEMENTS */
ASCENDING_NODE_LONGITUDE = 15.93
MAXIMUM_RESOLUTION = 33.5
FOOTPRINT_POINT_LATITUDE = (-26.521,-26.5201,-26.5189,-26.0237, -25.7816,-25.5407,-25.2994,-24.9383, -24.6924,-24.4463,-24.2005,-23.9558, -23.5823,-23.3321,-23.082,-22.8329, -22.5785,-22.3242,-22.0704,-21.6858, -21.4269,-21.0395,-20.6472,-20.3842, -20.122,-19.8557,-19.5886,-19.3224, -19.0532,-18.7823,-18.5118,-18.2378, -17.9629,-17.5493,-17.2699,-16.9913, -16.5672,-16.2847,-15.855,-15.5689, -15.2779,-14.9876,-14.5471,-14.2532, -13.9546,-13.5058,-13.204,-13.1648, -13.1602,-13.1564,-13.1519,-13.1486, -13.2975,-13.6014,-13.9004,-14.1997, -14.495,-14.9367,-15.2278,-15.5197, -15.9505,-16.2381,-16.6629,-16.9461, -17.2248,-17.5046,-17.9195,-18.195, -18.4702,-18.7411,-19.0125,-19.2832, -19.5501,-19.8174,-20.0843,-20.3469, -20.6098,-20.8734,-21.1332,-21.3919, -21.651,-21.9094,-22.1635,-22.4181, -22.6732,-22.9263,-23.1763,-23.4268, -23.6774,-23.9265,-24.1716,-24.4174, -24.6635,-25.0316,-25.2722,-25.5137, -25.8769,-26.1191,-26.3619,-26.521)
FOOTPRINT_POINT_LONGITUDE = (246.984,246.428,245.948,245.734, 245.733,245.731,245.73,245.727,245.725, 245.723,245.721,245.718,245.714,245.711 ,245.708,245.705,245.702,245.698, 245.694,245.689,245.685,245.678,245.671 ,245.667,245.662,245.657,245.651, 245.646,245.64,245.634,245.628,245.622, 245.615,245.605,245.598,245.591,245.579 ,245.572,245.56,245.551,245.543,245.534 ,245.52,245.511,245.501,245.486,245.475 ,245.837,246.182,246.488,246.889, 247.176,247.449,247.445,247.441,247.437 ,247.433,247.428,247.424,247.42,247.414 ,247.411,247.405,247.401,247.398, 247.394,247.389,247.386,247.382,247.379 ,247.375,247.372,247.369,247.365, 247.362,247.359,247.355,247.352,247.349 ,247.346,247.343,247.339,247.336, 247.333,247.33,247.327,247.324,247.321, 247.317,247.314,247.311,247.308,247.305 ,247.3,247.296,247.293,247.289,247.285, 247.282,246.984)
ORBIT_NUMBER = 10550
ORBITAL_ECCENTRICITY = 0.578
ORBITAL_INCLINATION = 86.87
ORBITAL_SEMIMAJOR_AXIS = 8812.36
PERIAPSIS_ALTITUDE = 331.27
PERIAPSIS_ARGUMENT_ANGLE = 316.92
PERIAPSIS_TIME = 2012-04-12T20:10:01.000Z
SPACECRAFT_ORIENTATION = (0.0,1.0,0.0)
^MEX_ORIENTATION_DESC = "MEX_ORIENTATION_DESC.TXT"
SPACECRAFT_POINTING_MODE = NADIR
^MEX_POINTING_DESC = "MEX_POINTING_DESC.TXT"
RIGHT_ASCENSION = -1e+32
DECLINATION = -1e+32
OFFSET_ANGLE = -1e+32
SPACECRAFT_SOLAR_DISTANCE = 2.4684e+08
TARGET_NAME = MARS
/* CAMERA DATA ELEMENTS */
DETECTOR_TEMPERATURE = 17.5549
FOCAL_PLANE_TEMPERATURE = 8.5833
INST_CMPRS_NAME = "DISCRETE COSINE TRANSFORMATION (DCT)"
INST_CMPRS_RATIO = 8.26683
INST_CMPRS_QUALITY = 0
INST_CMPRS_QUANTZ_TBL_ID = 0
INSTRUMENT_TEMPERATURE = 11.8457
LENS_TEMPERATURE = 8.7872
MACROPIXEL_SIZE = 2
MISSING_FRAMES = 0
PIXEL_SUBSAMPLING_FLAG = N
SIGNAL_CHAIN_ID = 1
/* RADIOMETRIC DATA ELEMENTS */
BANDWIDTH = 180.0
CENTER_FILTER_WAVELENGTH = 677.0
RADIANCE_OFFSET = 0.749965
RADIANCE_SCALING_FACTOR = 0.0260337
REFLECTANCE_SCALING_FACTOR = 0.000827574
MEX:REFLECTANCE_OFFSET = 0.0238404
/* IMAGE OBJECT DEFINITIONS */
OBJECT = IMAGE
  INTERCHANGE_FORMAT = BINARY
  LINES = 31678
  LINE_SAMPLES = 4402
  SAMPLE_TYPE = UNSIGNED_INTEGER
  SAMPLE_BITS = 8
  BANDS = 1
  BAND_STORAGE_TYPE = BAND_SEQUENTIAL
  MAXIMUM = 255
  MEAN = 107.449
  MINIMUM = 1
  STANDARD_DEVIATION = 31.1841
END_OBJECT = IMAGE
/* MAP OBJECT DEFINITIONS */
OBJECT = IMAGE_MAP_PROJECTION
  ^DATA_SET_MAP_PROJECTION_CATALOG= "DSMAP.CAT"
  A_AXIS_RADIUS = 3396.0
  B_AXIS_RADIUS = 3396.0
  C_AXIS_RADIUS = 3396.0
  CENTER_LATITUDE = 0.0
  CENTER_LONGITUDE = 247.0
  COORDINATE_SYSTEM_NAME = PLANETOGRAPHIC
  COORDINATE_SYSTEM_TYPE = "BODY-FIXED ROTATING"
  EASTERNMOST_LONGITUDE = 247.449
  FIRST_STANDARD_PARALLEL = "N/A"
  LINE_FIRST_PIXEL = 1
  LINE_LAST_PIXEL = 31678
  LINE_PROJECTION_OFFSET = -31261.25
  MAP_PROJECTION_ROTATION = 0.0
  MAP_PROJECTION_TYPE = SINUSOIDAL
  MAP_RESOLUTION = 2370.85521546667
  MAP_SCALE = 0.025
  MAXIMUM_LATITUDE = -13.1486
  MINIMUM_LATITUDE = -26.521
  POSITIVE_LONGITUDE_DIRECTION = EAST
  REFERENCE_LATITUDE = "N/A"
  REFERENCE_LONGITUDE = "N/A"
  SAMPLE_FIRST_PIXEL = 1
  SAMPLE_LAST_PIXEL = 4402
  SAMPLE_PROJECTION_OFFSET = 3443.75
  SECOND_STANDARD_PARALLEL = "N/A"
  WESTERNMOST_LONGITUDE = 245.475
END_OBJECT = IMAGE_MAP_PROJECTION
/* The JPEG2000 image data file associated with this label. */
OBJECT = COMPRESSED_FILE
  FILE_NAME = "HA550_0000_S13.JP2"
  RECORD_TYPE = UNDEFINED
  FILE_RECORDS = UNK
  ENCODING_TYPE = "JP2"
  INTERCHANGE_FORMAT = BINARY
  UNCOMPRESSED_FILE_NAME = "HA550_0000_S13.IMG"
  REQUIRED_STORAGE_BYTES = "139472968"
  ^DESCRIPTION = "JP2INFO.TXT"
END_OBJECT = COMPRESSED_FILE
END
