PDS_VERSION_ID = PDS3
/* FILE DATA ELEMENTS */
RECORD_TYPE = STREAM
/* POINTERS TO DATA OBJECTS */
^COMPRESSED_FILE = "HA555_0000_GR3.JP2"
/* IDENTIFICATION DATA ELEMENTS */
DATA_SET_ID = "MEX-M-HRSC-5-REFDR-MAPPROJECTED-V3.0"
DATA_SET_NAME = "MARS EXPRESS HRSC MAP PROJECTED REFDR V3.0"
DETECTOR_ID = MEX_HRSC_GREEN
EVENT_TYPE = "MARS-REGIONAL-MAPPING-Vo-Im-Fl"
INSTRUMENT_HOST_ID = MEX
INSTRUMENT_HOST_NAME = "MARS EXPRESS"
INSTRUMENT_ID = HRSC
INSTRUMENT_NAME = "HIGH RESOLUTION STEREO CAMERA"
MISSION_NAME = "MARS EXPRESS"
MISSION_PHASE_NAME = ME_Phase_25
PROCESSING_LEVEL_ID = 3
PRODUCT_CREATION_TIME = 2016-10-27T15:49:42.000Z
PRODUCT_ID = "HA555_0000_GR3.JP2"
RELEASE_ID = 0108
REVISION_ID = 0000
/* QUALITY DATA ELEMENTS */
DATA_QUALITY_ID = 1
DATA_QUALITY_DESC = "Data calculated based on original SPICE kernels"
/* TIME DATA ELEMENTS */
SPACECRAFT_CLOCK_START_COUNT = "1/0282467381.07298"
SPACECRAFT_CLOCK_STOP_COUNT = "1/0282467655.22264"
START_TIME = 2012-04-14T07:10:21.529Z
STOP_TIME = 2012-04-14T07:13:39.109Z
/* ORBITAL DATA ELEMENTS */
ASCENDING_NODE_LONGITUDE = 15.83
MAXIMUM_RESOLUTION = 57.3
FOOTPRINT_POINT_LATITUDE = (-32.2497,-32.2463,-32.2415,-32.2392, -32.0234,-31.8079,-31.5924,-31.3771, -31.1617,-30.9468,-30.732,-30.5173, -30.0886,-29.6603,-29.4089,-29.1539, -28.8991,-28.6445,-28.3902,-28.136, -27.8821,-27.6283,-27.3747,-27.1215, -26.8685,-26.616,-26.3641,-26.1121, -25.8603,-25.6093,-25.2327,-24.9821, -24.7318,-24.4817,-24.2316,-23.9819, -23.6001,-23.3445,-23.0893,-22.8344, -22.4454,-22.1849,-21.9247,-21.5317, -21.2659,-21.0004,-20.7352,-20.4669, -20.1961,-19.9258,-19.8552,-19.8543, -19.853,-19.8508,-19.8505,-20.121, -20.3924,-20.663,-20.9285,-21.1944, -21.4607,-21.8557,-22.1162,-22.3778, -22.7684,-23.024,-23.408,-23.6644, -23.9199,-24.1699,-24.4201,-24.6705, -24.9213,-25.1726,-25.4236,-25.6753, -26.0534,-26.3056,-26.559,-26.8119, -27.065,-27.3184,-27.5721,-27.826, -28.0802,-28.3346,-28.7167,-28.9716, -29.227,-29.4827,-29.9394,-30.2609, -30.4759,-30.7986,-31.0141,-31.2296, -31.4448,-31.6604,-31.8763,-32.2497)
FOOTPRINT_POINT_LONGITUDE = (95.2647,94.8357,94.4016,93.8888, 93.8933,93.8975,93.9019,93.9056,93.9107 ,93.9138,93.9171,93.9208,93.9258, 93.9317,93.9341,93.9368,93.9396,93.9424 ,93.9447,93.9472,93.9494,93.9522, 93.9555,93.9575,93.9596,93.9605,93.96, 93.9606,93.9617,93.9604,93.9608,93.9604 ,93.9596,93.9592,93.9601,93.9603,93.96, 93.9593,93.9585,93.9574,93.9544,93.9525 ,93.9503,93.9472,93.9441,93.9411, 93.9383,93.9345,93.9306,93.9261,94.3626 ,94.6576,94.997,95.3495,95.5837,95.5797 ,95.5761,95.5725,95.5688,95.5651, 95.5615,95.5559,95.5521,95.5489,95.5427 ,95.5393,95.5341,95.5306,95.5265, 95.5228,95.5189,95.515,95.5111,95.5073, 95.503,95.499,95.4929,95.4886,95.4848, 95.4805,95.4761,95.4717,95.4672,95.4626 ,95.458,95.4533,95.4462,95.4413,95.4366 ,95.4317,95.4229,95.4162,95.4119, 95.4054,95.401,95.3965,95.3917,95.3871, 95.3824,95.2647)
ORBIT_NUMBER = 10555
ORBITAL_ECCENTRICITY = 0.578
ORBITAL_INCLINATION = 86.88
ORBITAL_SEMIMAJOR_AXIS = 8811.09
PERIAPSIS_ALTITUDE = 331.02
PERIAPSIS_ARGUMENT_ANGLE = 316.08
PERIAPSIS_TIME = 2012-04-14T07:07:19.000Z
SPACECRAFT_ORIENTATION = (0.0,1.0,0.0)
^MEX_ORIENTATION_DESC = "MEX_ORIENTATION_DESC.TXT"
SPACECRAFT_POINTING_MODE = ACROSSTRACK
^MEX_POINTING_DESC = "MEX_POINTING_DESC.TXT"
RIGHT_ASCENSION = -1e+32
DECLINATION = -1e+32
OFFSET_ANGLE = 0.5
SPACECRAFT_SOLAR_DISTANCE = 2.46718e+08
TARGET_NAME = MARS
/* CAMERA DATA ELEMENTS */
DETECTOR_TEMPERATURE = 18.5744
FOCAL_PLANE_TEMPERATURE = 8.3794
INST_CMPRS_NAME = "DISCRETE COSINE TRANSFORMATION (DCT)"
INST_CMPRS_RATIO = 8.43461
INST_CMPRS_QUALITY = 0
INST_CMPRS_QUANTZ_TBL_ID = 0
INSTRUMENT_TEMPERATURE = 12.4574
LENS_TEMPERATURE = 8.5833
MACROPIXEL_SIZE = 4
MISSING_FRAMES = 0
PIXEL_SUBSAMPLING_FLAG = N
SIGNAL_CHAIN_ID = 2
/* RADIOMETRIC DATA ELEMENTS */
BANDWIDTH = 88.0
CENTER_FILTER_WAVELENGTH = 538.0
RADIANCE_OFFSET = 0.232378
RADIANCE_SCALING_FACTOR = 0.00383699
REFLECTANCE_SCALING_FACTOR = 0.000201085
MEX:REFLECTANCE_OFFSET = 0.0121782
/* IMAGE OBJECT DEFINITIONS */
OBJECT = IMAGE
  INTERCHANGE_FORMAT = BINARY
  LINES = 14718
  LINE_SAMPLES = 1937
  SAMPLE_TYPE = UNSIGNED_INTEGER
  SAMPLE_BITS = 8
  BANDS = 1
  BAND_STORAGE_TYPE = BAND_SEQUENTIAL
  MAXIMUM = 255
  MEAN = 115.326
  MINIMUM = 1
  STANDARD_DEVIATION = 24.7582
END_OBJECT = IMAGE
/* MAP OBJECT DEFINITIONS */
OBJECT = IMAGE_MAP_PROJECTION
  ^DATA_SET_MAP_PROJECTION_CATALOG= "DSMAP.CAT"
  A_AXIS_RADIUS = 3396.0
  B_AXIS_RADIUS = 3396.0
  C_AXIS_RADIUS = 3396.0
  CENTER_LATITUDE = 0.0
  CENTER_LONGITUDE = 95.0
  COORDINATE_SYSTEM_NAME = PLANETOGRAPHIC
  COORDINATE_SYSTEM_TYPE = "BODY-FIXED ROTATING"
  EASTERNMOST_LONGITUDE = 95.58369999999999
  FIRST_STANDARD_PARALLEL = "N/A"
  LINE_FIRST_PIXEL = 1
  LINE_LAST_PIXEL = 14718
  LINE_PROJECTION_OFFSET = -23530.375
  MAP_PROJECTION_ROTATION = 0.0
  MAP_PROJECTION_TYPE = SINUSOIDAL
  MAP_RESOLUTION = 1185.42760773333
  MAP_SCALE = 0.05
  MAXIMUM_LATITUDE = -19.8505
  MINIMUM_LATITUDE = -32.2497
  POSITIVE_LONGITUDE_DIRECTION = EAST
  REFERENCE_LATITUDE = "N/A"
  REFERENCE_LONGITUDE = "N/A"
  SAMPLE_FIRST_PIXEL = 1
  SAMPLE_LAST_PIXEL = 1937
  SAMPLE_PROJECTION_OFFSET = 1279.625
  SECOND_STANDARD_PARALLEL = "N/A"
  WESTERNMOST_LONGITUDE = 93.8888
END_OBJECT = IMAGE_MAP_PROJECTION
/* The JPEG2000 image data file associated with this label. */
OBJECT = COMPRESSED_FILE
  FILE_NAME = "HA555_0000_GR3.JP2"
  RECORD_TYPE = UNDEFINED
  FILE_RECORDS = UNK
  ENCODING_TYPE = "JP2"
  INTERCHANGE_FORMAT = BINARY
  UNCOMPRESSED_FILE_NAME = "HA555_0000_GR3.IMG"
  REQUIRED_STORAGE_BYTES = "28528136"
  ^DESCRIPTION = "JP2INFO.TXT"
END_OBJECT = COMPRESSED_FILE
END
