PDS_VERSION_ID = PDS3
/* FILE DATA ELEMENTS */
RECORD_TYPE = STREAM
/* POINTERS TO DATA OBJECTS */
^COMPRESSED_FILE = "HA562_0000_S23.JP2"
/* IDENTIFICATION DATA ELEMENTS */
DATA_SET_ID = "MEX-M-HRSC-5-REFDR-MAPPROJECTED-V3.0"
DATA_SET_NAME = "MARS EXPRESS HRSC MAP PROJECTED REFDR V3.0"
DETECTOR_ID = MEX_HRSC_S2
EVENT_TYPE = "MARS-REGIONAL-MAPPING-Vo-Te-Fl"
INSTRUMENT_HOST_ID = MEX
INSTRUMENT_HOST_NAME = "MARS EXPRESS"
INSTRUMENT_ID = HRSC
INSTRUMENT_NAME = "HIGH RESOLUTION STEREO CAMERA"
MISSION_NAME = "MARS EXPRESS"
MISSION_PHASE_NAME = ME_Phase_25
PROCESSING_LEVEL_ID = 3
PRODUCT_CREATION_TIME = 2016-10-27T15:49:42.000Z
PRODUCT_ID = "HA562_0000_S23.JP2"
RELEASE_ID = 0108
REVISION_ID = 0000
/* QUALITY DATA ELEMENTS */
DATA_QUALITY_ID = 1
DATA_QUALITY_DESC = "Data calculated based on original SPICE kernels"
/* TIME DATA ELEMENTS */
SPACECRAFT_CLOCK_START_COUNT = "1/0282643826.09063"
SPACECRAFT_CLOCK_STOP_COUNT = "1/0282644133.25627"
START_TIME = 2012-04-16T08:10:29.806Z
STOP_TIME = 2012-04-16T08:13:09.629Z
/* ORBITAL DATA ELEMENTS */
ASCENDING_NODE_LONGITUDE = 15.7
MAXIMUM_RESOLUTION = 40.5
FOOTPRINT_POINT_LATITUDE = (-15.3619,-15.3658,-15.3685,-15.3699, -15.371,-15.3714,-15.2853,-14.916, -14.7294,-14.4505,-14.0771,-13.8886, -13.6988,-13.5062,-13.2169,-13.0237, -12.8348,-12.642,-12.3477,-12.1512, -11.9544,-11.758,-11.5583,-11.3579, -11.0572,-10.752,-10.5479,-10.345, -10.1389,-9.93172,-9.72058,-9.51248, -9.20211,-8.9911,-8.77962,-8.56641, -8.35235,-8.03167,-7.70958,-7.49583, -7.28314,-7.071,-6.85955,-6.6475, -6.4364,-6.22427,-6.01264,-5.69775, -5.48783,-5.27515,-5.22435,-5.22065, -5.21578,-5.20891,-5.2009,-5.30048, -5.51144,-5.72307,-5.93455,-6.14654, -6.35911,-6.67828,-6.89128,-7.10405, -7.31902,-7.63959,-7.85394,-8.06688, -8.27687,-8.49327,-8.81634,-9.13238, -9.34336,-9.65838,-9.8642,-10.0721, -10.2794,-10.5858,-10.7901,-10.9936, -11.1934,-11.3942,-11.5958,-11.7957, -11.9923,-12.1894,-12.3866,-12.5834, -12.777,-12.9703,-13.1641,-13.3576, -13.5479,-13.7372,-13.9271,-14.1182, -14.4013,-14.6799,-15.0523,-15.3619)
FOOTPRINT_POINT_LONGITUDE = (100.363,100.061,99.7918,99.5901, 99.3215,99.0527,98.7102,98.7005,98.6954 ,98.688,98.6783,98.6733,98.6678,98.6614 ,98.6526,98.6469,98.6424,98.6366, 98.6275,98.6215,98.6152,98.609,98.6028, 98.5962,98.5861,98.5758,98.5687,98.5619 ,98.5548,98.5475,98.5389,98.5313, 98.5216,98.5136,98.5056,98.4979,98.4897 ,98.4773,98.4642,98.4556,98.4472, 98.4389,98.4306,98.4219,98.4135,98.4046 ,98.3957,98.3829,98.3742,98.3645, 98.6724,98.9838,99.2949,99.7309,100.188 ,100.506,100.505,100.504,100.502, 100.501,100.5,100.498,100.497,100.495, 100.494,100.492,100.49,100.489,100.489, 100.488,100.485,100.483,100.482,100.48, 100.479,100.478,100.477,100.475,100.474 ,100.473,100.472,100.471,100.469, 100.468,100.467,100.466,100.464,100.463 ,100.462,100.461,100.46,100.459,100.457 ,100.456,100.455,100.454,100.452,100.45 ,100.448,100.363)
ORBIT_NUMBER = 10562
ORBITAL_ECCENTRICITY = 0.578
ORBITAL_INCLINATION = 86.88
ORBITAL_SEMIMAJOR_AXIS = 8809.09
PERIAPSIS_ALTITUDE = 330.94
PERIAPSIS_ARGUMENT_ANGLE = 314.89
PERIAPSIS_TIME = 2012-04-16T08:03:29.000Z
SPACECRAFT_ORIENTATION = (0.0,1.0,0.0)
^MEX_ORIENTATION_DESC = "MEX_ORIENTATION_DESC.TXT"
SPACECRAFT_POINTING_MODE = NADIR
^MEX_POINTING_DESC = "MEX_POINTING_DESC.TXT"
RIGHT_ASCENSION = -1e+32
DECLINATION = -1e+32
OFFSET_ANGLE = -1e+32
SPACECRAFT_SOLAR_DISTANCE = 2.46542e+08
TARGET_NAME = MARS
/* CAMERA DATA ELEMENTS */
DETECTOR_TEMPERATURE = 19.1861
FOCAL_PLANE_TEMPERATURE = 8.5833
INST_CMPRS_NAME = "DISCRETE COSINE TRANSFORMATION (DCT)"
INST_CMPRS_RATIO = 10.8592
INST_CMPRS_QUALITY = 0
INST_CMPRS_QUANTZ_TBL_ID = 0
INSTRUMENT_TEMPERATURE = 10.4184
LENS_TEMPERATURE = 8.9911
MACROPIXEL_SIZE = 2
MISSING_FRAMES = 0
PIXEL_SUBSAMPLING_FLAG = N
SIGNAL_CHAIN_ID = 1
/* RADIOMETRIC DATA ELEMENTS */
BANDWIDTH = 178.0
CENTER_FILTER_WAVELENGTH = 679.0
RADIANCE_OFFSET = 1.08559
RADIANCE_SCALING_FACTOR = 0.0157674
REFLECTANCE_SCALING_FACTOR = 0.000507541
MEX:REFLECTANCE_OFFSET = 0.0349442
/* IMAGE OBJECT DEFINITIONS */
OBJECT = IMAGE
  INTERCHANGE_FORMAT = BINARY
  LINES = 12071
  LINE_SAMPLES = 2844
  SAMPLE_TYPE = UNSIGNED_INTEGER
  SAMPLE_BITS = 8
  BANDS = 1
  BAND_STORAGE_TYPE = BAND_SEQUENTIAL
  MAXIMUM = 255
  MEAN = 103.214
  MINIMUM = 1
  STANDARD_DEVIATION = 26.058
END_OBJECT = IMAGE
/* MAP OBJECT DEFINITIONS */
OBJECT = IMAGE_MAP_PROJECTION
  ^DATA_SET_MAP_PROJECTION_CATALOG= "DSMAP.CAT"
  A_AXIS_RADIUS = 3396.0
  B_AXIS_RADIUS = 3396.0
  C_AXIS_RADIUS = 3396.0
  CENTER_LATITUDE = 0.0
  CENTER_LONGITUDE = 100.0
  COORDINATE_SYSTEM_NAME = PLANETOGRAPHIC
  COORDINATE_SYSTEM_TYPE = "BODY-FIXED ROTATING"
  EASTERNMOST_LONGITUDE = 100.506
  FIRST_STANDARD_PARALLEL = "N/A"
  LINE_FIRST_PIXEL = 1
  LINE_LAST_PIXEL = 12071
  LINE_PROJECTION_OFFSET = -6138.25
  MAP_PROJECTION_ROTATION = 0.0
  MAP_PROJECTION_TYPE = SINUSOIDAL
  MAP_RESOLUTION = 1185.42760773333
  MAP_SCALE = 0.05
  MAXIMUM_LATITUDE = -5.2009
  MINIMUM_LATITUDE = -15.3714
  POSITIVE_LONGITUDE_DIRECTION = EAST
  REFERENCE_LATITUDE = "N/A"
  REFERENCE_LONGITUDE = "N/A"
  SAMPLE_FIRST_PIXEL = 1
  SAMPLE_LAST_PIXEL = 2844
  SAMPLE_PROJECTION_OFFSET = 2088.25
  SECOND_STANDARD_PARALLEL = "N/A"
  WESTERNMOST_LONGITUDE = 98.36450000000001
END_OBJECT = IMAGE_MAP_PROJECTION
/* The JPEG2000 image data file associated with this label. */
OBJECT = COMPRESSED_FILE
  FILE_NAME = "HA562_0000_S23.JP2"
  RECORD_TYPE = UNDEFINED
  FILE_RECORDS = UNK
  ENCODING_TYPE = "JP2"
  INTERCHANGE_FORMAT = BINARY
  UNCOMPRESSED_FILE_NAME = "HA562_0000_S23.IMG"
  REQUIRED_STORAGE_BYTES = "34352676"
  ^DESCRIPTION = "JP2INFO.TXT"
END_OBJECT = COMPRESSED_FILE
END
