PDS_VERSION_ID = PDS3
/* FILE DATA ELEMENTS */
RECORD_TYPE = STREAM
/* POINTERS TO DATA OBJECTS */
^COMPRESSED_FILE = "HA568_0000_BL3.JP2"
/* IDENTIFICATION DATA ELEMENTS */
DATA_SET_ID = "MEX-M-HRSC-5-REFDR-MAPPROJECTED-V3.0"
DATA_SET_NAME = "MARS EXPRESS HRSC MAP PROJECTED REFDR V3.0"
DETECTOR_ID = MEX_HRSC_BLUE
EVENT_TYPE = "MARS-REGIONAL-MAPPING-Te-Im"
INSTRUMENT_HOST_ID = MEX
INSTRUMENT_HOST_NAME = "MARS EXPRESS"
INSTRUMENT_ID = HRSC
INSTRUMENT_NAME = "HIGH RESOLUTION STEREO CAMERA"
MISSION_NAME = "MARS EXPRESS"
MISSION_PHASE_NAME = ME_Phase_25
PROCESSING_LEVEL_ID = 3
PRODUCT_CREATION_TIME = 2016-10-27T15:49:42.000Z
PRODUCT_ID = "HA568_0000_BL3.JP2"
RELEASE_ID = 0108
REVISION_ID = 0000
/* QUALITY DATA ELEMENTS */
DATA_QUALITY_ID = 1
DATA_QUALITY_DESC = "Data calculated based on original SPICE kernels"
/* TIME DATA ELEMENTS */
SPACECRAFT_CLOCK_START_COUNT = "1/0282794718.09051"
SPACECRAFT_CLOCK_STOP_COUNT = "1/0282795098.40746"
START_TIME = 2012-04-18T02:05:53.870Z
STOP_TIME = 2012-04-18T02:10:12.255Z
/* ORBITAL DATA ELEMENTS */
ASCENDING_NODE_LONGITUDE = 15.59
MAXIMUM_RESOLUTION = 68.9
FOOTPRINT_POINT_LATITUDE = (-23.2475,-23.2506,-23.2519,-22.8469, -22.5803,-22.3147,-21.9073,-21.6352, -21.3634,-20.9487,-20.6712,-20.3939, -20.1126,-19.8299,-19.5478,-19.1178, -18.8301,-18.5428,-18.2497,-17.81, -17.5134,-17.2139,-16.7655,-16.462, -16.1589,-15.697,-15.3889,-15.0751, -14.7622,-14.2852,-13.8059,-13.4838, -12.9943,-12.6664,-12.3342,-12.0017, -11.665,-11.3275,-10.9845,-10.4686, -9.9443,-9.59371,-9.23797,-8.70045, -8.33963,-7.97402,-7.74996,-7.74437, -7.73717,-7.73214,-7.72091,-7.71095, -8.07763,-8.44257,-8.80459,-9.16311, -9.51936,-9.87178,-10.2234,-10.5704, -10.9163,-11.2599,-11.5983,-11.9363, -12.2695,-12.6029,-12.9312,-13.2602, -13.5838,-13.9081,-14.227,-14.7044, -15.0177,-15.3333,-15.7962,-16.1064, -16.4076,-16.7111,-17.165,-17.4632, -17.7609,-18.0542,-18.3481,-18.6401, -18.9285,-19.2157,-19.6442,-19.9289, -20.2128,-20.4919,-20.7689,-21.0467, -21.3229,-21.5948,-21.8673,-22.2761, -22.5429,-22.81,-23.0776,-23.2475)
FOOTPRINT_POINT_LONGITUDE = (206.888,206.405,206.015,205.777, 205.773,205.769,205.762,205.757,205.752 ,205.743,205.737,205.731,205.725, 205.719,205.713,205.703,205.696,205.689 ,205.682,205.671,205.663,205.654, 205.642,205.634,205.625,205.611,205.601 ,205.591,205.582,205.565,205.549, 205.539,205.522,205.51,205.497,205.485, 205.473,205.46,205.446,205.427,205.404, 205.391,205.375,205.352,205.337,205.321 ,205.473,205.802,206.193,206.461,207.0, 207.436,207.523,207.52,207.517,207.514, 207.512,207.51,207.505,207.505,207.498, 207.496,207.494,207.492,207.489,207.487 ,207.485,207.482,207.48,207.477,207.475 ,207.471,207.47,207.465,207.463,207.459 ,207.462,207.461,207.451,207.451, 207.449,207.447,207.445,207.443,207.44, 207.442,207.438,207.432,207.43,207.428, 207.428,207.427,207.427,207.425,207.424 ,207.421,207.419,207.417,207.415, 206.888)
ORBIT_NUMBER = 10568
ORBITAL_ECCENTRICITY = 0.578
ORBITAL_INCLINATION = 86.89
ORBITAL_SEMIMAJOR_AXIS = 8802.13
PERIAPSIS_ALTITUDE = 331.35
PERIAPSIS_ARGUMENT_ANGLE = 313.87
PERIAPSIS_TIME = 2012-04-18T02:00:07.000Z
SPACECRAFT_ORIENTATION = (0.0,1.0,0.0)
^MEX_ORIENTATION_DESC = "MEX_ORIENTATION_DESC.TXT"
SPACECRAFT_POINTING_MODE = ACROSSTRACK
^MEX_POINTING_DESC = "MEX_POINTING_DESC.TXT"
RIGHT_ASCENSION = -1e+32
DECLINATION = -1e+32
OFFSET_ANGLE = -0.35
SPACECRAFT_SOLAR_DISTANCE = 2.46387e+08
TARGET_NAME = MARS
/* CAMERA DATA ELEMENTS */
DETECTOR_TEMPERATURE = 18.3705
FOCAL_PLANE_TEMPERATURE = 8.7872
INST_CMPRS_NAME = "DISCRETE COSINE TRANSFORMATION (DCT)"
INST_CMPRS_RATIO = 8.86424
INST_CMPRS_QUALITY = 0
INST_CMPRS_QUANTZ_TBL_ID = 0
INSTRUMENT_TEMPERATURE = 11.6418
LENS_TEMPERATURE = 9.3989
MACROPIXEL_SIZE = 4
MISSING_FRAMES = 0
PIXEL_SUBSAMPLING_FLAG = N
SIGNAL_CHAIN_ID = 2
/* RADIOMETRIC DATA ELEMENTS */
BANDWIDTH = 76.0
CENTER_FILTER_WAVELENGTH = 444.0
RADIANCE_OFFSET = 0.175143
RADIANCE_SCALING_FACTOR = 0.00249295
REFLECTANCE_SCALING_FACTOR = 0.000155491
MEX:REFLECTANCE_OFFSET = 0.010924
/* IMAGE OBJECT DEFINITIONS */
OBJECT = IMAGE
  INTERCHANGE_FORMAT = BINARY
  LINES = 18440
  LINE_SAMPLES = 2741
  SAMPLE_TYPE = UNSIGNED_INTEGER
  SAMPLE_BITS = 8
  BANDS = 1
  BAND_STORAGE_TYPE = BAND_SEQUENTIAL
  MAXIMUM = 255
  MEAN = 132.51
  MINIMUM = 1
  STANDARD_DEVIATION = 32.1824
END_OBJECT = IMAGE
/* MAP OBJECT DEFINITIONS */
OBJECT = IMAGE_MAP_PROJECTION
  ^DATA_SET_MAP_PROJECTION_CATALOG= "DSMAP.CAT"
  A_AXIS_RADIUS = 3396.0
  B_AXIS_RADIUS = 3396.0
  C_AXIS_RADIUS = 3396.0
  CENTER_LATITUDE = 0.0
  CENTER_LONGITUDE = 207.0
  COORDINATE_SYSTEM_NAME = PLANETOGRAPHIC
  COORDINATE_SYSTEM_TYPE = "BODY-FIXED ROTATING"
  EASTERNMOST_LONGITUDE = 207.523
  FIRST_STANDARD_PARALLEL = "N/A"
  LINE_FIRST_PIXEL = 1
  LINE_LAST_PIXEL = 18440
  LINE_PROJECTION_OFFSET = -9132.375
  MAP_PROJECTION_ROTATION = 0.0
  MAP_PROJECTION_TYPE = SINUSOIDAL
  MAP_RESOLUTION = 1185.42760773333
  MAP_SCALE = 0.05
  MAXIMUM_LATITUDE = -7.71095
  MINIMUM_LATITUDE = -23.2519
  POSITIVE_LONGITUDE_DIRECTION = EAST
  REFERENCE_LATITUDE = "N/A"
  REFERENCE_LONGITUDE = "N/A"
  SAMPLE_FIRST_PIXEL = 1
  SAMPLE_LAST_PIXEL = 2741
  SAMPLE_PROJECTION_OFFSET = 2041.375
  SECOND_STANDARD_PARALLEL = "N/A"
  WESTERNMOST_LONGITUDE = 205.321
END_OBJECT = IMAGE_MAP_PROJECTION
/* The JPEG2000 image data file associated with this label. */
OBJECT = COMPRESSED_FILE
  FILE_NAME = "HA568_0000_BL3.JP2"
  RECORD_TYPE = UNDEFINED
  FILE_RECORDS = UNK
  ENCODING_TYPE = "JP2"
  INTERCHANGE_FORMAT = BINARY
  UNCOMPRESSED_FILE_NAME = "HA568_0000_BL3.IMG"
  REQUIRED_STORAGE_BYTES = "50565968"
  ^DESCRIPTION = "JP2INFO.TXT"
END_OBJECT = COMPRESSED_FILE
END
