PDS_VERSION_ID = PDS3
/* FILE DATA ELEMENTS */
RECORD_TYPE = STREAM
/* POINTERS TO DATA OBJECTS */
^COMPRESSED_FILE = "HA568_0000_GR3.JP2"
/* IDENTIFICATION DATA ELEMENTS */
DATA_SET_ID = "MEX-M-HRSC-5-REFDR-MAPPROJECTED-V3.0"
DATA_SET_NAME = "MARS EXPRESS HRSC MAP PROJECTED REFDR V3.0"
DETECTOR_ID = MEX_HRSC_GREEN
EVENT_TYPE = "MARS-REGIONAL-MAPPING-Te-Im"
INSTRUMENT_HOST_ID = MEX
INSTRUMENT_HOST_NAME = "MARS EXPRESS"
INSTRUMENT_ID = HRSC
INSTRUMENT_NAME = "HIGH RESOLUTION STEREO CAMERA"
MISSION_NAME = "MARS EXPRESS"
MISSION_PHASE_NAME = ME_Phase_25
PROCESSING_LEVEL_ID = 3
PRODUCT_CREATION_TIME = 2016-10-27T15:49:42.000Z
PRODUCT_ID = "HA568_0000_GR3.JP2"
RELEASE_ID = 0108
REVISION_ID = 0000
/* QUALITY DATA ELEMENTS */
DATA_QUALITY_ID = 1
DATA_QUALITY_DESC = "Data calculated based on original SPICE kernels"
/* TIME DATA ELEMENTS */
SPACECRAFT_CLOCK_START_COUNT = "1/0282794718.09051"
SPACECRAFT_CLOCK_STOP_COUNT = "1/0282795098.40746"
START_TIME = 2012-04-18T02:06:07.524Z
STOP_TIME = 2012-04-18T02:10:35.048Z
/* ORBITAL DATA ELEMENTS */
ASCENDING_NODE_LONGITUDE = 15.59
MAXIMUM_RESOLUTION = 70.2
FOOTPRINT_POINT_LATITUDE = (-23.2529,-23.2536,-23.2534,-23.2525, -22.7227,-22.1888,-21.7816,-21.5098, -21.2388,-20.9623,-20.6856,-20.4095, -20.129,-19.8471,-19.5657,-19.2805, -18.994,-18.5616,-18.2707,-17.9801, -17.6856,-17.2431,-16.7932,-16.4929, -16.0364,-15.7315,-15.4224,-15.113, -14.7999,-14.3297,-13.8512,-13.3675, -12.8811,-12.5534,-12.2225,-11.8904, -11.5544,-11.2172,-10.8763,-10.5332, -10.1885,-9.8408,-9.4895,-9.13612, -8.7793,-8.42074,-8.05898,-7.74019, -7.73606,-7.73099,-7.72656,-7.7182, -7.71309,-7.89357,-8.25734,-8.6185, -8.97727,-9.33211,-9.68544,-10.0358, -10.3829,-10.7274,-11.0683,-11.577, -11.9134,-12.2467,-12.7416,-13.0699, -13.3935,-13.7171,-14.0364,-14.3557, -14.6703,-14.9863,-15.4513,-15.7605, -16.2187,-16.5239,-16.8247,-17.124, -17.4205,-17.7172,-18.1572,-18.4489, -18.7395,-19.0269,-19.3141,-19.5992, -19.8798,-20.1617,-20.4419,-20.7192, -20.9969,-21.2736,-21.5457,-21.818, -22.2253,-22.7592,-23.1594,-23.2529)
FOOTPRINT_POINT_LONGITUDE = (207.064,206.708,206.217,205.88,205.757 ,205.749,205.741,205.735,205.73,205.724 ,205.718,205.712,205.705,205.699, 205.692,205.685,205.678,205.669,205.66, 205.652,205.644,205.63,205.618,205.609, 205.595,205.586,205.576,205.566,205.555 ,205.538,205.521,205.505,205.487, 205.474,205.462,205.449,205.436,205.422 ,205.408,205.394,205.38,205.363,205.349 ,205.334,205.318,205.301,205.285, 205.566,205.843,206.184,206.462,206.976 ,207.299,207.563,207.559,207.555, 207.552,207.548,207.546,207.542,207.54, 207.534,207.529,207.525,207.522,207.52, 207.515,207.512,207.509,207.506,207.503 ,207.5,207.497,207.496,207.491,207.489, 207.483,207.485,207.482,207.474,207.473 ,207.471,207.467,207.465,207.463, 207.463,207.461,207.458,207.453,207.449 ,207.447,207.446,207.445,207.444, 207.443,207.441,207.438,207.433,207.428 ,207.064)
ORBIT_NUMBER = 10568
ORBITAL_ECCENTRICITY = 0.578
ORBITAL_INCLINATION = 86.89
ORBITAL_SEMIMAJOR_AXIS = 8802.13
PERIAPSIS_ALTITUDE = 331.35
PERIAPSIS_ARGUMENT_ANGLE = 313.87
PERIAPSIS_TIME = 2012-04-18T02:00:07.000Z
SPACECRAFT_ORIENTATION = (0.0,1.0,0.0)
^MEX_ORIENTATION_DESC = "MEX_ORIENTATION_DESC.TXT"
SPACECRAFT_POINTING_MODE = ACROSSTRACK
^MEX_POINTING_DESC = "MEX_POINTING_DESC.TXT"
RIGHT_ASCENSION = -1e+32
DECLINATION = -1e+32
OFFSET_ANGLE = -0.35
SPACECRAFT_SOLAR_DISTANCE = 2.46387e+08
TARGET_NAME = MARS
/* CAMERA DATA ELEMENTS */
DETECTOR_TEMPERATURE = 18.3705
FOCAL_PLANE_TEMPERATURE = 8.7872
INST_CMPRS_NAME = "DISCRETE COSINE TRANSFORMATION (DCT)"
INST_CMPRS_RATIO = 8.17629
INST_CMPRS_QUALITY = 0
INST_CMPRS_QUANTZ_TBL_ID = 0
INSTRUMENT_TEMPERATURE = 11.6418
LENS_TEMPERATURE = 9.3989
MACROPIXEL_SIZE = 4
MISSING_FRAMES = 0
PIXEL_SUBSAMPLING_FLAG = N
SIGNAL_CHAIN_ID = 2
/* RADIOMETRIC DATA ELEMENTS */
BANDWIDTH = 88.0
CENTER_FILTER_WAVELENGTH = 538.0
RADIANCE_OFFSET = 0.430092
RADIANCE_SCALING_FACTOR = 0.00702765
REFLECTANCE_SCALING_FACTOR = 0.000367311
MEX:REFLECTANCE_OFFSET = 0.0224794
/* IMAGE OBJECT DEFINITIONS */
OBJECT = IMAGE
  INTERCHANGE_FORMAT = BINARY
  LINES = 18440
  LINE_SAMPLES = 2741
  SAMPLE_TYPE = UNSIGNED_INTEGER
  SAMPLE_BITS = 8
  BANDS = 1
  BAND_STORAGE_TYPE = BAND_SEQUENTIAL
  MAXIMUM = 255
  MEAN = 131.676
  MINIMUM = 1
  STANDARD_DEVIATION = 31.8883
END_OBJECT = IMAGE
/* MAP OBJECT DEFINITIONS */
OBJECT = IMAGE_MAP_PROJECTION
  ^DATA_SET_MAP_PROJECTION_CATALOG= "DSMAP.CAT"
  A_AXIS_RADIUS = 3396.0
  B_AXIS_RADIUS = 3396.0
  C_AXIS_RADIUS = 3396.0
  CENTER_LATITUDE = 0.0
  CENTER_LONGITUDE = 207.0
  COORDINATE_SYSTEM_NAME = PLANETOGRAPHIC
  COORDINATE_SYSTEM_TYPE = "BODY-FIXED ROTATING"
  EASTERNMOST_LONGITUDE = 207.563
  FIRST_STANDARD_PARALLEL = "N/A"
  LINE_FIRST_PIXEL = 1
  LINE_LAST_PIXEL = 18440
  LINE_PROJECTION_OFFSET = -9132.375
  MAP_PROJECTION_ROTATION = 0.0
  MAP_PROJECTION_TYPE = SINUSOIDAL
  MAP_RESOLUTION = 1185.42760773333
  MAP_SCALE = 0.05
  MAXIMUM_LATITUDE = -7.71309
  MINIMUM_LATITUDE = -23.2536
  POSITIVE_LONGITUDE_DIRECTION = EAST
  REFERENCE_LATITUDE = "N/A"
  REFERENCE_LONGITUDE = "N/A"
  SAMPLE_FIRST_PIXEL = 1
  SAMPLE_LAST_PIXEL = 2741
  SAMPLE_PROJECTION_OFFSET = 2041.375
  SECOND_STANDARD_PARALLEL = "N/A"
  WESTERNMOST_LONGITUDE = 205.285
END_OBJECT = IMAGE_MAP_PROJECTION
/* The JPEG2000 image data file associated with this label. */
OBJECT = COMPRESSED_FILE
  FILE_NAME = "HA568_0000_GR3.JP2"
  RECORD_TYPE = UNDEFINED
  FILE_RECORDS = UNK
  ENCODING_TYPE = "JP2"
  INTERCHANGE_FORMAT = BINARY
  UNCOMPRESSED_FILE_NAME = "HA568_0000_GR3.IMG"
  REQUIRED_STORAGE_BYTES = "50565968"
  ^DESCRIPTION = "JP2INFO.TXT"
END_OBJECT = COMPRESSED_FILE
END
