PDS_VERSION_ID = PDS3
/* FILE DATA ELEMENTS */
RECORD_TYPE = STREAM
/* POINTERS TO DATA OBJECTS */
^COMPRESSED_FILE = "HA568_0000_IR3.JP2"
/* IDENTIFICATION DATA ELEMENTS */
DATA_SET_ID = "MEX-M-HRSC-5-REFDR-MAPPROJECTED-V3.0"
DATA_SET_NAME = "MARS EXPRESS HRSC MAP PROJECTED REFDR V3.0"
DETECTOR_ID = MEX_HRSC_IR
EVENT_TYPE = "MARS-REGIONAL-MAPPING-Te-Im"
INSTRUMENT_HOST_ID = MEX
INSTRUMENT_HOST_NAME = "MARS EXPRESS"
INSTRUMENT_ID = HRSC
INSTRUMENT_NAME = "HIGH RESOLUTION STEREO CAMERA"
MISSION_NAME = "MARS EXPRESS"
MISSION_PHASE_NAME = ME_Phase_25
PROCESSING_LEVEL_ID = 3
PRODUCT_CREATION_TIME = 2016-10-27T15:49:42.000Z
PRODUCT_ID = "HA568_0000_IR3.JP2"
RELEASE_ID = 0108
REVISION_ID = 0000
/* QUALITY DATA ELEMENTS */
DATA_QUALITY_ID = 1
DATA_QUALITY_DESC = "Data calculated based on original SPICE kernels"
/* TIME DATA ELEMENTS */
SPACECRAFT_CLOCK_START_COUNT = "1/0282794718.09051"
SPACECRAFT_CLOCK_STOP_COUNT = "1/0282795098.40746"
START_TIME = 2012-04-18T02:06:36.558Z
STOP_TIME = 2012-04-18T02:11:25.821Z
/* ORBITAL DATA ELEMENTS */
ASCENDING_NODE_LONGITUDE = 15.59
MAXIMUM_RESOLUTION = 76.5
FOOTPRINT_POINT_LATITUDE = (-23.2361,-23.2321,-23.2277,-23.2391, -22.9749,-22.7049,-22.4356,-22.0258, -21.6171,-21.2053,-20.928,-20.6511, -20.3713,-20.0896,-19.8083,-19.5193, -19.2364,-18.949,-18.5081,-18.2174, -17.9247,-17.6301,-17.3383,-17.0385, -16.7329,-16.4315,-16.1255,-15.8215, -15.5104,-15.0448,-14.7312,-14.2612, -13.9436,-13.6172,-13.2947,-12.8084, -12.3155,-11.816,-11.4816,-11.1417, -10.8034,-10.4586,-10.114,-9.59108, -9.23959,-8.88482,-8.52949,-8.16886, -7.80557,-7.72712,-7.72308,-7.719, -7.7124,-7.7103,-7.70831,-7.89133, -8.25469,-8.61449,-8.97178,-9.32566, -9.85551,-10.199,-10.551,-10.8871, -11.2271,-11.7353,-12.0711,-12.4105, -12.7336,-13.0623,-13.3862,-13.8705, -14.3489,-14.8228,-15.2906,-15.7607, -16.22,-16.5326,-16.8347,-17.1249, -17.4246,-17.724,-18.018,-18.313, -18.6037,-19.0399,-19.3317,-19.6154, -19.8937,-20.1753,-20.4578,-20.7408, -21.0203,-21.4397,-21.7138,-21.9881, -22.395,-22.6624,-22.9333,-23.2361)
FOOTPRINT_POINT_LONGITUDE = (207.188,206.669,206.154,205.73,205.725 ,205.719,205.714,205.707,205.697, 205.688,205.681,205.674,205.667,205.66, 205.653,205.646,205.637,205.629,205.618 ,205.609,205.6,205.591,205.58,205.571, 205.562,205.552,205.542,205.531,205.52, 205.503,205.492,205.473,205.46,205.449, 205.435,205.415,205.394,205.372,205.357 ,205.343,205.327,205.311,205.295,205.27 ,205.252,205.234,205.216,205.197, 205.179,205.59,205.892,206.356,206.845, 207.196,207.478,207.67,207.664,207.658, 207.653,207.647,207.64,207.632,207.63, 207.621,207.616,207.609,207.605,207.604 ,207.596,207.592,207.587,207.58,207.574 ,207.567,207.56,207.557,207.551,207.551 ,207.547,207.537,207.535,207.532, 207.528,207.525,207.521,207.517,207.517 ,207.512,207.505,207.501,207.498, 207.497,207.495,207.493,207.49,207.487, 207.483,207.479,207.476,207.188)
ORBIT_NUMBER = 10568
ORBITAL_ECCENTRICITY = 0.578
ORBITAL_INCLINATION = 86.89
ORBITAL_SEMIMAJOR_AXIS = 8802.13
PERIAPSIS_ALTITUDE = 331.35
PERIAPSIS_ARGUMENT_ANGLE = 313.87
PERIAPSIS_TIME = 2012-04-18T02:00:07.000Z
SPACECRAFT_ORIENTATION = (0.0,1.0,0.0)
^MEX_ORIENTATION_DESC = "MEX_ORIENTATION_DESC.TXT"
SPACECRAFT_POINTING_MODE = ACROSSTRACK
^MEX_POINTING_DESC = "MEX_POINTING_DESC.TXT"
RIGHT_ASCENSION = -1e+32
DECLINATION = -1e+32
OFFSET_ANGLE = -0.35
SPACECRAFT_SOLAR_DISTANCE = 2.46387e+08
TARGET_NAME = MARS
/* CAMERA DATA ELEMENTS */
DETECTOR_TEMPERATURE = 17.5549
FOCAL_PLANE_TEMPERATURE = 8.7872
INST_CMPRS_NAME = "DISCRETE COSINE TRANSFORMATION (DCT)"
INST_CMPRS_RATIO = 8.10634
INST_CMPRS_QUALITY = 0
INST_CMPRS_QUANTZ_TBL_ID = 0
INSTRUMENT_TEMPERATURE = 11.6418
LENS_TEMPERATURE = 9.3989
MACROPIXEL_SIZE = 4
MISSING_FRAMES = 0
PIXEL_SUBSAMPLING_FLAG = N
SIGNAL_CHAIN_ID = 2
/* RADIOMETRIC DATA ELEMENTS */
BANDWIDTH = 81.0
CENTER_FILTER_WAVELENGTH = 955.5
RADIANCE_OFFSET = 0.281028
RADIANCE_SCALING_FACTOR = 0.00747491
REFLECTANCE_SCALING_FACTOR = 0.000978964
MEX:REFLECTANCE_OFFSET = 0.0368053
/* IMAGE OBJECT DEFINITIONS */
OBJECT = IMAGE
  INTERCHANGE_FORMAT = BINARY
  LINES = 18440
  LINE_SAMPLES = 2741
  SAMPLE_TYPE = UNSIGNED_INTEGER
  SAMPLE_BITS = 8
  BANDS = 1
  BAND_STORAGE_TYPE = BAND_SEQUENTIAL
  MAXIMUM = 255
  MEAN = 126.649
  MINIMUM = 1
  STANDARD_DEVIATION = 32.1098
END_OBJECT = IMAGE
/* MAP OBJECT DEFINITIONS */
OBJECT = IMAGE_MAP_PROJECTION
  ^DATA_SET_MAP_PROJECTION_CATALOG= "DSMAP.CAT"
  A_AXIS_RADIUS = 3396.0
  B_AXIS_RADIUS = 3396.0
  C_AXIS_RADIUS = 3396.0
  CENTER_LATITUDE = 0.0
  CENTER_LONGITUDE = 207.0
  COORDINATE_SYSTEM_NAME = PLANETOGRAPHIC
  COORDINATE_SYSTEM_TYPE = "BODY-FIXED ROTATING"
  EASTERNMOST_LONGITUDE = 207.67
  FIRST_STANDARD_PARALLEL = "N/A"
  LINE_FIRST_PIXEL = 1
  LINE_LAST_PIXEL = 18440
  LINE_PROJECTION_OFFSET = -9132.375
  MAP_PROJECTION_ROTATION = 0.0
  MAP_PROJECTION_TYPE = SINUSOIDAL
  MAP_RESOLUTION = 1185.42760773333
  MAP_SCALE = 0.05
  MAXIMUM_LATITUDE = -7.70831
  MINIMUM_LATITUDE = -23.2391
  POSITIVE_LONGITUDE_DIRECTION = EAST
  REFERENCE_LATITUDE = "N/A"
  REFERENCE_LONGITUDE = "N/A"
  SAMPLE_FIRST_PIXEL = 1
  SAMPLE_LAST_PIXEL = 2741
  SAMPLE_PROJECTION_OFFSET = 2041.375
  SECOND_STANDARD_PARALLEL = "N/A"
  WESTERNMOST_LONGITUDE = 205.179
END_OBJECT = IMAGE_MAP_PROJECTION
/* The JPEG2000 image data file associated with this label. */
OBJECT = COMPRESSED_FILE
  FILE_NAME = "HA568_0000_IR3.JP2"
  RECORD_TYPE = UNDEFINED
  FILE_RECORDS = UNK
  ENCODING_TYPE = "JP2"
  INTERCHANGE_FORMAT = BINARY
  UNCOMPRESSED_FILE_NAME = "HA568_0000_IR3.IMG"
  REQUIRED_STORAGE_BYTES = "50565968"
  ^DESCRIPTION = "JP2INFO.TXT"
END_OBJECT = COMPRESSED_FILE
END
