PDS_VERSION_ID = PDS3
/* FILE DATA ELEMENTS */
RECORD_TYPE = STREAM
/* POINTERS TO DATA OBJECTS */
^COMPRESSED_FILE = "HA571_0000_S23.JP2"
/* IDENTIFICATION DATA ELEMENTS */
DATA_SET_ID = "MEX-M-HRSC-5-REFDR-MAPPROJECTED-V3.0"
DATA_SET_NAME = "MARS EXPRESS HRSC MAP PROJECTED REFDR V3.0"
DETECTOR_ID = MEX_HRSC_S2
EVENT_TYPE = "MARS-REGIONAL-MAPPING-Vo-Te"
INSTRUMENT_HOST_ID = MEX
INSTRUMENT_HOST_NAME = "MARS EXPRESS"
INSTRUMENT_ID = HRSC
INSTRUMENT_NAME = "HIGH RESOLUTION STEREO CAMERA"
MISSION_NAME = "MARS EXPRESS"
MISSION_PHASE_NAME = ME_Phase_25
PROCESSING_LEVEL_ID = 3
PRODUCT_CREATION_TIME = 2016-10-27T15:49:42.000Z
PRODUCT_ID = "HA571_0000_S23.JP2"
RELEASE_ID = 0108
REVISION_ID = 0000
/* QUALITY DATA ELEMENTS */
DATA_QUALITY_ID = 1
DATA_QUALITY_DESC = "Data calculated based on original SPICE kernels"
/* TIME DATA ELEMENTS */
SPACECRAFT_CLOCK_START_COUNT = "1/0282870170.09028"
SPACECRAFT_CLOCK_STOP_COUNT = "1/0282870442.56744"
START_TIME = 2012-04-18T23:02:53.775Z
STOP_TIME = 2012-04-18T23:05:40.314Z
/* ORBITAL DATA ELEMENTS */
ASCENDING_NODE_LONGITUDE = 15.53
MAXIMUM_RESOLUTION = 32.2
FOOTPRINT_POINT_LATITUDE = (-27.1634,-27.1544,-27.1445,-27.1338, -27.1224,-26.938,-26.7348,-26.5247, -26.3207,-26.1176,-25.8137,-25.408, -25.2051,-24.6983,-24.2936,-24.0873, -23.8796,-23.5681,-23.3606,-23.0493, -22.7311,-22.5183,-22.3057,-22.0932, -21.8806,-21.6642,-21.447,-21.2292, -21.0114,-20.7941,-20.573,-20.3505, -20.1285,-19.9067,-19.571,-19.2305, -19.0035,-18.7768,-18.546,-18.315, -18.0841,-17.8525,-17.6181,-17.3818, -17.1453,-16.9093,-16.5485,-16.3075, -16.2691,-16.2789,-16.2854,-16.2933, -16.2976,-16.6623,-16.9035,-17.1398, -17.3762,-17.613,-17.8489,-18.0809, -18.3126,-18.5449,-18.7766,-19.1171, -19.3441,-19.5712,-19.7971,-20.1307, -20.3529,-20.5751,-20.7978,-21.0152, -21.233,-21.4511,-21.6692,-21.8875, -22.1002,-22.3134,-22.5264,-22.7396, -22.9525,-23.1631,-23.3709,-23.579, -23.8907,-24.0988,-24.3061,-24.7118, -24.9148,-25.2191,-25.4222,-25.625, -25.8286,-26.0322,-26.2355,-26.4389, -26.6444,-26.957,-27.1665,-27.1634)
FOOTPRINT_POINT_LONGITUDE = (259.148,258.913,258.676,258.438, 258.198,258.089,258.089,258.086,258.086 ,258.086,258.087,258.087,258.087, 258.086,258.085,258.084,258.083,258.082 ,258.081,258.079,258.076,258.075, 258.073,258.071,258.069,258.067,258.065 ,258.063,258.06,258.058,258.055,258.052 ,258.05,258.047,258.042,258.038,258.034 ,258.031,258.027,258.023,258.02,258.016 ,258.011,258.007,258.003,257.998, 257.991,257.986,258.363,258.704,258.959 ,259.347,259.615,259.735,259.733,259.73 ,259.728,259.726,259.723,259.721, 259.718,259.716,259.713,259.71,259.707, 259.705,259.702,259.698,259.696,259.693 ,259.691,259.688,259.685,259.683,259.68 ,259.677,259.674,259.671,259.669, 259.666,259.663,259.66,259.657,259.654, 259.65,259.647,259.644,259.638,259.635, 259.63,259.627,259.624,259.621,259.617, 259.614,259.611,259.607,259.602,259.598 ,259.148)
ORBIT_NUMBER = 10571
ORBITAL_ECCENTRICITY = 0.578
ORBITAL_INCLINATION = 86.87
ORBITAL_SEMIMAJOR_AXIS = 8805.72
PERIAPSIS_ALTITUDE = 331.08
PERIAPSIS_ARGUMENT_ANGLE = 313.35
PERIAPSIS_TIME = 2012-04-18T22:58:30.000Z
SPACECRAFT_ORIENTATION = (0.0,1.0,0.0)
^MEX_ORIENTATION_DESC = "MEX_ORIENTATION_DESC.TXT"
SPACECRAFT_POINTING_MODE = ACROSSTRACK
^MEX_POINTING_DESC = "MEX_POINTING_DESC.TXT"
RIGHT_ASCENSION = -1e+32
DECLINATION = -1e+32
OFFSET_ANGLE = 0.55
SPACECRAFT_SOLAR_DISTANCE = 2.46308e+08
TARGET_NAME = MARS
/* CAMERA DATA ELEMENTS */
DETECTOR_TEMPERATURE = 19.1861
FOCAL_PLANE_TEMPERATURE = 8.9911
INST_CMPRS_NAME = "DISCRETE COSINE TRANSFORMATION (DCT)"
INST_CMPRS_RATIO = 5.26192
INST_CMPRS_QUALITY = 0
INST_CMPRS_QUANTZ_TBL_ID = 0
INSTRUMENT_TEMPERATURE = 11.6418
LENS_TEMPERATURE = 9.6028
MACROPIXEL_SIZE = 2
MISSING_FRAMES = 0
PIXEL_SUBSAMPLING_FLAG = N
SIGNAL_CHAIN_ID = 1
/* RADIOMETRIC DATA ELEMENTS */
BANDWIDTH = 178.0
CENTER_FILTER_WAVELENGTH = 679.0
RADIANCE_OFFSET = 0.30789
RADIANCE_SCALING_FACTOR = 0.0262948
REFLECTANCE_SCALING_FACTOR = 0.000844799
MEX:REFLECTANCE_OFFSET = 0.0098919
/* IMAGE OBJECT DEFINITIONS */
OBJECT = IMAGE
  INTERCHANGE_FORMAT = BINARY
  LINES = 25854
  LINE_SAMPLES = 4488
  SAMPLE_TYPE = UNSIGNED_INTEGER
  SAMPLE_BITS = 8
  BANDS = 1
  BAND_STORAGE_TYPE = BAND_SEQUENTIAL
  MAXIMUM = 255
  MEAN = 111.603
  MINIMUM = 1
  STANDARD_DEVIATION = 26.7095
END_OBJECT = IMAGE
/* MAP OBJECT DEFINITIONS */
OBJECT = IMAGE_MAP_PROJECTION
  ^DATA_SET_MAP_PROJECTION_CATALOG= "DSMAP.CAT"
  A_AXIS_RADIUS = 3396.0
  B_AXIS_RADIUS = 3396.0
  C_AXIS_RADIUS = 3396.0
  CENTER_LATITUDE = 0.0
  CENTER_LONGITUDE = 259.0
  COORDINATE_SYSTEM_NAME = PLANETOGRAPHIC
  COORDINATE_SYSTEM_TYPE = "BODY-FIXED ROTATING"
  EASTERNMOST_LONGITUDE = 259.735
  FIRST_STANDARD_PARALLEL = "N/A"
  LINE_FIRST_PIXEL = 1
  LINE_LAST_PIXEL = 25854
  LINE_PROJECTION_OFFSET = -38451.75
  MAP_PROJECTION_ROTATION = 0.0
  MAP_PROJECTION_TYPE = SINUSOIDAL
  MAP_RESOLUTION = 2370.85521546667
  MAP_SCALE = 0.025
  MAXIMUM_LATITUDE = -16.2691
  MINIMUM_LATITUDE = -27.1665
  POSITIVE_LONGITUDE_DIRECTION = EAST
  REFERENCE_LATITUDE = "N/A"
  REFERENCE_LONGITUDE = "N/A"
  SAMPLE_FIRST_PIXEL = 1
  SAMPLE_LAST_PIXEL = 4488
  SAMPLE_PROJECTION_OFFSET = 2634.75
  SECOND_STANDARD_PARALLEL = "N/A"
  WESTERNMOST_LONGITUDE = 257.986
END_OBJECT = IMAGE_MAP_PROJECTION
/* The JPEG2000 image data file associated with this label. */
OBJECT = COMPRESSED_FILE
  FILE_NAME = "HA571_0000_S23.JP2"
  RECORD_TYPE = UNDEFINED
  FILE_RECORDS = UNK
  ENCODING_TYPE = "JP2"
  INTERCHANGE_FORMAT = BINARY
  UNCOMPRESSED_FILE_NAME = "HA571_0000_S23.IMG"
  REQUIRED_STORAGE_BYTES = "116059680"
  ^DESCRIPTION = "JP2INFO.TXT"
END_OBJECT = COMPRESSED_FILE
END
