PDS_VERSION_ID = PDS3
/* FILE DATA ELEMENTS */
RECORD_TYPE = STREAM
/* POINTERS TO DATA OBJECTS */
^COMPRESSED_FILE = "HA574_0000_IR3.JP2"
/* IDENTIFICATION DATA ELEMENTS */
DATA_SET_ID = "MEX-M-HRSC-5-REFDR-MAPPROJECTED-V3.0"
DATA_SET_NAME = "MARS EXPRESS HRSC MAP PROJECTED REFDR V3.0"
DETECTOR_ID = MEX_HRSC_IR
EVENT_TYPE = "MARS-REGIONAL-MAPPING-Te-Im-Fl"
INSTRUMENT_HOST_ID = MEX
INSTRUMENT_HOST_NAME = "MARS EXPRESS"
INSTRUMENT_ID = HRSC
INSTRUMENT_NAME = "HIGH RESOLUTION STEREO CAMERA"
MISSION_NAME = "MARS EXPRESS"
MISSION_PHASE_NAME = ME_Phase_25
PROCESSING_LEVEL_ID = 3
PRODUCT_CREATION_TIME = 2016-10-27T15:49:42.000Z
PRODUCT_ID = "HA574_0000_IR3.JP2"
RELEASE_ID = 0108
REVISION_ID = 0000
/* QUALITY DATA ELEMENTS */
DATA_QUALITY_ID = 1
DATA_QUALITY_DESC = "Data calculated based on original SPICE kernels"
/* TIME DATA ELEMENTS */
SPACECRAFT_CLOCK_START_COUNT = "1/0282945461.07317"
SPACECRAFT_CLOCK_STOP_COUNT = "1/0282945648.13963"
START_TIME = 2012-04-19T19:58:39.752Z
STOP_TIME = 2012-04-19T20:00:44.066Z
/* ORBITAL DATA ELEMENTS */
ASCENDING_NODE_LONGITUDE = 15.48
MAXIMUM_RESOLUTION = 56.8
FOOTPRINT_POINT_LATITUDE = (-41.2931,-41.2875,-41.2816,-41.2755, -41.2691,-41.2615,-40.9911,-40.8381, -40.6866,-40.533,-40.3789,-40.2245, -39.9931,-39.8322,-39.6015,-39.4468, -39.2905,-39.0551,-38.8243,-38.676, -38.5223,-38.293,-38.1409,-37.9118, -37.7591,-37.608,-37.3815,-37.2295, -37.0777,-36.925,-36.7734,-36.6227, -36.4713,-36.3206,-36.1693,-36.018, -35.8659,-35.6359,-35.4828,-35.1872, -35.0369,-34.8088,-34.6561,-34.5051, -34.2413,-34.064,-33.8857,-33.7081, -33.442,-33.4483,-33.4548,-33.4588, -33.4625,-33.4667,-33.559,-33.737, -33.9157,-34.0938,-34.2789,-34.5458, -34.6959,-34.8461,-35.1388,-35.2896, -35.4417,-35.5929,-35.7433,-35.8943, -36.0461,-36.195,-36.352,-36.5042, -36.6527,-36.8077,-36.9645,-37.1975, -37.3494,-37.4976,-37.7202,-37.8708, -38.0293,-38.1873,-38.3404,-38.4938, -38.6465,-38.802,-39.0351,-39.1866, -39.3409,-39.7176,-39.9512,-40.1823, -40.3371,-40.4883,-40.6389,-40.7994, -40.9527,-41.1122,-41.2669,-41.2931)
FOOTPRINT_POINT_LONGITUDE = (313.36,313.128,312.896,312.665,312.436 ,312.178,312.115,312.12,312.124,312.128 ,312.133,312.138,312.145,312.151, 312.157,312.162,312.167,312.174,312.18, 312.182,312.186,312.191,312.194,312.199 ,312.202,312.205,312.209,312.212, 312.214,312.217,312.22,312.222,312.224, 312.227,312.229,312.231,312.234,312.238 ,312.24,312.242,312.244,312.247,312.249 ,312.251,312.253,312.254,312.256, 312.257,312.259,312.579,312.946,313.181 ,313.418,313.685,313.837,313.834, 313.831,313.828,313.829,313.826,313.823 ,313.821,313.81,313.808,313.806,313.803 ,313.8,313.798,313.795,313.791,313.792, 313.789,313.784,313.784,313.784,313.783 ,313.78,313.774,313.766,313.761,313.762 ,313.763,313.76,313.757,313.754,313.752 ,313.749,313.745,313.742,313.729, 313.726,313.721,313.717,313.712,313.706 ,313.706,313.702,313.702,313.698, 313.36)
ORBIT_NUMBER = 10574
ORBITAL_ECCENTRICITY = 0.578
ORBITAL_INCLINATION = 86.88
ORBITAL_SEMIMAJOR_AXIS = 8800.45
PERIAPSIS_ALTITUDE = 331.62
PERIAPSIS_ARGUMENT_ANGLE = 312.87
PERIAPSIS_TIME = 2012-04-19T19:56:47.000Z
SPACECRAFT_ORIENTATION = (0.0,1.0,0.0)
^MEX_ORIENTATION_DESC = "MEX_ORIENTATION_DESC.TXT"
SPACECRAFT_POINTING_MODE = ACROSSTRACK
^MEX_POINTING_DESC = "MEX_POINTING_DESC.TXT"
RIGHT_ASCENSION = -1e+32
DECLINATION = -1e+32
OFFSET_ANGLE = -0.269
SPACECRAFT_SOLAR_DISTANCE = 2.46228e+08
TARGET_NAME = MARS
/* CAMERA DATA ELEMENTS */
DETECTOR_TEMPERATURE = 17.7588
FOCAL_PLANE_TEMPERATURE = 8.7872
INST_CMPRS_NAME = "DISCRETE COSINE TRANSFORMATION (DCT)"
INST_CMPRS_RATIO = 5.50339
INST_CMPRS_QUALITY = 0
INST_CMPRS_QUANTZ_TBL_ID = 0
INSTRUMENT_TEMPERATURE = 12.0496
LENS_TEMPERATURE = 9.195
MACROPIXEL_SIZE = 4
MISSING_FRAMES = 0
PIXEL_SUBSAMPLING_FLAG = N
SIGNAL_CHAIN_ID = 2
/* RADIOMETRIC DATA ELEMENTS */
BANDWIDTH = 81.0
CENTER_FILTER_WAVELENGTH = 955.5
RADIANCE_OFFSET = 0.0
RADIANCE_SCALING_FACTOR = 0.00231289
REFLECTANCE_SCALING_FACTOR = 0.000302522
MEX:REFLECTANCE_OFFSET = 0.0
/* IMAGE OBJECT DEFINITIONS */
OBJECT = IMAGE
  INTERCHANGE_FORMAT = BINARY
  LINES = 9332
  LINE_SAMPLES = 1657
  SAMPLE_TYPE = UNSIGNED_INTEGER
  SAMPLE_BITS = 8
  BANDS = 1
  BAND_STORAGE_TYPE = BAND_SEQUENTIAL
  MAXIMUM = 255
  MEAN = 88.2206
  MINIMUM = 1
  STANDARD_DEVIATION = 31.5058
END_OBJECT = IMAGE
/* MAP OBJECT DEFINITIONS */
OBJECT = IMAGE_MAP_PROJECTION
  ^DATA_SET_MAP_PROJECTION_CATALOG= "DSMAP.CAT"
  A_AXIS_RADIUS = 3396.0
  B_AXIS_RADIUS = 3396.0
  C_AXIS_RADIUS = 3396.0
  CENTER_LATITUDE = 0.0
  CENTER_LONGITUDE = 313.0
  COORDINATE_SYSTEM_NAME = PLANETOGRAPHIC
  COORDINATE_SYSTEM_TYPE = "BODY-FIXED ROTATING"
  EASTERNMOST_LONGITUDE = 313.837
  FIRST_STANDARD_PARALLEL = "N/A"
  LINE_FIRST_PIXEL = 1
  LINE_LAST_PIXEL = 9332
  LINE_PROJECTION_OFFSET = -39668.125
  MAP_PROJECTION_ROTATION = 0.0
  MAP_PROJECTION_TYPE = SINUSOIDAL
  MAP_RESOLUTION = 1185.42760773333
  MAP_SCALE = 0.05
  MAXIMUM_LATITUDE = -33.442
  MINIMUM_LATITUDE = -41.2931
  POSITIVE_LONGITUDE_DIRECTION = EAST
  REFERENCE_LATITUDE = "N/A"
  REFERENCE_LONGITUDE = "N/A"
  SAMPLE_FIRST_PIXEL = 1
  SAMPLE_LAST_PIXEL = 1657
  SAMPLE_PROJECTION_OFFSET = 804.875
  SECOND_STANDARD_PARALLEL = "N/A"
  WESTERNMOST_LONGITUDE = 312.115
END_OBJECT = IMAGE_MAP_PROJECTION
/* The JPEG2000 image data file associated with this label. */
OBJECT = COMPRESSED_FILE
  FILE_NAME = "HA574_0000_IR3.JP2"
  RECORD_TYPE = UNDEFINED
  FILE_RECORDS = UNK
  ENCODING_TYPE = "JP2"
  INTERCHANGE_FORMAT = BINARY
  UNCOMPRESSED_FILE_NAME = "HA574_0000_IR3.IMG"
  REQUIRED_STORAGE_BYTES = "15483008"
  ^DESCRIPTION = "JP2INFO.TXT"
END_OBJECT = COMPRESSED_FILE
END
