PDS_VERSION_ID = PDS3
/* FILE DATA ELEMENTS */
RECORD_TYPE = STREAM
/* POINTERS TO DATA OBJECTS */
^COMPRESSED_FILE = "HA575_0000_IR3.JP2"
/* IDENTIFICATION DATA ELEMENTS */
DATA_SET_ID = "MEX-M-HRSC-5-REFDR-MAPPROJECTED-V3.0"
DATA_SET_NAME = "MARS EXPRESS HRSC MAP PROJECTED REFDR V3.0"
DETECTOR_ID = MEX_HRSC_IR
EVENT_TYPE = "MARS-REGIONAL-MAPPING-Te-Im-Lc"
INSTRUMENT_HOST_ID = MEX
INSTRUMENT_HOST_NAME = "MARS EXPRESS"
INSTRUMENT_ID = HRSC
INSTRUMENT_NAME = "HIGH RESOLUTION STEREO CAMERA"
MISSION_NAME = "MARS EXPRESS"
MISSION_PHASE_NAME = ME_Phase_25
PROCESSING_LEVEL_ID = 3
PRODUCT_CREATION_TIME = 2016-10-27T15:49:42.000Z
PRODUCT_ID = "HA575_0000_IR3.JP2"
RELEASE_ID = 0108
REVISION_ID = 0000
/* QUALITY DATA ELEMENTS */
DATA_QUALITY_ID = 1
DATA_QUALITY_DESC = "Data calculated based on original SPICE kernels"
/* TIME DATA ELEMENTS */
SPACECRAFT_CLOCK_START_COUNT = "1/0282970670.09055"
SPACECRAFT_CLOCK_STOP_COUNT = "1/0282971073.07778"
START_TIME = 2012-04-20T02:58:50.493Z
STOP_TIME = 2012-04-20T03:04:25.093Z
/* ORBITAL DATA ELEMENTS */
ASCENDING_NODE_LONGITUDE = 15.46
MAXIMUM_RESOLUTION = 58.5
FOOTPRINT_POINT_LATITUDE = (-38.2889,-38.2904,-38.2908,-38.3206, -37.9828,-37.476,-37.1393,-36.8027, -36.4667,-36.1312,-35.7963,-35.4618, -34.9609,-34.395,-33.9984,-33.4034, -33.0181,-32.6254,-32.2332,-31.8383, -31.4487,-31.0599,-30.6711,-30.2824, -29.8957,-29.5125,-28.9303,-28.5375, -28.1462,-27.7459,-27.1472,-26.5386, -26.1329,-25.5136,-25.1006,-24.6793, -24.2596,-23.832,-23.4052,-22.9708, -22.5363,-21.872,-21.4283,-20.7529, -20.0685,-19.3742,-18.9072,-18.67, -18.4334,-18.4204,-18.4118,-18.3998, -18.3917,-18.3844,-18.6124,-18.8504, -19.0867,-19.5567,-20.0179,-20.7058, -21.3831,-21.8311,-22.2723,-22.7122, -23.1476,-23.5801,-24.006,-24.6415, -25.0632,-25.6836,-26.0968,-26.5051, -27.1157,-27.5169,-28.1179,-28.5105, -28.904,-29.2949,-29.6802,-30.0684, -30.4545,-30.8429,-31.2322,-31.6226, -32.2098,-32.601,-32.9947,-33.5848, -34.1809,-34.579,-34.9479,-35.2824, -35.6171,-35.9524,-36.2883,-36.6246, -36.9613,-37.468,-37.8063,-38.2889)
FOOTPRINT_POINT_LONGITUDE = (210.356,209.9,209.438,208.952,208.964, 208.982,208.993,209.003,209.014,209.023 ,209.033,209.042,209.055,209.068, 209.077,209.091,209.091,209.097,209.103 ,209.112,209.116,209.12,209.125,209.129 ,209.132,209.133,209.135,209.136, 209.137,209.138,209.137,209.135,209.133 ,209.13,209.126,209.123,209.119,209.114 ,209.109,209.104,209.098,209.089,209.08 ,209.067,209.053,209.038,209.026, 209.021,209.015,209.294,209.647,210.127 ,210.568,210.842,210.989,210.985, 210.981,210.973,210.964,210.952,210.94, 210.932,210.924,210.916,210.908,210.9, 210.891,210.879,210.87,210.858,210.849, 210.841,210.828,210.82,210.807,210.798, 210.789,210.78,210.771,210.763,210.753, 210.744,210.734,210.725,210.71,210.699, 210.689,210.673,210.656,210.645,210.635 ,210.625,210.615,210.605,210.594, 210.584,210.573,210.556,210.545, 210.356)
ORBIT_NUMBER = 10575
ORBITAL_ECCENTRICITY = 0.578
ORBITAL_INCLINATION = 86.89
ORBITAL_SEMIMAJOR_AXIS = 8800.22
PERIAPSIS_ALTITUDE = 331.09
PERIAPSIS_ARGUMENT_ANGLE = 312.68
PERIAPSIS_TIME = 2012-04-20T02:56:08.000Z
SPACECRAFT_ORIENTATION = (0.0,1.0,0.0)
^MEX_ORIENTATION_DESC = "MEX_ORIENTATION_DESC.TXT"
SPACECRAFT_POINTING_MODE = ACROSSTRACK
^MEX_POINTING_DESC = "MEX_POINTING_DESC.TXT"
RIGHT_ASCENSION = -1e+32
DECLINATION = -1e+32
OFFSET_ANGLE = 0.5
SPACECRAFT_SOLAR_DISTANCE = 2.46201e+08
TARGET_NAME = MARS
/* CAMERA DATA ELEMENTS */
DETECTOR_TEMPERATURE = 17.5549
FOCAL_PLANE_TEMPERATURE = 8.7872
INST_CMPRS_NAME = "DISCRETE COSINE TRANSFORMATION (DCT)"
INST_CMPRS_RATIO = 9.50317
INST_CMPRS_QUALITY = 0
INST_CMPRS_QUANTZ_TBL_ID = 0
INSTRUMENT_TEMPERATURE = 11.4379
LENS_TEMPERATURE = 8.5833
MACROPIXEL_SIZE = 4
MISSING_FRAMES = 0
PIXEL_SUBSAMPLING_FLAG = N
SIGNAL_CHAIN_ID = 2
/* RADIOMETRIC DATA ELEMENTS */
BANDWIDTH = 81.0
CENTER_FILTER_WAVELENGTH = 955.5
RADIANCE_OFFSET = 0.0
RADIANCE_SCALING_FACTOR = 0.00753952
REFLECTANCE_SCALING_FACTOR = 0.000985937
MEX:REFLECTANCE_OFFSET = 0.0
/* IMAGE OBJECT DEFINITIONS */
OBJECT = IMAGE
  INTERCHANGE_FORMAT = BINARY
  LINES = 23627
  LINE_SAMPLES = 2169
  SAMPLE_TYPE = UNSIGNED_INTEGER
  SAMPLE_BITS = 8
  BANDS = 1
  BAND_STORAGE_TYPE = BAND_SEQUENTIAL
  MAXIMUM = 255
  MEAN = 78.5081
  MINIMUM = 1
  STANDARD_DEVIATION = 42.7371
END_OBJECT = IMAGE
/* MAP OBJECT DEFINITIONS */
OBJECT = IMAGE_MAP_PROJECTION
  ^DATA_SET_MAP_PROJECTION_CATALOG= "DSMAP.CAT"
  A_AXIS_RADIUS = 3396.0
  B_AXIS_RADIUS = 3396.0
  C_AXIS_RADIUS = 3396.0
  CENTER_LATITUDE = 0.0
  CENTER_LONGITUDE = 210.0
  COORDINATE_SYSTEM_NAME = PLANETOGRAPHIC
  COORDINATE_SYSTEM_TYPE = "BODY-FIXED ROTATING"
  EASTERNMOST_LONGITUDE = 210.989
  FIRST_STANDARD_PARALLEL = "N/A"
  LINE_FIRST_PIXEL = 1
  LINE_LAST_PIXEL = 23627
  LINE_PROJECTION_OFFSET = -21831.625
  MAP_PROJECTION_ROTATION = 0.0
  MAP_PROJECTION_TYPE = SINUSOIDAL
  MAP_RESOLUTION = 1185.42760773333
  MAP_SCALE = 0.05
  MAXIMUM_LATITUDE = -18.3844
  MINIMUM_LATITUDE = -38.3206
  POSITIVE_LONGITUDE_DIRECTION = EAST
  REFERENCE_LATITUDE = "N/A"
  REFERENCE_LONGITUDE = "N/A"
  SAMPLE_FIRST_PIXEL = 1
  SAMPLE_LAST_PIXEL = 2169
  SAMPLE_PROJECTION_OFFSET = 1109.125
  SECOND_STANDARD_PARALLEL = "N/A"
  WESTERNMOST_LONGITUDE = 208.952
END_OBJECT = IMAGE_MAP_PROJECTION
/* The JPEG2000 image data file associated with this label. */
OBJECT = COMPRESSED_FILE
  FILE_NAME = "HA575_0000_IR3.JP2"
  RECORD_TYPE = UNDEFINED
  FILE_RECORDS = UNK
  ENCODING_TYPE = "JP2"
  INTERCHANGE_FORMAT = BINARY
  UNCOMPRESSED_FILE_NAME = "HA575_0000_IR3.IMG"
  REQUIRED_STORAGE_BYTES = "51268653"
  ^DESCRIPTION = "JP2INFO.TXT"
END_OBJECT = COMPRESSED_FILE
END
